BEGIN:VCALENDAR
VERSION:2.0
PRODID:-//EZFacility.com, Inc.//EZL 2.5.5.28621
BEGIN:VEVENT
UID:16318923@ezleagues.ezfacility.com
DTSTAMP:20260426T034947Z
CREATED:20260426T034947Z
DTSTART:20250327T080000Z
DTEND:20250327T084000Z
LOCATION:007 Celtic Park
CONTACT:Oliver 
SUMMARY:Luis' Team VS. CONS\, POMS AND A BRAZILIAN FC
DESCRIPTION:League Name: AUTUMN LEAGUES 2025 Thursday Men's 5s Bundesliga\n
 Game Type: Regular\nGame Status: Complete\nHome Team: Luis' Team\nAway Tea
 m: CONS, POMS AND A BRAZILIAN FC\nHome Score: 14\nAway Score: 6
END:VEVENT
BEGIN:VEVENT
UID:16318926@ezleagues.ezfacility.com
DTSTAMP:20260426T034947Z
CREATED:20260426T034947Z
DTSTART:20250403T080000Z
DTEND:20250403T084000Z
LOCATION:009 Anfield
CONTACT:Corey 
SUMMARY:Bald and the Beautiful VS. Luis' Team
DESCRIPTION:League Name: AUTUMN LEAGUES 2025 Thursday Men's 5s Bundesliga\n
 Game Type: Regular\nGame Status: Complete\nHome Team: Bald and the Beautif
 ul\nAway Team: Luis' Team\nHome Score: 2\nAway Score: 11
END:VEVENT
BEGIN:VEVENT
UID:16318931@ezleagues.ezfacility.com
DTSTAMP:20260426T034947Z
CREATED:20260426T034947Z
DTSTART:20250410T094500Z
DTEND:20250410T102500Z
LOCATION:010 Deepdale
CONTACT:
SUMMARY:Wreckedhams VS. Luis' Team
DESCRIPTION:League Name: AUTUMN LEAGUES 2025 Thursday Men's 5s Bundesliga\n
 Game Type: Regular\nGame Status: Complete\nHome Team: Wreckedhams\nAway Te
 am: Luis' Team\nHome Score: 6\nAway Score: 15
END:VEVENT
BEGIN:VEVENT
UID:16318936@ezleagues.ezfacility.com
DTSTAMP:20260426T034947Z
CREATED:20260426T034947Z
DTSTART:20250417T090000Z
DTEND:20250417T094000Z
LOCATION:003 San Siro
CONTACT:
SUMMARY:Jas and the Band VS. Luis' Team
DESCRIPTION:League Name: AUTUMN LEAGUES 2025 Thursday Men's 5s Bundesliga\n
 Game Type: Regular\nGame Status: Complete\nHome Team: Jas and the Band\nAw
 ay Team: Luis' Team\nHome Score: 3\nAway Score: 8
END:VEVENT
BEGIN:VEVENT
UID:16318941@ezleagues.ezfacility.com
DTSTAMP:20260426T034947Z
CREATED:20260426T034947Z
DTSTART:20250424T103000Z
DTEND:20250424T111000Z
LOCATION:008 Ibrox
CONTACT:
SUMMARY:FACEBOOK FC  VS. Luis' Team
DESCRIPTION:League Name: AUTUMN LEAGUES 2025 Thursday Men's 5s Bundesliga\n
 Game Type: Regular\nGame Status: Complete\nHome Team: FACEBOOK FC \nAway T
 eam: Luis' Team\nHome Score: 0\nAway Score: 10
END:VEVENT
BEGIN:VEVENT
UID:16318945@ezleagues.ezfacility.com
DTSTAMP:20260426T034947Z
CREATED:20260426T034947Z
DTSTART:20250501T094500Z
DTEND:20250501T102500Z
LOCATION:003 San Siro
CONTACT:Greg
SUMMARY:Luis' Team VS. Titans
DESCRIPTION:League Name: AUTUMN LEAGUES 2025 Thursday Men's 5s Bundesliga\n
 Game Type: Regular\nGame Status: Complete\nHome Team: Luis' Team\nAway Tea
 m: Titans\nHome Score: 14\nAway Score: 7
END:VEVENT
BEGIN:VEVENT
UID:16318948@ezleagues.ezfacility.com
DTSTAMP:20260426T034947Z
CREATED:20260426T034947Z
DTSTART:20250508T103000Z
DTEND:20250508T111000Z
LOCATION:008 Ibrox
CONTACT:
SUMMARY:Make it Rain VS. Luis' Team
DESCRIPTION:League Name: AUTUMN LEAGUES 2025 Thursday Men's 5s Bundesliga\n
 Game Type: Regular\nGame Status: Complete\nHome Team: Make it Rain\nAway T
 eam: Luis' Team\nHome Score: 10\nAway Score: 12
END:VEVENT
BEGIN:VEVENT
UID:16318951@ezleagues.ezfacility.com
DTSTAMP:20260426T034947Z
CREATED:20260426T034947Z
DTSTART:20250515T081500Z
DTEND:20250515T085500Z
LOCATION:009 Anfield
CONTACT:Greg
SUMMARY:CONS\, POMS AND A BRAZILIAN FC VS. Luis' Team
DESCRIPTION:League Name: AUTUMN LEAGUES 2025 Thursday Men's 5s Bundesliga\n
 Game Type: Regular\nGame Status: Complete\nHome Team: CONS, POMS AND A BRA
 ZILIAN FC\nAway Team: Luis' Team\nHome Score: 4\nAway Score: 4
END:VEVENT
BEGIN:VEVENT
UID:16318959@ezleagues.ezfacility.com
DTSTAMP:20260426T034947Z
CREATED:20260426T034947Z
DTSTART:20250529T094500Z
DTEND:20250529T102500Z
LOCATION:006 Estadio do Dragao
CONTACT:
SUMMARY:Luis' Team VS. Wreckedhams
DESCRIPTION:League Name: AUTUMN LEAGUES 2025 Thursday Men's 5s Bundesliga\n
 Game Type: Regular\nGame Status: Complete\nHome Team: Luis' Team\nAway Tea
 m: Wreckedhams\nHome Score: 8\nAway Score: 0
END:VEVENT
BEGIN:VEVENT
UID:16318964@ezleagues.ezfacility.com
DTSTAMP:20260426T034947Z
CREATED:20260426T034947Z
DTSTART:20250605T094500Z
DTEND:20250605T102500Z
LOCATION:003 San Siro
CONTACT:
SUMMARY:Luis' Team VS. Jas and the Band
DESCRIPTION:League Name: AUTUMN LEAGUES 2025 Thursday Men's 5s Bundesliga\n
 Game Type: Regular\nGame Status: Complete\nHome Team: Luis' Team\nAway Tea
 m: Jas and the Band\nHome Score: 6\nAway Score: 4
END:VEVENT
BEGIN:VEVENT
UID:16318969@ezleagues.ezfacility.com
DTSTAMP:20260426T034947Z
CREATED:20260426T034947Z
DTSTART:20250612T094500Z
DTEND:20250612T102500Z
LOCATION:004 La Bombonera
CONTACT:Greg
SUMMARY:Luis' Team VS. Iron Nuts
DESCRIPTION:League Name: AUTUMN LEAGUES 2025 Thursday Men's 5s Bundesliga\n
 Game Type: Regular\nGame Status: Complete\nHome Team: Luis' Team\nAway Tea
 m: Iron Nuts\nHome Score: 3\nAway Score: 2
END:VEVENT
BEGIN:VEVENT
UID:16318973@ezleagues.ezfacility.com
DTSTAMP:20260426T034947Z
CREATED:20260426T034947Z
DTSTART:20250619T103000Z
DTEND:20250619T111000Z
LOCATION:005 Nou Camp
CONTACT:
SUMMARY:Titans VS. Luis' Team
DESCRIPTION:League Name: AUTUMN LEAGUES 2025 Thursday Men's 5s Bundesliga\n
 Game Type: Regular\nGame Status: Complete\nHome Team: Titans\nAway Team: L
 uis' Team\nHome Score: 5\nAway Score: 11
END:VEVENT
BEGIN:VEVENT
UID:16318954@ezleagues.ezfacility.com
DTSTAMP:20260426T034947Z
CREATED:20260426T034947Z
DTSTART:20250626T094500Z
DTEND:20250626T102500Z
LOCATION:005 Nou Camp
CONTACT:
SUMMARY:Luis' Team VS. Bald and the Beautiful
DESCRIPTION:League Name: AUTUMN LEAGUES 2025 Thursday Men's 5s Bundesliga\n
 Game Type: Regular\nGame Status: Complete\nHome Team: Luis' Team\nAway Tea
 m: Bald and the Beautiful\nHome Score: 12\nAway Score: 4
END:VEVENT
BEGIN:VEVENT
UID:16533570@ezleagues.ezfacility.com
DTSTAMP:20260426T034947Z
CREATED:20260426T034947Z
DTSTART:20250703T081500Z
DTEND:20250703T085500Z
LOCATION:007 Celtic Park
CONTACT:
SUMMARY:Luis' Team VS. Iron Nuts
DESCRIPTION:League Name: AUTUMN LEAGUES 2025 Thursday Men's 5s Bundesliga\n
 Game Type: Postseason\nGame Status: Complete\nHome Team: Luis' Team\nAway 
 Team: Iron Nuts\nHome Score: 3\nAway Score: 0
END:VEVENT
BEGIN:VEVENT
UID:16533574@ezleagues.ezfacility.com
DTSTAMP:20260426T034947Z
CREATED:20260426T034947Z
DTSTART:20250710T091500Z
DTEND:20250710T095500Z
LOCATION:009 Anfield
CONTACT:Greg
SUMMARY:Luis' Team VS. Make it Rain
DESCRIPTION:League Name: AUTUMN LEAGUES 2025 Thursday Men's 5s Bundesliga\n
 Game Type: Postseason\nGame Status: Complete\nHome Team: Luis' Team\nAway 
 Team: Make it Rain\nHome Score: 10\nAway Score: 1
END:VEVENT
END:VCALENDAR
