BEGIN:VCALENDAR
VERSION:2.0
PRODID:-//EZFacility.com, Inc.//EZL 2.5.5.28621
BEGIN:VEVENT
UID:16318925@ezleagues.ezfacility.com
DTSTAMP:20260426T035058Z
CREATED:20260426T035058Z
DTSTART:20250327T071500Z
DTEND:20250327T075500Z
LOCATION:007 Celtic Park
CONTACT:Oliver 
SUMMARY:Wreckedhams VS. Make it Rain
DESCRIPTION:League Name: AUTUMN LEAGUES 2025 Thursday Men's 5s Bundesliga\n
 Game Type: Regular\nGame Status: Complete\nHome Team: Wreckedhams\nAway Te
 am: Make it Rain\nHome Score: 4\nAway Score: 20
END:VEVENT
BEGIN:VEVENT
UID:16318928@ezleagues.ezfacility.com
DTSTAMP:20260426T035058Z
CREATED:20260426T035058Z
DTSTART:20250403T093000Z
DTEND:20250403T101000Z
LOCATION:009 Anfield
CONTACT:Corey 
SUMMARY:Wreckedhams VS. CONS\, POMS AND A BRAZILIAN FC
DESCRIPTION:League Name: AUTUMN LEAGUES 2025 Thursday Men's 5s Bundesliga\n
 Game Type: Regular\nGame Status: Complete\nHome Team: Wreckedhams\nAway Te
 am: CONS, POMS AND A BRAZILIAN FC\nHome Score: 7\nAway Score: 3
END:VEVENT
BEGIN:VEVENT
UID:16318931@ezleagues.ezfacility.com
DTSTAMP:20260426T035058Z
CREATED:20260426T035058Z
DTSTART:20250410T094500Z
DTEND:20250410T102500Z
LOCATION:010 Deepdale
CONTACT:
SUMMARY:Wreckedhams VS. Luis' Team
DESCRIPTION:League Name: AUTUMN LEAGUES 2025 Thursday Men's 5s Bundesliga\n
 Game Type: Regular\nGame Status: Complete\nHome Team: Wreckedhams\nAway Te
 am: Luis' Team\nHome Score: 6\nAway Score: 15
END:VEVENT
BEGIN:VEVENT
UID:16318934@ezleagues.ezfacility.com
DTSTAMP:20260426T035058Z
CREATED:20260426T035058Z
DTSTART:20250417T094500Z
DTEND:20250417T102500Z
LOCATION:003 San Siro
CONTACT:
SUMMARY:Bald and the Beautiful VS. Wreckedhams
DESCRIPTION:League Name: AUTUMN LEAGUES 2025 Thursday Men's 5s Bundesliga\n
 Game Type: Regular\nGame Status: Complete\nHome Team: Bald and the Beautif
 ul\nAway Team: Wreckedhams\nHome Score: 9\nAway Score: 11
END:VEVENT
BEGIN:VEVENT
UID:16318939@ezleagues.ezfacility.com
DTSTAMP:20260426T035058Z
CREATED:20260426T035058Z
DTSTART:20250424T090000Z
DTEND:20250424T094000Z
LOCATION:008 Ibrox
CONTACT:
SUMMARY:Jas and the Band VS. Wreckedhams
DESCRIPTION:League Name: AUTUMN LEAGUES 2025 Thursday Men's 5s Bundesliga\n
 Game Type: Regular\nGame Status: Complete\nHome Team: Jas and the Band\nAw
 ay Team: Wreckedhams\nHome Score: 13\nAway Score: 8
END:VEVENT
BEGIN:VEVENT
UID:16318944@ezleagues.ezfacility.com
DTSTAMP:20260426T035058Z
CREATED:20260426T035058Z
DTSTART:20250501T103000Z
DTEND:20250501T111000Z
LOCATION:004 La Bombonera
CONTACT:
SUMMARY:Iron Nuts VS. Wreckedhams
DESCRIPTION:League Name: AUTUMN LEAGUES 2025 Thursday Men's 5s Bundesliga\n
 Game Type: Regular\nGame Status: Complete\nHome Team: Iron Nuts\nAway Team
 : Wreckedhams\nHome Score: 6\nAway Score: 5
END:VEVENT
BEGIN:VEVENT
UID:16318949@ezleagues.ezfacility.com
DTSTAMP:20260426T035058Z
CREATED:20260426T035058Z
DTSTART:20250508T090000Z
DTEND:20250508T094000Z
LOCATION:008 Ibrox
CONTACT:
SUMMARY:Wreckedhams VS. Titans
DESCRIPTION:League Name: AUTUMN LEAGUES 2025 Thursday Men's 5s Bundesliga\n
 Game Type: Regular\nGame Status: Complete\nHome Team: Wreckedhams\nAway Te
 am: Titans\nHome Score: 6\nAway Score: 1
END:VEVENT
BEGIN:VEVENT
UID:16318953@ezleagues.ezfacility.com
DTSTAMP:20260426T035058Z
CREATED:20260426T035058Z
DTSTART:20250515T090000Z
DTEND:20250515T094000Z
LOCATION:009 Anfield
CONTACT:Greg
SUMMARY:Make it Rain VS. Wreckedhams
DESCRIPTION:League Name: AUTUMN LEAGUES 2025 Thursday Men's 5s Bundesliga\n
 Game Type: Regular\nGame Status: Complete\nHome Team: Make it Rain\nAway T
 eam: Wreckedhams\nHome Score: 12\nAway Score: 5
END:VEVENT
BEGIN:VEVENT
UID:16318959@ezleagues.ezfacility.com
DTSTAMP:20260426T035058Z
CREATED:20260426T035058Z
DTSTART:20250529T094500Z
DTEND:20250529T102500Z
LOCATION:006 Estadio do Dragao
CONTACT:
SUMMARY:Luis' Team VS. Wreckedhams
DESCRIPTION:League Name: AUTUMN LEAGUES 2025 Thursday Men's 5s Bundesliga\n
 Game Type: Regular\nGame Status: Complete\nHome Team: Luis' Team\nAway Tea
 m: Wreckedhams\nHome Score: 8\nAway Score: 0
END:VEVENT
BEGIN:VEVENT
UID:16318962@ezleagues.ezfacility.com
DTSTAMP:20260426T035058Z
CREATED:20260426T035058Z
DTSTART:20250605T094500Z
DTEND:20250605T102500Z
LOCATION:006 Estadio do Dragao
CONTACT:Greg
SUMMARY:Wreckedhams VS. Bald and the Beautiful
DESCRIPTION:League Name: AUTUMN LEAGUES 2025 Thursday Men's 5s Bundesliga\n
 Game Type: Regular\nGame Status: Complete\nHome Team: Wreckedhams\nAway Te
 am: Bald and the Beautiful\nHome Score: 6\nAway Score: 11
END:VEVENT
BEGIN:VEVENT
UID:16318967@ezleagues.ezfacility.com
DTSTAMP:20260426T035058Z
CREATED:20260426T035058Z
DTSTART:20250612T103000Z
DTEND:20250612T111000Z
LOCATION:004 La Bombonera
CONTACT:Greg
SUMMARY:Wreckedhams VS. Jas and the Band
DESCRIPTION:League Name: AUTUMN LEAGUES 2025 Thursday Men's 5s Bundesliga\n
 Game Type: Regular\nGame Status: Complete\nHome Team: Wreckedhams\nAway Te
 am: Jas and the Band\nHome Score: 3\nAway Score: 15
END:VEVENT
BEGIN:VEVENT
UID:16318972@ezleagues.ezfacility.com
DTSTAMP:20260426T035058Z
CREATED:20260426T035058Z
DTSTART:20250619T094500Z
DTEND:20250619T102500Z
LOCATION:005 Nou Camp
CONTACT:
SUMMARY:Wreckedhams VS. Iron Nuts
DESCRIPTION:League Name: AUTUMN LEAGUES 2025 Thursday Men's 5s Bundesliga\n
 Game Type: Regular\nGame Status: Complete\nHome Team: Wreckedhams\nAway Te
 am: Iron Nuts\nHome Score: 4\nAway Score: 10
END:VEVENT
BEGIN:VEVENT
UID:16318956@ezleagues.ezfacility.com
DTSTAMP:20260426T035058Z
CREATED:20260426T035058Z
DTSTART:20250626T094500Z
DTEND:20250626T102500Z
LOCATION:004 La Bombonera
CONTACT:Greg
SUMMARY:FACEBOOK FC  VS. Wreckedhams
DESCRIPTION:League Name: AUTUMN LEAGUES 2025 Thursday Men's 5s Bundesliga\n
 Game Type: Regular\nGame Status: Complete\nHome Team: FACEBOOK FC \nAway T
 eam: Wreckedhams\nHome Score: 0\nAway Score: 10
END:VEVENT
BEGIN:VEVENT
UID:16533573@ezleagues.ezfacility.com
DTSTAMP:20260426T035058Z
CREATED:20260426T035058Z
DTSTART:20250703T090000Z
DTEND:20250703T094000Z
LOCATION:007 Celtic Park
CONTACT:
SUMMARY:Bald and the Beautiful VS. Wreckedhams
DESCRIPTION:League Name: AUTUMN LEAGUES 2025 Thursday Men's 5s Bundesliga\n
 Game Type: Postseason\nGame Status: Complete\nHome Team: Bald and the Beau
 tiful\nAway Team: Wreckedhams\nHome Score: 10\nAway Score: 0
END:VEVENT
END:VCALENDAR
