BEGIN:VCALENDAR
VERSION:2.0
PRODID:-//EZFacility.com, Inc.//EZL 2.5.5.28621
BEGIN:VEVENT
UID:16316303@ezleagues.ezfacility.com
DTSTAMP:20260423T184959Z
CREATED:20260423T184959Z
DTSTART:20250327T054500Z
DTEND:20250327T061000Z
LOCATION:006 Estadio do Dragao
CONTACT:
SUMMARY:Real Madrid VS. Spurs
DESCRIPTION:League Name: CCM/CCU JDL Champions League U9s\nGame Type: Regul
 ar\nGame Status: Complete\nHome Team: Real Madrid\nAway Team: Spurs\nHome 
 Score: 9\nAway Score: 3
END:VEVENT
BEGIN:VEVENT
UID:16316307@ezleagues.ezfacility.com
DTSTAMP:20260423T184959Z
CREATED:20260423T184959Z
DTSTART:20250327T061500Z
DTEND:20250327T064000Z
LOCATION:006 Estadio do Dragao
CONTACT:
SUMMARY:Spurs VS. Liverpool
DESCRIPTION:League Name: CCM/CCU JDL Champions League U9s\nGame Type: Regul
 ar\nGame Status: Complete\nHome Team: Spurs\nAway Team: Liverpool\nHome Sc
 ore: 5\nAway Score: 5
END:VEVENT
BEGIN:VEVENT
UID:16316310@ezleagues.ezfacility.com
DTSTAMP:20260423T184959Z
CREATED:20260423T184959Z
DTSTART:20250327T064500Z
DTEND:20250327T071000Z
LOCATION:005 Nou Camp
CONTACT:
SUMMARY:Spurs VS. Chelsea
DESCRIPTION:League Name: CCM/CCU JDL Champions League U9s\nGame Type: Regul
 ar\nGame Status: Complete\nHome Team: Spurs\nAway Team: Chelsea\nHome Scor
 e: 9\nAway Score: 5
END:VEVENT
BEGIN:VEVENT
UID:16316313@ezleagues.ezfacility.com
DTSTAMP:20260423T184959Z
CREATED:20260423T184959Z
DTSTART:20250403T054500Z
DTEND:20250403T061000Z
LOCATION:003 San Siro
CONTACT:
SUMMARY:Spurs VS. PSG
DESCRIPTION:League Name: CCM/CCU JDL Champions League U9s\nGame Type: Regul
 ar\nGame Status: Complete\nHome Team: Spurs\nAway Team: PSG\nHome Score: 1
 \nAway Score: 3
END:VEVENT
BEGIN:VEVENT
UID:16316316@ezleagues.ezfacility.com
DTSTAMP:20260423T184959Z
CREATED:20260423T184959Z
DTSTART:20250403T061500Z
DTEND:20250403T064000Z
LOCATION:004 La Bombonera
CONTACT:
SUMMARY:Arsenal VS. Spurs
DESCRIPTION:League Name: CCM/CCU JDL Champions League U9s\nGame Type: Regul
 ar\nGame Status: Complete\nHome Team: Arsenal\nAway Team: Spurs\nHome Scor
 e: 12\nAway Score: 6
END:VEVENT
BEGIN:VEVENT
UID:16316321@ezleagues.ezfacility.com
DTSTAMP:20260423T184959Z
CREATED:20260423T184959Z
DTSTART:20250403T064500Z
DTEND:20250403T071000Z
LOCATION:005 Nou Camp
CONTACT:
SUMMARY:Barcelona VS. Spurs
DESCRIPTION:League Name: CCM/CCU JDL Champions League U9s\nGame Type: Regul
 ar\nGame Status: Complete\nHome Team: Barcelona\nAway Team: Spurs\nHome Sc
 ore: 8\nAway Score: 5
END:VEVENT
BEGIN:VEVENT
UID:16316326@ezleagues.ezfacility.com
DTSTAMP:20260423T184959Z
CREATED:20260423T184959Z
DTSTART:20250410T064500Z
DTEND:20250410T071000Z
LOCATION:003 San Siro
CONTACT:
SUMMARY:Man City VS. Spurs
DESCRIPTION:League Name: CCM/CCU JDL Champions League U9s\nGame Type: Regul
 ar\nGame Status: Complete\nHome Team: Man City\nAway Team: Spurs\nHome Sco
 re: 4\nAway Score: 4
END:VEVENT
BEGIN:VEVENT
UID:16316331@ezleagues.ezfacility.com
DTSTAMP:20260423T184959Z
CREATED:20260423T184959Z
DTSTART:20250410T071500Z
DTEND:20250410T074000Z
LOCATION:004 La Bombonera
CONTACT:
SUMMARY:Real Madrid VS. Spurs
DESCRIPTION:League Name: CCM/CCU JDL Champions League U9s\nGame Type: Regul
 ar\nGame Status: Complete\nHome Team: Real Madrid\nAway Team: Spurs\nHome 
 Score: 10\nAway Score: 5
END:VEVENT
BEGIN:VEVENT
UID:16316335@ezleagues.ezfacility.com
DTSTAMP:20260423T184959Z
CREATED:20260423T184959Z
DTSTART:20250410T074500Z
DTEND:20250410T081000Z
LOCATION:004 La Bombonera
CONTACT:
SUMMARY:Spurs VS. Liverpool
DESCRIPTION:League Name: CCM/CCU JDL Champions League U9s\nGame Type: Regul
 ar\nGame Status: Complete\nHome Team: Spurs\nAway Team: Liverpool\nHome Sc
 ore: 4\nAway Score: 7
END:VEVENT
BEGIN:VEVENT
UID:16316363@ezleagues.ezfacility.com
DTSTAMP:20260423T184959Z
CREATED:20260423T184959Z
DTSTART:20250501T064500Z
DTEND:20250501T071000Z
LOCATION:006 Estadio do Dragao
CONTACT:
SUMMARY:Spurs VS. Liverpool
DESCRIPTION:League Name: CCM/CCU JDL Champions League U9s\nGame Type: Regul
 ar\nGame Status: Complete\nHome Team: Spurs\nAway Team: Liverpool\nHome Sc
 ore: 1\nAway Score: 6
END:VEVENT
BEGIN:VEVENT
UID:16316366@ezleagues.ezfacility.com
DTSTAMP:20260423T184959Z
CREATED:20260423T184959Z
DTSTART:20250501T071500Z
DTEND:20250501T074000Z
LOCATION:005 Nou Camp
CONTACT:
SUMMARY:Spurs VS. Chelsea
DESCRIPTION:League Name: CCM/CCU JDL Champions League U9s\nGame Type: Regul
 ar\nGame Status: Complete\nHome Team: Spurs\nAway Team: Chelsea\nHome Scor
 e: 5\nAway Score: 2
END:VEVENT
BEGIN:VEVENT
UID:16316369@ezleagues.ezfacility.com
DTSTAMP:20260423T184959Z
CREATED:20260423T184959Z
DTSTART:20250501T074500Z
DTEND:20250501T081000Z
LOCATION:005 Nou Camp
CONTACT:
SUMMARY:Spurs VS. PSG
DESCRIPTION:League Name: CCM/CCU JDL Champions League U9s\nGame Type: Regul
 ar\nGame Status: Complete\nHome Team: Spurs\nAway Team: PSG\nHome Score: 2
 \nAway Score: 3
END:VEVENT
BEGIN:VEVENT
UID:16316372@ezleagues.ezfacility.com
DTSTAMP:20260423T184959Z
CREATED:20260423T184959Z
DTSTART:20250508T064500Z
DTEND:20250508T071000Z
LOCATION:006 Estadio do Dragao
CONTACT:
SUMMARY:Arsenal VS. Spurs
DESCRIPTION:League Name: CCM/CCU JDL Champions League U9s\nGame Type: Regul
 ar\nGame Status: Complete\nHome Team: Arsenal\nAway Team: Spurs\nHome Scor
 e: 7\nAway Score: 2
END:VEVENT
BEGIN:VEVENT
UID:16316377@ezleagues.ezfacility.com
DTSTAMP:20260423T184959Z
CREATED:20260423T184959Z
DTSTART:20250508T071500Z
DTEND:20250508T074000Z
LOCATION:003 San Siro
CONTACT:
SUMMARY:Barcelona VS. Spurs
DESCRIPTION:League Name: CCM/CCU JDL Champions League U9s\nGame Type: Regul
 ar\nGame Status: Complete\nHome Team: Barcelona\nAway Team: Spurs\nHome Sc
 ore: 9\nAway Score: 2
END:VEVENT
BEGIN:VEVENT
UID:16316382@ezleagues.ezfacility.com
DTSTAMP:20260423T184959Z
CREATED:20260423T184959Z
DTSTART:20250508T074500Z
DTEND:20250508T081000Z
LOCATION:004 La Bombonera
CONTACT:
SUMMARY:Man City VS. Spurs
DESCRIPTION:League Name: CCM/CCU JDL Champions League U9s\nGame Type: Regul
 ar\nGame Status: Complete\nHome Team: Man City\nAway Team: Spurs\nHome Sco
 re: 5\nAway Score: 3
END:VEVENT
BEGIN:VEVENT
UID:16316387@ezleagues.ezfacility.com
DTSTAMP:20260423T184959Z
CREATED:20260423T184959Z
DTSTART:20250515T064500Z
DTEND:20250515T071000Z
LOCATION:005 Nou Camp
CONTACT:
SUMMARY:Real Madrid VS. Spurs
DESCRIPTION:League Name: CCM/CCU JDL Champions League U9s\nGame Type: Regul
 ar\nGame Status: Complete\nHome Team: Real Madrid\nAway Team: Spurs\nHome 
 Score: 16\nAway Score: 2
END:VEVENT
BEGIN:VEVENT
UID:16316391@ezleagues.ezfacility.com
DTSTAMP:20260423T184959Z
CREATED:20260423T184959Z
DTSTART:20250515T071500Z
DTEND:20250515T074000Z
LOCATION:006 Estadio do Dragao
CONTACT:
SUMMARY:Spurs VS. Liverpool
DESCRIPTION:League Name: CCM/CCU JDL Champions League U9s\nGame Type: Regul
 ar\nGame Status: Complete\nHome Team: Spurs\nAway Team: Liverpool\nHome Sc
 ore: 2\nAway Score: 8
END:VEVENT
BEGIN:VEVENT
UID:16316394@ezleagues.ezfacility.com
DTSTAMP:20260423T184959Z
CREATED:20260423T184959Z
DTSTART:20250515T074500Z
DTEND:20250515T081000Z
LOCATION:005 Nou Camp
CONTACT:
SUMMARY:Spurs VS. Chelsea
DESCRIPTION:League Name: CCM/CCU JDL Champions League U9s\nGame Type: Regul
 ar\nGame Status: Complete\nHome Team: Spurs\nAway Team: Chelsea\nHome Scor
 e: 8\nAway Score: 11
END:VEVENT
END:VCALENDAR
