BEGIN:VCALENDAR
VERSION:2.0
PRODID:-//EZFacility.com, Inc.//EZL 2.5.5.28621
BEGIN:VEVENT
UID:16320176@ezleagues.ezfacility.com
DTSTAMP:20260421T233949Z
CREATED:20260421T233949Z
DTSTART:20250409T000000Z
DTEND:20250409T010000Z
LOCATION:Field 1 (Adult)
CONTACT:
SUMMARY:Bling Bling VS. Manifest
DESCRIPTION:League Name: 7on7 Football -12u Boom League\nGame Type: Regular
 \nGame Status: Complete\nHome Team: Bling Bling\nAway Team: Manifest\nHome
  Score: 33\nAway Score: 37
END:VEVENT
BEGIN:VEVENT
UID:16320183@ezleagues.ezfacility.com
DTSTAMP:20260421T233949Z
CREATED:20260421T233949Z
DTSTART:20250415T230000Z
DTEND:20250416T000000Z
LOCATION:Field 1 (Adult)
CONTACT:
SUMMARY:Bling Bling VS. Big Tic Tic
DESCRIPTION:League Name: 7on7 Football -12u Boom League\nGame Type: Regular
 \nGame Status: Complete\nHome Team: Bling Bling\nAway Team: Big Tic Tic\nH
 ome Score: 27\nAway Score: 24
END:VEVENT
BEGIN:VEVENT
UID:16320189@ezleagues.ezfacility.com
DTSTAMP:20260421T233949Z
CREATED:20260421T233949Z
DTSTART:20250422T230000Z
DTEND:20250423T000000Z
LOCATION:Field 1 (Adult)
CONTACT:
SUMMARY:The Goons VS. Bling Bling
DESCRIPTION:League Name: 7on7 Football -12u Boom League\nGame Type: Regular
 \nGame Status: Complete\nHome Team: The Goons\nAway Team: Bling Bling\nHom
 e Score: 24\nAway Score: 50
END:VEVENT
BEGIN:VEVENT
UID:16320194@ezleagues.ezfacility.com
DTSTAMP:20260421T233949Z
CREATED:20260421T233949Z
DTSTART:20250430T000000Z
DTEND:20250430T010000Z
LOCATION:Field 1 (Adult)
CONTACT:
SUMMARY:Yellow Bombers VS. Bling Bling
DESCRIPTION:League Name: 7on7 Football -12u Boom League\nGame Type: Regular
 \nGame Status: Complete\nHome Team: Yellow Bombers\nAway Team: Bling Bling
 \nHome Score: 21\nAway Score: 46
END:VEVENT
BEGIN:VEVENT
UID:16320199@ezleagues.ezfacility.com
DTSTAMP:20260421T233949Z
CREATED:20260421T233949Z
DTSTART:20250506T230000Z
DTEND:20250507T000000Z
LOCATION:Field 1 (Adult)
CONTACT:
SUMMARY:F.O.G. VS. Bling Bling
DESCRIPTION:League Name: 7on7 Football -12u Boom League\nGame Type: Regular
 \nGame Status: Complete\nHome Team: F.O.G.\nAway Team: Bling Bling\nHome S
 core: 21\nAway Score: 32
END:VEVENT
BEGIN:VEVENT
UID:16412948@ezleagues.ezfacility.com
DTSTAMP:20260421T233949Z
CREATED:20260421T233949Z
DTSTART:20250520T230000Z
DTEND:20250521T000000Z
LOCATION:Field 1 (Adult)
CONTACT:
SUMMARY:Bling Bling VS. Yellow Bombers
DESCRIPTION:League Name: 7on7 Football -12u Boom League\nGame Type: Postsea
 son\nGame Status: Complete\nHome Team: Bling Bling\nAway Team: Yellow Bomb
 ers\nHome Score: 44\nAway Score: 29
END:VEVENT
BEGIN:VEVENT
UID:16412951@ezleagues.ezfacility.com
DTSTAMP:20260421T233949Z
CREATED:20260421T233949Z
DTSTART:20250528T000000Z
DTEND:20250528T010000Z
LOCATION:Field 2 (Adult)
CONTACT:
SUMMARY:Bling Bling VS. The Goons
DESCRIPTION:League Name: 7on7 Football -12u Boom League\nGame Type: Postsea
 son\nGame Status: Complete\nHome Team: Bling Bling\nAway Team: The Goons\n
 Home Score: 52\nAway Score: 30
END:VEVENT
END:VCALENDAR
