BEGIN:VCALENDAR
VERSION:2.0
PRODID:-//EZFacility.com, Inc.//EZL 2.5.5.28621
BEGIN:VEVENT
UID:16320178@ezleagues.ezfacility.com
DTSTAMP:20260426T033815Z
CREATED:20260426T033815Z
DTSTART:20250408T230000Z
DTEND:20250409T000000Z
LOCATION:Field 2 (Adult)
CONTACT:
SUMMARY:BoxBoyz VS. The Fellas
DESCRIPTION:League Name: 7on7 Football -14u Boom League\nGame Type: Regular
 \nGame Status: Complete\nHome Team: BoxBoyz\nAway Team: The Fellas\nHome S
 core: 55\nAway Score: 40
END:VEVENT
BEGIN:VEVENT
UID:16320185@ezleagues.ezfacility.com
DTSTAMP:20260426T033815Z
CREATED:20260426T033815Z
DTSTART:20250415T230000Z
DTEND:20250416T000000Z
LOCATION:Field 2 (Adult)
CONTACT:
SUMMARY:The Fellas VS. OTBG
DESCRIPTION:League Name: 7on7 Football -14u Boom League\nGame Type: Regular
 \nGame Status: Complete\nHome Team: The Fellas\nAway Team: OTBG\nHome Scor
 e: 47\nAway Score: 58
END:VEVENT
BEGIN:VEVENT
UID:16320192@ezleagues.ezfacility.com
DTSTAMP:20260426T033815Z
CREATED:20260426T033815Z
DTSTART:20250423T000000Z
DTEND:20250423T010000Z
LOCATION:Field 2 (Adult)
CONTACT:
SUMMARY:The Fellas VS. The Jokers
DESCRIPTION:League Name: 7on7 Football -14u Boom League\nGame Type: Regular
 \nGame Status: Complete\nHome Team: The Fellas\nAway Team: The Jokers\nHom
 e Score: 52\nAway Score: 42
END:VEVENT
BEGIN:VEVENT
UID:16320198@ezleagues.ezfacility.com
DTSTAMP:20260426T033815Z
CREATED:20260426T033815Z
DTSTART:20250430T000000Z
DTEND:20250430T010000Z
LOCATION:Field 2 (Adult)
CONTACT:
SUMMARY:Belt Boyz VS. The Fellas
DESCRIPTION:League Name: 7on7 Football -14u Boom League\nGame Type: Regular
 \nGame Status: Complete\nHome Team: Belt Boyz\nAway Team: The Fellas\nHome
  Score: 33\nAway Score: 51
END:VEVENT
BEGIN:VEVENT
UID:16320203@ezleagues.ezfacility.com
DTSTAMP:20260426T033815Z
CREATED:20260426T033815Z
DTSTART:20250506T230000Z
DTEND:20250507T000000Z
LOCATION:Field 2 (Adult)
CONTACT:
SUMMARY:SBG VS. The Fellas
DESCRIPTION:League Name: 7on7 Football -14u Boom League\nGame Type: Regular
 \nGame Status: Complete\nHome Team: SBG\nAway Team: The Fellas\nHome Score
 : 34\nAway Score: 56
END:VEVENT
BEGIN:VEVENT
UID:16412952@ezleagues.ezfacility.com
DTSTAMP:20260426T033815Z
CREATED:20260426T033815Z
DTSTART:20250513T230000Z
DTEND:20250514T000000Z
LOCATION:Field 2 (Adult)
CONTACT:
SUMMARY:The Fellas VS. OTBG
DESCRIPTION:League Name: 7on7 Football -14u Boom League\nGame Type: Postsea
 son\nGame Status: Complete\nHome Team: The Fellas\nAway Team: OTBG\nHome S
 core: 46\nAway Score: 20
END:VEVENT
BEGIN:VEVENT
UID:16412956@ezleagues.ezfacility.com
DTSTAMP:20260426T033815Z
CREATED:20260426T033815Z
DTSTART:20250520T230000Z
DTEND:20250521T000000Z
LOCATION:Field 2 (Adult)
CONTACT:
SUMMARY:BoxBoyz VS. The Fellas
DESCRIPTION:League Name: 7on7 Football -14u Boom League\nGame Type: Postsea
 son\nGame Status: Complete\nHome Team: BoxBoyz\nAway Team: The Fellas\nHom
 e Score: 40\nAway Score: 52
END:VEVENT
BEGIN:VEVENT
UID:16412958@ezleagues.ezfacility.com
DTSTAMP:20260426T033815Z
CREATED:20260426T033815Z
DTSTART:20250528T010000Z
DTEND:20250528T020000Z
LOCATION:Field 2 (Adult)
CONTACT:
SUMMARY:The Fellas VS. SBG
DESCRIPTION:League Name: 7on7 Football -14u Boom League\nGame Type: Postsea
 son\nGame Status: Complete\nHome Team: The Fellas\nAway Team: SBG\nHome Sc
 ore: 51\nAway Score: 36
END:VEVENT
END:VCALENDAR
