BEGIN:VCALENDAR
VERSION:2.0
PRODID:-//EZFacility.com, Inc.//EZL 2.5.5.28621
BEGIN:VEVENT
UID:16326399@ezleagues.ezfacility.com
DTSTAMP:20260419T225323Z
CREATED:20260419T225323Z
DTSTART:20250407T220000Z
DTEND:20250407T230000Z
LOCATION:Field 2
CONTACT:
SUMMARY:M2 Prime - 10U VS. WS Ballers
DESCRIPTION:League Name: 7on7 Football -10U\nGame Type: Regular\nGame Statu
 s: Complete\nHome Team: M2 Prime - 10U\nAway Team: WS Ballers\nHome Score:
  43\nAway Score: 20
END:VEVENT
BEGIN:VEVENT
UID:16326405@ezleagues.ezfacility.com
DTSTAMP:20260419T225323Z
CREATED:20260419T225323Z
DTSTART:20250428T220000Z
DTEND:20250428T230000Z
LOCATION:Field 2
CONTACT:
SUMMARY:M2 Prime - 10U VS. Lombard Falcons
DESCRIPTION:League Name: 7on7 Football -10U\nGame Type: Regular\nGame Statu
 s: Complete\nHome Team: M2 Prime - 10U\nAway Team: Lombard Falcons\nHome S
 core: 30\nAway Score: 29
END:VEVENT
BEGIN:VEVENT
UID:16326407@ezleagues.ezfacility.com
DTSTAMP:20260419T225323Z
CREATED:20260419T225323Z
DTSTART:20250501T220000Z
DTEND:20250501T230000Z
LOCATION:Field 2
CONTACT:
SUMMARY:Midwest Boom 10u Yellow VS. M2 Prime - 10U
DESCRIPTION:League Name: 7on7 Football -10U\nGame Type: Regular\nGame Statu
 s: Complete\nHome Team: Midwest Boom 10u Yellow\nAway Team: M2 Prime - 10U
 \nHome Score: 36\nAway Score: 13
END:VEVENT
BEGIN:VEVENT
UID:16326408@ezleagues.ezfacility.com
DTSTAMP:20260419T225323Z
CREATED:20260419T225323Z
DTSTART:20250505T220000Z
DTEND:20250505T230000Z
LOCATION:Field 2
CONTACT:
SUMMARY:M2 Prime - 10U VS. WS Ballers
DESCRIPTION:League Name: 7on7 Football -10U\nGame Type: Regular\nGame Statu
 s: Complete\nHome Team: M2 Prime - 10U\nAway Team: WS Ballers\nHome Score:
  21\nAway Score: 0
END:VEVENT
BEGIN:VEVENT
UID:16326411@ezleagues.ezfacility.com
DTSTAMP:20260419T225323Z
CREATED:20260419T225323Z
DTSTART:20250512T220000Z
DTEND:20250512T230000Z
LOCATION:Field 2
CONTACT:
SUMMARY:Lombard Falcons VS. M2 Prime - 10U
DESCRIPTION:League Name: 7on7 Football -10U\nGame Type: Regular\nGame Statu
 s: Complete\nHome Team: Lombard Falcons\nAway Team: M2 Prime - 10U\nHome S
 core: 12\nAway Score: 53
END:VEVENT
BEGIN:VEVENT
UID:16326414@ezleagues.ezfacility.com
DTSTAMP:20260419T225323Z
CREATED:20260419T225323Z
DTSTART:20250519T220000Z
DTEND:20250519T230000Z
LOCATION:Field 2
CONTACT:
SUMMARY:M2 Prime - 10U VS. Lombard Falcons
DESCRIPTION:League Name: 7on7 Football -10U\nGame Type: Regular\nGame Statu
 s: Complete\nHome Team: M2 Prime - 10U\nAway Team: Lombard Falcons\nHome S
 core: 46\nAway Score: 27
END:VEVENT
BEGIN:VEVENT
UID:16326416@ezleagues.ezfacility.com
DTSTAMP:20260419T225323Z
CREATED:20260419T225323Z
DTSTART:20250521T230000Z
DTEND:20250522T000000Z
LOCATION:Field 1
CONTACT:
SUMMARY:M2 Prime - 10U VS. Midwest Boom 10u Yellow
DESCRIPTION:League Name: 7on7 Football -10U\nGame Type: Regular\nGame Statu
 s: Complete\nHome Team: M2 Prime - 10U\nAway Team: Midwest Boom 10u Yellow
 \nHome Score: 18\nAway Score: 27
END:VEVENT
BEGIN:VEVENT
UID:16326417@ezleagues.ezfacility.com
DTSTAMP:20260419T225323Z
CREATED:20260419T225323Z
DTSTART:20250528T220000Z
DTEND:20250528T230000Z
LOCATION:Field 2
CONTACT:
SUMMARY:WS Ballers VS. M2 Prime - 10U
DESCRIPTION:League Name: 7on7 Football -10U\nGame Type: Regular\nGame Statu
 s: Complete\nHome Team: WS Ballers\nAway Team: M2 Prime - 10U\nHome Score:
  0\nAway Score: 21
END:VEVENT
END:VCALENDAR
