BEGIN:VCALENDAR
VERSION:2.0
PRODID:-//EZFacility.com, Inc.//EZL 2.5.5.28621
BEGIN:VEVENT
UID:16326209@ezleagues.ezfacility.com
DTSTAMP:20260423T221559Z
CREATED:20260423T221559Z
DTSTART:20250330T040000Z
DTEND:20250330T044000Z
LOCATION:LG Field 2
CONTACT:
SUMMARY:Randoms FC VS. Tulsa Knights
DESCRIPTION:League Name: Men's House Team League - Spring\nGame Type: Regul
 ar\nGame Status: Complete\nHome Team: Randoms FC\nAway Team: Tulsa Knights
 \nHome Score: 3\nAway Score: 13
END:VEVENT
BEGIN:VEVENT
UID:16326220@ezleagues.ezfacility.com
DTSTAMP:20260423T221559Z
CREATED:20260423T221559Z
DTSTART:20250405T224500Z
DTEND:20250405T232500Z
LOCATION:LG Field 2
CONTACT:
SUMMARY:Hoof-Hearted VS. Tulsa Knights
DESCRIPTION:League Name: Men's House Team League - Spring\nGame Type: Regul
 ar\nGame Status: Complete\nHome Team: Hoof-Hearted\nAway Team: Tulsa Knigh
 ts\nHome Score: 4\nAway Score: 10
END:VEVENT
BEGIN:VEVENT
UID:16326235@ezleagues.ezfacility.com
DTSTAMP:20260423T221559Z
CREATED:20260423T221559Z
DTSTART:20250413T044500Z
DTEND:20250413T052500Z
LOCATION:LG Field 2
CONTACT:
SUMMARY:AC Tulsa VS. Tulsa Knights
DESCRIPTION:League Name: Men's House Team League - Spring\nGame Type: Regul
 ar\nGame Status: Complete\nHome Team: AC Tulsa\nAway Team: Tulsa Knights\n
 Home Score: 6\nAway Score: 11
END:VEVENT
BEGIN:VEVENT
UID:16326247@ezleagues.ezfacility.com
DTSTAMP:20260423T221559Z
CREATED:20260423T221559Z
DTSTART:20250419T211500Z
DTEND:20250419T215500Z
LOCATION:LG Field 2
CONTACT:
SUMMARY:Tulsa Knights VS. Blazin FC
DESCRIPTION:League Name: Men's House Team League - Spring\nGame Type: Regul
 ar\nGame Status: Complete\nHome Team: Tulsa Knights\nAway Team: Blazin FC\
 nHome Score: 5\nAway Score: 3
END:VEVENT
BEGIN:VEVENT
UID:16326257@ezleagues.ezfacility.com
DTSTAMP:20260423T221559Z
CREATED:20260423T221559Z
DTSTART:20250427T001500Z
DTEND:20250427T005500Z
LOCATION:LG Field 2
CONTACT:
SUMMARY:Peace Panthers VS. Tulsa Knights
DESCRIPTION:League Name: Men's House Team League - Spring\nGame Type: Regul
 ar\nGame Status: Complete\nHome Team: Peace Panthers\nAway Team: Tulsa Kni
 ghts\nHome Score: 0\nAway Score: 5
END:VEVENT
BEGIN:VEVENT
UID:16326274@ezleagues.ezfacility.com
DTSTAMP:20260423T221559Z
CREATED:20260423T221559Z
DTSTART:20250504T014500Z
DTEND:20250504T022500Z
LOCATION:LG Field 2
CONTACT:
SUMMARY:Tulsa Knights VS. 918 Rayados
DESCRIPTION:League Name: Men's House Team League - Spring\nGame Type: Regul
 ar\nGame Status: Complete\nHome Team: Tulsa Knights\nAway Team: 918 Rayado
 s\nHome Score: 12\nAway Score: 4
END:VEVENT
BEGIN:VEVENT
UID:16326287@ezleagues.ezfacility.com
DTSTAMP:20260423T221559Z
CREATED:20260423T221559Z
DTSTART:20250511T001500Z
DTEND:20250511T005500Z
LOCATION:LG Field 2
CONTACT:
SUMMARY:Tulsa Knights VS. The Snizzlers
DESCRIPTION:League Name: Men's House Team League - Spring\nGame Type: Regul
 ar\nGame Status: Complete\nHome Team: Tulsa Knights\nAway Team: The Snizzl
 ers\nHome Score: 6\nAway Score: 4
END:VEVENT
BEGIN:VEVENT
UID:16326302@ezleagues.ezfacility.com
DTSTAMP:20260423T221559Z
CREATED:20260423T221559Z
DTSTART:20250518T014500Z
DTEND:20250518T022500Z
LOCATION:LG Field 2
CONTACT:
SUMMARY:Tulsa Knights VS. Mighty Ducks FC
DESCRIPTION:League Name: Men's House Team League - Spring\nGame Type: Regul
 ar\nGame Status: Complete\nHome Team: Tulsa Knights\nAway Team: Mighty Duc
 ks FC\nHome Score: 13\nAway Score: 5
END:VEVENT
END:VCALENDAR
