BEGIN:VCALENDAR
VERSION:2.0
PRODID:-//EZFacility.com, Inc.//EZL 2.5.5.28621
BEGIN:VEVENT
UID:16350374@ezleagues.ezfacility.com
DTSTAMP:20260422T155254Z
CREATED:20260422T155254Z
DTSTART:20250405T214000Z
DTEND:20250405T224000Z
LOCATION:Premier Sports Court 1
CONTACT:
SUMMARY:Suffolk Yetis VS. At The Buzzer
DESCRIPTION:League Name: 2025 Nothing But Net Boys 10th Grade\nGame Type: R
 egular\nGame Status: Complete\nHome Team: Suffolk Yetis\nAway Team: At The
  Buzzer\nHome Score: 35\nAway Score: 49
END:VEVENT
BEGIN:VEVENT
UID:16350375@ezleagues.ezfacility.com
DTSTAMP:20260422T155254Z
CREATED:20260422T155254Z
DTSTART:20250405T235000Z
DTEND:20250406T005000Z
LOCATION:Premier Sports Court 1
CONTACT:
SUMMARY:Pierson VS. At The Buzzer
DESCRIPTION:League Name: 2025 Nothing But Net Boys 10th Grade\nGame Type: R
 egular\nGame Status: Complete\nHome Team: Pierson\nAway Team: At The Buzze
 r\nHome Score: 21\nAway Score: 52
END:VEVENT
BEGIN:VEVENT
UID:16350368@ezleagues.ezfacility.com
DTSTAMP:20260422T155254Z
CREATED:20260422T155254Z
DTSTART:20250406T130000Z
DTEND:20250406T140000Z
LOCATION:Premier Sports Court 1
CONTACT:
SUMMARY:At The Buzzer VS. Jodi Goodman Ralph
DESCRIPTION:League Name: 2025 Nothing But Net Boys 10th Grade\nGame Type: R
 egular\nGame Status: Complete\nHome Team: At The Buzzer\nAway Team: Jodi G
 oodman Ralph\nHome Score: 60\nAway Score: 25
END:VEVENT
END:VCALENDAR
