BEGIN:VCALENDAR
VERSION:2.0
PRODID:-//EZFacility.com, Inc.//EZL 2.5.5.28621
BEGIN:VEVENT
UID:16334930@ezleagues.ezfacility.com
DTSTAMP:20260421T012315Z
CREATED:20260421T012315Z
DTSTART:20250411T000000Z
DTEND:20250411T010000Z
LOCATION:East Field
CONTACT:Kirstein
SUMMARY:R.I.P VS. Real Coholics
DESCRIPTION:League Name: Spring 2025 Thursday Coed - Yuengling Division\nGa
 me Type: Regular\nGame Status: Complete\nHome Team: R.I.P\nAway Team: Real
  Coholics\nHome Score: 3\nAway Score: 7
END:VEVENT
BEGIN:VEVENT
UID:16334938@ezleagues.ezfacility.com
DTSTAMP:20260421T012315Z
CREATED:20260421T012315Z
DTSTART:20250418T010000Z
DTEND:20250418T020000Z
LOCATION:East Field
CONTACT:Kirstein
SUMMARY:Brewventus VS. Real Coholics
DESCRIPTION:League Name: Spring 2025 Thursday Coed - Yuengling Division\nGa
 me Type: Regular\nGame Status: Complete\nHome Team: Brewventus\nAway Team:
  Real Coholics\nHome Score: 4\nAway Score: 5
END:VEVENT
BEGIN:VEVENT
UID:16334948@ezleagues.ezfacility.com
DTSTAMP:20260421T012315Z
CREATED:20260421T012315Z
DTSTART:20250425T000000Z
DTEND:20250425T010000Z
LOCATION:West Field 
CONTACT:Kirstein
SUMMARY:Real Coholics VS. Arse-N-All
DESCRIPTION:League Name: Spring 2025 Thursday Coed - Yuengling Division\nGa
 me Type: Regular\nGame Status: Complete\nHome Team: Real Coholics\nAway Te
 am: Arse-N-All\nHome Score: 7\nAway Score: 6
END:VEVENT
BEGIN:VEVENT
UID:16334920@ezleagues.ezfacility.com
DTSTAMP:20260421T012315Z
CREATED:20260421T012315Z
DTSTART:20250502T020000Z
DTEND:20250502T030000Z
LOCATION:East Field
CONTACT:Kirstein
SUMMARY:Real Coholics VS. Don't Show Up
DESCRIPTION:League Name: Spring 2025 Thursday Coed - Yuengling Division\nGa
 me Type: Regular\nGame Status: Complete\nHome Team: Real Coholics\nAway Te
 am: Don't Show Up\nHome Score: 8\nAway Score: 7
END:VEVENT
END:VCALENDAR
