BEGIN:VCALENDAR
VERSION:2.0
PRODID:-//EZFacility.com, Inc.//EZL 2.5.5.28621
BEGIN:VEVENT
UID:16335049@ezleagues.ezfacility.com
DTSTAMP:20260423T091505Z
CREATED:20260423T091505Z
DTSTART:20250407T004500Z
DTEND:20250407T013000Z
LOCATION:Court 3
CONTACT:
SUMMARY:Setting Ducks VS. Spiked Punch
DESCRIPTION:League Name: Spring Sunday Court 3 Coed C Sixes\nGame Type: Reg
 ular\nGame Status: Complete\nHome Team: Setting Ducks\nAway Team: Spiked P
 unch\nHome Score: 1\nAway Score: 2
END:VEVENT
BEGIN:VEVENT
UID:16335054@ezleagues.ezfacility.com
DTSTAMP:20260423T091505Z
CREATED:20260423T091505Z
DTSTART:20250414T000000Z
DTEND:20250414T004500Z
LOCATION:Court 3
CONTACT:
SUMMARY:Class of 2030 VS. Setting Ducks
DESCRIPTION:League Name: Spring Sunday Court 3 Coed C Sixes\nGame Type: Reg
 ular\nGame Status: Complete\nHome Team: Class of 2030\nAway Team: Setting 
 Ducks\nHome Score: 1\nAway Score: 2
END:VEVENT
BEGIN:VEVENT
UID:16335064@ezleagues.ezfacility.com
DTSTAMP:20260423T091505Z
CREATED:20260423T091505Z
DTSTART:20250427T231500Z
DTEND:20250428T000000Z
LOCATION:Court 3
CONTACT:
SUMMARY:Setting Ducks VS. Sugar Balls
DESCRIPTION:League Name: Spring Sunday Court 3 Coed C Sixes\nGame Type: Reg
 ular\nGame Status: Complete\nHome Team: Setting Ducks\nAway Team: Sugar Ba
 lls\nHome Score: 0\nAway Score: 3
END:VEVENT
BEGIN:VEVENT
UID:16335071@ezleagues.ezfacility.com
DTSTAMP:20260423T091505Z
CREATED:20260423T091505Z
DTSTART:20250504T231500Z
DTEND:20250505T000000Z
LOCATION:Court 3
CONTACT:
SUMMARY:All In The Family VS. Setting Ducks
DESCRIPTION:League Name: Spring Sunday Court 3 Coed C Sixes\nGame Type: Reg
 ular\nGame Status: Complete\nHome Team: All In The Family\nAway Team: Sett
 ing Ducks\nHome Score: 0\nAway Score: 3
END:VEVENT
BEGIN:VEVENT
UID:16335078@ezleagues.ezfacility.com
DTSTAMP:20260423T091505Z
CREATED:20260423T091505Z
DTSTART:20250512T000000Z
DTEND:20250512T004500Z
LOCATION:Court 3
CONTACT:
SUMMARY:Setting Ducks VS. The Empire Spikes Back
DESCRIPTION:League Name: Spring Sunday Court 3 Coed C Sixes\nGame Type: Reg
 ular\nGame Status: Complete\nHome Team: Setting Ducks\nAway Team: The Empi
 re Spikes Back\nHome Score: 1\nAway Score: 2
END:VEVENT
BEGIN:VEVENT
UID:16335085@ezleagues.ezfacility.com
DTSTAMP:20260423T091505Z
CREATED:20260423T091505Z
DTSTART:20250519T013000Z
DTEND:20250519T021500Z
LOCATION:Court 3
CONTACT:
SUMMARY:Sweet and Sweaty VS. Setting Ducks
DESCRIPTION:League Name: Spring Sunday Court 3 Coed C Sixes\nGame Type: Reg
 ular\nGame Status: Complete\nHome Team: Sweet and Sweaty\nAway Team: Setti
 ng Ducks\nHome Score: 2\nAway Score: 1
END:VEVENT
BEGIN:VEVENT
UID:16335099@ezleagues.ezfacility.com
DTSTAMP:20260423T091505Z
CREATED:20260423T091505Z
DTSTART:20250602T004500Z
DTEND:20250602T013000Z
LOCATION:Court 3
CONTACT:
SUMMARY:One Arm Bandits VS. Setting Ducks
DESCRIPTION:League Name: Spring Sunday Court 3 Coed C Sixes\nGame Type: Reg
 ular\nGame Status: Complete\nHome Team: One Arm Bandits\nAway Team: Settin
 g Ducks\nHome Score: 1\nAway Score: 2
END:VEVENT
BEGIN:VEVENT
UID:16335059@ezleagues.ezfacility.com
DTSTAMP:20260423T091505Z
CREATED:20260423T091505Z
DTSTART:20250615T223000Z
DTEND:20250615T231500Z
LOCATION:Court 3
CONTACT:
SUMMARY:Setting Ducks VS. Bump\, Set\, Debauchery
DESCRIPTION:League Name: Spring Sunday Court 3 Coed C Sixes\nGame Type: Reg
 ular\nGame Status: Complete\nHome Team: Setting Ducks\nAway Team: Bump, Se
 t, Debauchery\nHome Score: 0\nAway Score: 3
END:VEVENT
BEGIN:VEVENT
UID:16335092@ezleagues.ezfacility.com
DTSTAMP:20260423T091505Z
CREATED:20260423T091505Z
DTSTART:20250623T004500Z
DTEND:20250623T013000Z
LOCATION:Court 3
CONTACT:
SUMMARY:Setting Ducks VS. Sandicate
DESCRIPTION:League Name: Spring Sunday Court 3 Coed C Sixes\nGame Type: Reg
 ular\nGame Status: Complete\nHome Team: Setting Ducks\nAway Team: Sandicat
 e\nHome Score: 2\nAway Score: 1
END:VEVENT
BEGIN:VEVENT
UID:16335044@ezleagues.ezfacility.com
DTSTAMP:20260423T091505Z
CREATED:20260423T091505Z
DTSTART:20250630T013000Z
DTEND:20250630T021500Z
LOCATION:Court 3
CONTACT:
SUMMARY:Ace Ventura Net Detectives VS. Setting Ducks
DESCRIPTION:League Name: Spring Sunday Court 3 Coed C Sixes\nGame Type: Reg
 ular\nGame Status: Complete\nHome Team: Ace Ventura Net Detectives\nAway T
 eam: Setting Ducks\nHome Score: 0\nAway Score: 3
END:VEVENT
END:VCALENDAR
