BEGIN:VCALENDAR
VERSION:2.0
PRODID:-//EZFacility.com, Inc.//EZL 2.5.5.28621
BEGIN:VEVENT
UID:16347269@ezleagues.ezfacility.com
DTSTAMP:20260425T180928Z
CREATED:20260425T180928Z
DTSTART:20250311T010000Z
DTEND:20250311T020000Z
LOCATION:Field 2
CONTACT:
SUMMARY:Piratas VS. ACASUSSO
DESCRIPTION:League Name: Mon/Tues/Wed Men's Soccer League (Spring - 2025) -
 Division 3-Central Conference\nGame Type: Regular\nGame Status: Complete\n
 Home Team: Piratas\nAway Team: ACASUSSO\nHome Score: 12\nAway Score: 3
END:VEVENT
BEGIN:VEVENT
UID:16341336@ezleagues.ezfacility.com
DTSTAMP:20260425T180928Z
CREATED:20260425T180928Z
DTSTART:20250318T000000Z
DTEND:20250318T010000Z
LOCATION:Field 2
CONTACT:Kalafatis
SUMMARY:Mandem VS. Piratas
DESCRIPTION:League Name: Mon/Tues/Wed Men's Soccer League (Spring - 2025) -
 Division 3-Central Conference\nGame Type: Regular\nGame Status: Complete\n
 Home Team: Mandem\nAway Team: Piratas\nHome Score: 4\nAway Score: 3
END:VEVENT
BEGIN:VEVENT
UID:16341342@ezleagues.ezfacility.com
DTSTAMP:20260425T180928Z
CREATED:20260425T180928Z
DTSTART:20250325T000000Z
DTEND:20250325T010000Z
LOCATION:Field 2
CONTACT:Ferreira
SUMMARY:Troubled fc VS. Piratas
DESCRIPTION:League Name: Mon/Tues/Wed Men's Soccer League (Spring - 2025) -
 Division 3-Central Conference\nGame Type: Regular\nGame Status: Complete\n
 Home Team: Troubled fc\nAway Team: Piratas\nHome Score: 3\nAway Score: 3
END:VEVENT
BEGIN:VEVENT
UID:16341334@ezleagues.ezfacility.com
DTSTAMP:20260425T180928Z
CREATED:20260425T180928Z
DTSTART:20250401T010000Z
DTEND:20250401T020000Z
LOCATION:Field 2
CONTACT:Ferreira
SUMMARY:Fake Madrid VS. Piratas
DESCRIPTION:League Name: Mon/Tues/Wed Men's Soccer League (Spring - 2025) -
 Division 3-Central Conference\nGame Type: Regular\nGame Status: Complete\n
 Home Team: Fake Madrid\nAway Team: Piratas\nHome Score: 2\nAway Score: 8
END:VEVENT
BEGIN:VEVENT
UID:16354346@ezleagues.ezfacility.com
DTSTAMP:20260425T180928Z
CREATED:20260425T180928Z
DTSTART:20250415T030000Z
DTEND:20250415T040000Z
LOCATION:Field 2
CONTACT:Herrera
SUMMARY:Piratas VS. Santos Auto Body
DESCRIPTION:League Name: Mon/Tues/Wed Men's Soccer League (Spring - 2025) -
 Division 3-Central Conference\nGame Type: Regular\nGame Status: Complete\n
 Home Team: Piratas\nAway Team: Santos Auto Body\nHome Score: 5\nAway Score
 : 6
END:VEVENT
BEGIN:VEVENT
UID:16354347@ezleagues.ezfacility.com
DTSTAMP:20260425T180928Z
CREATED:20260425T180928Z
DTSTART:20250422T010000Z
DTEND:20250422T020000Z
LOCATION:Field 2
CONTACT:Kalafatis
SUMMARY:Piratas VS. LOS CHAILAQUILES
DESCRIPTION:League Name: Mon/Tues/Wed Men's Soccer League (Spring - 2025) -
 Division 3-Central Conference\nGame Type: Regular\nGame Status: Complete\n
 Home Team: Piratas\nAway Team: LOS CHAILAQUILES\nHome Score: 3\nAway Score
 : 5
END:VEVENT
BEGIN:VEVENT
UID:16416586@ezleagues.ezfacility.com
DTSTAMP:20260425T180928Z
CREATED:20260425T180928Z
DTSTART:20250505T233000Z
DTEND:20250506T003000Z
LOCATION:Field 2
CONTACT:Ferreira
SUMMARY:Piratas VS. TBA
DESCRIPTION:League Name: Mon/Tues/Wed Men's Soccer League (Spring - 2025) -
 Division 3-Central Conference\nGame Type: Regular\nGame Status: Complete\n
 Home Team: Piratas\nAway Team: TBA\nHome Score: 3\nAway Score: 0
END:VEVENT
END:VCALENDAR
