BEGIN:VCALENDAR
VERSION:2.0
PRODID:-//EZFacility.com, Inc.//EZL 2.5.5.28621
BEGIN:VEVENT
UID:16353269@ezleagues.ezfacility.com
DTSTAMP:20260426T035114Z
CREATED:20260426T035114Z
DTSTART:20250412T220000Z
DTEND:20250413T000000Z
LOCATION:Baseball Field 5
CONTACT:
SUMMARY:Bucks County Generals 9U VS. South Jersey Young Guns - Carolina
DESCRIPTION:League Name: Spring '25 Jackie Robinson Memorial 9U, 4/11-13\nG
 ame Type: Regular\nGame Status: Cancelled\nHome Team: Bucks County General
 s 9U\nAway Team: South Jersey Young Guns - Carolina\n
END:VEVENT
BEGIN:VEVENT
UID:16353274@ezleagues.ezfacility.com
DTSTAMP:20260426T035114Z
CREATED:20260426T035114Z
DTSTART:20250413T160000Z
DTEND:20250413T180000Z
LOCATION:Baseball Field 5
CONTACT:
SUMMARY:RBI VS. Bucks County Generals 9U
DESCRIPTION:League Name: Spring '25 Jackie Robinson Memorial 9U, 4/11-13\nG
 ame Type: Regular\nGame Status: Cancelled\nHome Team: RBI\nAway Team: Buck
 s County Generals 9U\n
END:VEVENT
END:VCALENDAR
