BEGIN:VCALENDAR
VERSION:2.0
PRODID:-//EZFacility.com, Inc.//EZL 2.5.5.28621
BEGIN:VEVENT
UID:16351205@ezleagues.ezfacility.com
DTSTAMP:20260421T025647Z
CREATED:20260421T025647Z
DTSTART:20250418T021500Z
DTEND:20250418T031000Z
LOCATION:Rink 1
CONTACT:
SUMMARY:Panarin VS. Hughes
DESCRIPTION:League Name: Spring 2025 Youth Rec 10 Under\nGame Type: Regular
 \nGame Status: Complete\nHome Team: Panarin\nAway Team: Hughes\nHome Score
 : 7\nAway Score: 8
END:VEVENT
BEGIN:VEVENT
UID:16351245@ezleagues.ezfacility.com
DTSTAMP:20260421T025647Z
CREATED:20260421T025647Z
DTSTART:20250419T190000Z
DTEND:20250419T200000Z
LOCATION:Rink 1
CONTACT:
SUMMARY:Panarin VS. Practice
DESCRIPTION:League Name: Spring 2025 Youth Rec 10 Under\nGame Type: Practic
 e\nGame Status: Pending\nHome Team: Panarin\nAway Team: Practice\n
END:VEVENT
BEGIN:VEVENT
UID:16351207@ezleagues.ezfacility.com
DTSTAMP:20260421T025647Z
CREATED:20260421T025647Z
DTSTART:20250425T002500Z
DTEND:20250425T012000Z
LOCATION:Rink 1
CONTACT:
SUMMARY:Panarin VS. Crosby
DESCRIPTION:League Name: Spring 2025 Youth Rec 10 Under\nGame Type: Regular
 \nGame Status: Complete\nHome Team: Panarin\nAway Team: Crosby\nHome Score
 : 9\nAway Score: 5
END:VEVENT
BEGIN:VEVENT
UID:16351209@ezleagues.ezfacility.com
DTSTAMP:20260421T025647Z
CREATED:20260421T025647Z
DTSTART:20250502T002500Z
DTEND:20250502T012000Z
LOCATION:Rink 1
CONTACT:
SUMMARY:Aho VS. Panarin
DESCRIPTION:League Name: Spring 2025 Youth Rec 10 Under\nGame Type: Regular
 \nGame Status: Complete\nHome Team: Aho\nAway Team: Panarin\nHome Score: 6
 \nAway Score: 11
END:VEVENT
BEGIN:VEVENT
UID:16351251@ezleagues.ezfacility.com
DTSTAMP:20260421T025647Z
CREATED:20260421T025647Z
DTSTART:20250503T190000Z
DTEND:20250503T200000Z
LOCATION:Rink 1
CONTACT:
SUMMARY:Panarin VS. Practice
DESCRIPTION:League Name: Spring 2025 Youth Rec 10 Under\nGame Type: Practic
 e\nGame Status: Pending\nHome Team: Panarin\nAway Team: Practice\n
END:VEVENT
BEGIN:VEVENT
UID:16351217@ezleagues.ezfacility.com
DTSTAMP:20260421T025647Z
CREATED:20260421T025647Z
DTSTART:20250516T012000Z
DTEND:20250516T021500Z
LOCATION:Rink 2
CONTACT:
SUMMARY:Ovechkin VS. Panarin
DESCRIPTION:League Name: Spring 2025 Youth Rec 10 Under\nGame Type: Regular
 \nGame Status: Complete\nHome Team: Ovechkin\nAway Team: Panarin\nHome Sco
 re: 7\nAway Score: 5
END:VEVENT
BEGIN:VEVENT
UID:16351220@ezleagues.ezfacility.com
DTSTAMP:20260421T025647Z
CREATED:20260421T025647Z
DTSTART:20250523T012000Z
DTEND:20250523T021500Z
LOCATION:Rink 2
CONTACT:
SUMMARY:Hughes VS. Panarin
DESCRIPTION:League Name: Spring 2025 Youth Rec 10 Under\nGame Type: Regular
 \nGame Status: Complete\nHome Team: Hughes\nAway Team: Panarin\nHome Score
 : 9\nAway Score: 7
END:VEVENT
BEGIN:VEVENT
UID:16351213@ezleagues.ezfacility.com
DTSTAMP:20260421T025647Z
CREATED:20260421T025647Z
DTSTART:20250523T021500Z
DTEND:20250523T031000Z
LOCATION:Rink 1
CONTACT:
SUMMARY:Barzal VS. Panarin
DESCRIPTION:League Name: Spring 2025 Youth Rec 10 Under\nGame Type: Regular
 \nGame Status: Complete\nHome Team: Barzal\nAway Team: Panarin\nHome Score
 : 6\nAway Score: 10
END:VEVENT
BEGIN:VEVENT
UID:16351257@ezleagues.ezfacility.com
DTSTAMP:20260421T025647Z
CREATED:20260421T025647Z
DTSTART:20250524T190000Z
DTEND:20250524T200000Z
LOCATION:Rink 1
CONTACT:
SUMMARY:Panarin VS. Practice
DESCRIPTION:League Name: Spring 2025 Youth Rec 10 Under\nGame Type: Practic
 e\nGame Status: Pending\nHome Team: Panarin\nAway Team: Practice\n
END:VEVENT
BEGIN:VEVENT
UID:16351222@ezleagues.ezfacility.com
DTSTAMP:20260421T025647Z
CREATED:20260421T025647Z
DTSTART:20250530T012000Z
DTEND:20250530T021500Z
LOCATION:Rink 1
CONTACT:
SUMMARY:Crosby VS. Panarin
DESCRIPTION:League Name: Spring 2025 Youth Rec 10 Under\nGame Type: Regular
 \nGame Status: Complete\nHome Team: Crosby\nAway Team: Panarin\nHome Score
 : 10\nAway Score: 0
END:VEVENT
BEGIN:VEVENT
UID:16351224@ezleagues.ezfacility.com
DTSTAMP:20260421T025647Z
CREATED:20260421T025647Z
DTSTART:20250606T012000Z
DTEND:20250606T021500Z
LOCATION:Rink 2
CONTACT:
SUMMARY:Panarin VS. Aho
DESCRIPTION:League Name: Spring 2025 Youth Rec 10 Under\nGame Type: Regular
 \nGame Status: Complete\nHome Team: Panarin\nAway Team: Aho\nHome Score: 5
 \nAway Score: 6
END:VEVENT
BEGIN:VEVENT
UID:16351258@ezleagues.ezfacility.com
DTSTAMP:20260421T025647Z
CREATED:20260421T025647Z
DTSTART:20250607T190000Z
DTEND:20250607T200000Z
LOCATION:Rink 1
CONTACT:
SUMMARY:Panarin VS. Practice
DESCRIPTION:League Name: Spring 2025 Youth Rec 10 Under\nGame Type: Practic
 e\nGame Status: Pending\nHome Team: Panarin\nAway Team: Practice\n
END:VEVENT
BEGIN:VEVENT
UID:16351228@ezleagues.ezfacility.com
DTSTAMP:20260421T025647Z
CREATED:20260421T025647Z
DTSTART:20250613T002500Z
DTEND:20250613T012000Z
LOCATION:Rink 1
CONTACT:
SUMMARY:Panarin VS. Barzal
DESCRIPTION:League Name: Spring 2025 Youth Rec 10 Under\nGame Type: Regular
 \nGame Status: Complete\nHome Team: Panarin\nAway Team: Barzal\nHome Score
 : 4\nAway Score: 9
END:VEVENT
BEGIN:VEVENT
UID:16351232@ezleagues.ezfacility.com
DTSTAMP:20260421T025647Z
CREATED:20260421T025647Z
DTSTART:20250613T021500Z
DTEND:20250613T031000Z
LOCATION:Rink 1
CONTACT:
SUMMARY:Panarin VS. Ovechkin
DESCRIPTION:League Name: Spring 2025 Youth Rec 10 Under\nGame Type: Regular
 \nGame Status: Complete\nHome Team: Panarin\nAway Team: Ovechkin\nHome Sco
 re: 8\nAway Score: 12
END:VEVENT
BEGIN:VEVENT
UID:16351269@ezleagues.ezfacility.com
DTSTAMP:20260421T025647Z
CREATED:20260421T025647Z
DTSTART:20250614T190000Z
DTEND:20250614T200000Z
LOCATION:Rink 1
CONTACT:
SUMMARY:Panarin VS. Practice
DESCRIPTION:League Name: Spring 2025 Youth Rec 10 Under\nGame Type: Practic
 e\nGame Status: Pending\nHome Team: Panarin\nAway Team: Practice\n
END:VEVENT
BEGIN:VEVENT
UID:16351235@ezleagues.ezfacility.com
DTSTAMP:20260421T025647Z
CREATED:20260421T025647Z
DTSTART:20250620T012000Z
DTEND:20250620T021500Z
LOCATION:Rink 1
CONTACT:
SUMMARY:Barzal VS. Panarin
DESCRIPTION:League Name: Spring 2025 Youth Rec 10 Under\nGame Type: Postsea
 son\nGame Status: Complete\nHome Team: Barzal\nAway Team: Panarin\nHome Sc
 ore: 8\nAway Score: 6
END:VEVENT
END:VCALENDAR
