BEGIN:VCALENDAR
VERSION:2.0
PRODID:-//EZFacility.com, Inc.//EZL 2.5.5.28621
BEGIN:VEVENT
UID:16346314@ezleagues.ezfacility.com
DTSTAMP:20260426T021610Z
CREATED:20260426T021610Z
DTSTART:20250408T025000Z
DTEND:20250408T034000Z
LOCATION:INDOOR FIELD
CONTACT:Guiterrez
SUMMARY:G Unit VS. Los Gladiadores
DESCRIPTION:League Name: Adult Soccer Spring S1 2025-Men's B\nGame Type: Re
 gular\nGame Status: Complete\nHome Team: G Unit\nAway Team: Los Gladiadore
 s\nHome Score: 3\nAway Score: 2
END:VEVENT
BEGIN:VEVENT
UID:16346322@ezleagues.ezfacility.com
DTSTAMP:20260426T021610Z
CREATED:20260426T021610Z
DTSTART:20250415T020000Z
DTEND:20250415T025000Z
LOCATION:INDOOR FIELD
CONTACT:Moxley
SUMMARY:Disaster FC VS. Los Gladiadores
DESCRIPTION:League Name: Adult Soccer Spring S1 2025-Men's B\nGame Type: Re
 gular\nGame Status: Complete\nHome Team: Disaster FC\nAway Team: Los Gladi
 adores\nHome Score: 5\nAway Score: 6
END:VEVENT
BEGIN:VEVENT
UID:16346323@ezleagues.ezfacility.com
DTSTAMP:20260426T021610Z
CREATED:20260426T021610Z
DTSTART:20250422T034000Z
DTEND:20250422T043000Z
LOCATION:INDOOR FIELD
CONTACT:Valceschini
SUMMARY:Los Gladiadores VS. Uruapan
DESCRIPTION:League Name: Adult Soccer Spring S1 2025-Men's B\nGame Type: Re
 gular\nGame Status: Complete\nHome Team: Los Gladiadores\nAway Team: Uruap
 an\nHome Score: 5\nAway Score: 10
END:VEVENT
BEGIN:VEVENT
UID:16346331@ezleagues.ezfacility.com
DTSTAMP:20260426T021610Z
CREATED:20260426T021610Z
DTSTART:20250429T020000Z
DTEND:20250429T025000Z
LOCATION:INDOOR FIELD
CONTACT:Moxley
SUMMARY:Las Nueces VS. Los Gladiadores
DESCRIPTION:League Name: Adult Soccer Spring S1 2025-Men's B\nGame Type: Re
 gular\nGame Status: Complete\nHome Team: Las Nueces\nAway Team: Los Gladia
 dores\nHome Score: 5\nAway Score: 6
END:VEVENT
BEGIN:VEVENT
UID:16346340@ezleagues.ezfacility.com
DTSTAMP:20260426T021610Z
CREATED:20260426T021610Z
DTSTART:20250506T043000Z
DTEND:20250506T052000Z
LOCATION:INDOOR FIELD
CONTACT:Valceschini
SUMMARY:Los Gladiadores VS. Real FC
DESCRIPTION:League Name: Adult Soccer Spring S1 2025-Men's B\nGame Type: Re
 gular\nGame Status: Complete\nHome Team: Los Gladiadores\nAway Team: Real 
 FC\nHome Score: 2\nAway Score: 7
END:VEVENT
BEGIN:VEVENT
UID:16346346@ezleagues.ezfacility.com
DTSTAMP:20260426T021610Z
CREATED:20260426T021610Z
DTSTART:20250513T034000Z
DTEND:20250513T043000Z
LOCATION:INDOOR FIELD
CONTACT:Valceschini
SUMMARY:Morelia VS. Los Gladiadores
DESCRIPTION:League Name: Adult Soccer Spring S1 2025-Men's B\nGame Type: Re
 gular\nGame Status: Complete\nHome Team: Morelia\nAway Team: Los Gladiador
 es\nHome Score: 9\nAway Score: 4
END:VEVENT
BEGIN:VEVENT
UID:16354759@ezleagues.ezfacility.com
DTSTAMP:20260426T021610Z
CREATED:20260426T021610Z
DTSTART:20250521T045000Z
DTEND:20250521T054000Z
LOCATION:INDOOR FIELD
CONTACT:Knapp\, Ahern
SUMMARY:Atletico Nopaleros VS. Los Gladiadores
DESCRIPTION:League Name: Adult Soccer Spring S1 2025-Men's B\nGame Type: Re
 gular\nGame Status: Complete\nHome Team: Atletico Nopaleros\nAway Team: Lo
 s Gladiadores\nHome Score: 3\nAway Score: 0
END:VEVENT
BEGIN:VEVENT
UID:16444997@ezleagues.ezfacility.com
DTSTAMP:20260426T021610Z
CREATED:20260426T021610Z
DTSTART:20250527T013500Z
DTEND:20250527T020000Z
LOCATION:INDOOR FIELD
CONTACT:
SUMMARY:Ball Blasterz VS. Los Gladiadores
DESCRIPTION:League Name: Adult Soccer Spring S1 2025-Men's B\nGame Type: Re
 gular\nGame Status: Pending\nHome Team: Ball Blasterz\nAway Team: Los Glad
 iadores\n
END:VEVENT
END:VCALENDAR
