BEGIN:VCALENDAR
VERSION:2.0
PRODID:-//EZFacility.com, Inc.//EZL 2.5.5.28621
BEGIN:VEVENT
UID:16386769@ezleagues.ezfacility.com
DTSTAMP:20260420T130507Z
CREATED:20260420T130507Z
DTSTART:20250418T002000Z
DTEND:20250418T012000Z
LOCATION:Harmans Premier Field #5
CONTACT:
SUMMARY:FC Crabs VS. WSP
DESCRIPTION:League Name: Thurs Mens Over 35s 3rd div\nGame Type: Regular\nG
 ame Status: Complete\nHome Team: FC Crabs\nAway Team: WSP\nHome Score: 4\n
 Away Score: 5
END:VEVENT
BEGIN:VEVENT
UID:16386780@ezleagues.ezfacility.com
DTSTAMP:20260420T130507Z
CREATED:20260420T130507Z
DTSTART:20250425T011500Z
DTEND:20250425T021500Z
LOCATION:Harmans Premier Field #5
CONTACT:
SUMMARY:WSP VS. Force Majeure
DESCRIPTION:League Name: Thurs Mens Over 35s 3rd div\nGame Type: Regular\nG
 ame Status: Complete\nHome Team: WSP\nAway Team: Force Majeure\nHome Score
 : 2\nAway Score: 2
END:VEVENT
BEGIN:VEVENT
UID:16386791@ezleagues.ezfacility.com
DTSTAMP:20260420T130507Z
CREATED:20260420T130507Z
DTSTART:20250501T223000Z
DTEND:20250501T233000Z
LOCATION:Harmans Premier Field #4
CONTACT:
SUMMARY:WSP VS. Soccer Dogs
DESCRIPTION:League Name: Thurs Mens Over 35s 3rd div\nGame Type: Regular\nG
 ame Status: Complete\nHome Team: WSP\nAway Team: Soccer Dogs\nHome Score: 
 9\nAway Score: 5
END:VEVENT
BEGIN:VEVENT
UID:16386802@ezleagues.ezfacility.com
DTSTAMP:20260420T130507Z
CREATED:20260420T130507Z
DTSTART:20250509T030500Z
DTEND:20250509T035500Z
LOCATION:Harmans Premier Field #4
CONTACT:
SUMMARY:WSP VS. Pho United
DESCRIPTION:League Name: Thurs Mens Over 35s 3rd div\nGame Type: Regular\nG
 ame Status: Complete\nHome Team: WSP\nAway Team: Pho United\nHome Score: 6
 \nAway Score: 1
END:VEVENT
BEGIN:VEVENT
UID:16386813@ezleagues.ezfacility.com
DTSTAMP:20260420T130507Z
CREATED:20260420T130507Z
DTSTART:20250516T002000Z
DTEND:20250516T012000Z
LOCATION:Harmans Premier Field #5
CONTACT:
SUMMARY:Memphis United VS. WSP
DESCRIPTION:League Name: Thurs Mens Over 35s 3rd div\nGame Type: Regular\nG
 ame Status: Complete\nHome Team: Memphis United\nAway Team: WSP\nHome Scor
 e: 7\nAway Score: 5
END:VEVENT
BEGIN:VEVENT
UID:16386824@ezleagues.ezfacility.com
DTSTAMP:20260420T130507Z
CREATED:20260420T130507Z
DTSTART:20250523T021000Z
DTEND:20250523T031000Z
LOCATION:Harmans Premier Field #4
CONTACT:
SUMMARY:Naptown VS. WSP
DESCRIPTION:League Name: Thurs Mens Over 35s 3rd div\nGame Type: Regular\nG
 ame Status: Complete\nHome Team: Naptown\nAway Team: WSP\nHome Score: 8\nA
 way Score: 1
END:VEVENT
BEGIN:VEVENT
UID:16386835@ezleagues.ezfacility.com
DTSTAMP:20260420T130507Z
CREATED:20260420T130507Z
DTSTART:20250530T021000Z
DTEND:20250530T031000Z
LOCATION:Harmans Premier Field #5
CONTACT:
SUMMARY:Feetballers VS. WSP
DESCRIPTION:League Name: Thurs Mens Over 35s 3rd div\nGame Type: Regular\nG
 ame Status: Complete\nHome Team: Feetballers\nAway Team: WSP\nHome Score: 
 5\nAway Score: 3
END:VEVENT
BEGIN:VEVENT
UID:16479380@ezleagues.ezfacility.com
DTSTAMP:20260420T130507Z
CREATED:20260420T130507Z
DTSTART:20250606T021000Z
DTEND:20250606T030500Z
LOCATION:Harmans Premier Field #5
CONTACT:
SUMMARY:FC Crabs VS. WSP
DESCRIPTION:League Name: Thurs Mens Over 35s 3rd div\nGame Type: Regular\nG
 ame Status: Complete\nHome Team: FC Crabs\nAway Team: WSP\nHome Score: 5\n
 Away Score: 5
END:VEVENT
BEGIN:VEVENT
UID:16490562@ezleagues.ezfacility.com
DTSTAMP:20260420T130507Z
CREATED:20260420T130507Z
DTSTART:20250613T011500Z
DTEND:20250613T021000Z
LOCATION:Harmans Premier Field #5
CONTACT:
SUMMARY:WSP VS. Force Majeure
DESCRIPTION:League Name: Thurs Mens Over 35s 3rd div\nGame Type: Regular\nG
 ame Status: Complete\nHome Team: WSP\nAway Team: Force Majeure\nHome Score
 : 6\nAway Score: 5
END:VEVENT
END:VCALENDAR
