BEGIN:VCALENDAR
VERSION:2.0
PRODID:-//EZFacility.com, Inc.//EZL 2.5.5.28621
BEGIN:VEVENT
UID:16351057@ezleagues.ezfacility.com
DTSTAMP:20260423T085341Z
CREATED:20260423T085341Z
DTSTART:20250401T010000Z
DTEND:20250401T020000Z
LOCATION:Court 2
CONTACT:
SUMMARY:Finer Things VS. Raider Way
DESCRIPTION:League Name: Basketball Monday Night League (Spring 2025)-Recre
 ational  - West\nGame Type: Regular\nGame Status: Complete\nHome Team: Fin
 er Things\nAway Team: Raider Way\nHome Score: 34\nAway Score: 41
END:VEVENT
BEGIN:VEVENT
UID:16351059@ezleagues.ezfacility.com
DTSTAMP:20260423T085341Z
CREATED:20260423T085341Z
DTSTART:20250408T010000Z
DTEND:20250408T020000Z
LOCATION:Court 2
CONTACT:Rivera\, Brown
SUMMARY:Shanghai Sharks VS. Finer Things
DESCRIPTION:League Name: Basketball Monday Night League (Spring 2025)-Recre
 ational  - West\nGame Type: Regular\nGame Status: Complete\nHome Team: Sha
 nghai Sharks\nAway Team: Finer Things\nHome Score: 55\nAway Score: 64
END:VEVENT
BEGIN:VEVENT
UID:16364841@ezleagues.ezfacility.com
DTSTAMP:20260423T085341Z
CREATED:20260423T085341Z
DTSTART:20250415T020000Z
DTEND:20250415T030000Z
LOCATION:Court 3
CONTACT:Mohammed\, Scaglione
SUMMARY:Nursing Home Snipers VS. Finer Things
DESCRIPTION:League Name: Basketball Monday Night League (Spring 2025)-Recre
 ational  - West\nGame Type: Regular\nGame Status: Complete\nHome Team: Nur
 sing Home Snipers\nAway Team: Finer Things\nHome Score: 57\nAway Score: 66
END:VEVENT
BEGIN:VEVENT
UID:16386259@ezleagues.ezfacility.com
DTSTAMP:20260423T085341Z
CREATED:20260423T085341Z
DTSTART:20250423T000000Z
DTEND:20250423T010000Z
LOCATION:Court 1
CONTACT:Cousins\, Rivera
SUMMARY:Finer Things VS. Everything Hurts
DESCRIPTION:League Name: Basketball Monday Night League (Spring 2025)-Recre
 ational  - West\nGame Type: Regular\nGame Status: Complete\nHome Team: Fin
 er Things\nAway Team: Everything Hurts\nHome Score: 45\nAway Score: 54
END:VEVENT
BEGIN:VEVENT
UID:16394841@ezleagues.ezfacility.com
DTSTAMP:20260423T085341Z
CREATED:20260423T085341Z
DTSTART:20250429T010000Z
DTEND:20250429T020000Z
LOCATION:Court 3
CONTACT:Cousins
SUMMARY:Finer Things VS. Bone Zone
DESCRIPTION:League Name: Basketball Monday Night League (Spring 2025)-Recre
 ational  - West\nGame Type: Regular\nGame Status: Complete\nHome Team: Fin
 er Things\nAway Team: Bone Zone\nHome Score: 59\nAway Score: 61
END:VEVENT
BEGIN:VEVENT
UID:16412506@ezleagues.ezfacility.com
DTSTAMP:20260423T085341Z
CREATED:20260423T085341Z
DTSTART:20250507T010000Z
DTEND:20250507T020000Z
LOCATION:Court 1
CONTACT:Cousins\, Rivera
SUMMARY:Finer Things VS. Gefilta Swish
DESCRIPTION:League Name: Basketball Monday Night League (Spring 2025)-Recre
 ational  - West\nGame Type: Regular\nGame Status: Complete\nHome Team: Fin
 er Things\nAway Team: Gefilta Swish\nHome Score: 53\nAway Score: 46
END:VEVENT
BEGIN:VEVENT
UID:16434514@ezleagues.ezfacility.com
DTSTAMP:20260423T085341Z
CREATED:20260423T085341Z
DTSTART:20250520T000000Z
DTEND:20250520T010000Z
LOCATION:Court 1
CONTACT:Kinsale\, Stapleton
SUMMARY:Stang Gang VS. Finer Things
DESCRIPTION:League Name: Basketball Monday Night League (Spring 2025)-Recre
 ational  - West\nGame Type: Regular\nGame Status: Complete\nHome Team: Sta
 ng Gang\nAway Team: Finer Things\nHome Score: 59\nAway Score: 42
END:VEVENT
END:VCALENDAR
