BEGIN:VCALENDAR
VERSION:2.0
PRODID:-//EZFacility.com, Inc.//EZL 2.5.5.28621
BEGIN:VEVENT
UID:16396933@ezleagues.ezfacility.com
DTSTAMP:20260426T034958Z
CREATED:20260426T034958Z
DTSTART:20250317T170000Z
DTEND:20250317T180000Z
LOCATION:Court 1
CONTACT:
SUMMARY:Nursing Home Snipers VS. NJ Hoopers
DESCRIPTION:League Name: Basketball Monday Night League (Spring 2025)-Recre
 ational  - West\nGame Type: Regular\nGame Status: Complete\nHome Team: Nur
 sing Home Snipers\nAway Team: NJ Hoopers\nHome Score: 55\nAway Score: 50
END:VEVENT
BEGIN:VEVENT
UID:16351044@ezleagues.ezfacility.com
DTSTAMP:20260426T034958Z
CREATED:20260426T034958Z
DTSTART:20250402T010000Z
DTEND:20250402T020000Z
LOCATION:Court 1
CONTACT:Rivera
SUMMARY:Hamilton Elite VS. Nursing Home Snipers
DESCRIPTION:League Name: Basketball Monday Night League (Spring 2025)-Recre
 ational  - West\nGame Type: Regular\nGame Status: Complete\nHome Team: Ham
 ilton Elite\nAway Team: Nursing Home Snipers\nHome Score: 50\nAway Score: 
 69
END:VEVENT
BEGIN:VEVENT
UID:16351076@ezleagues.ezfacility.com
DTSTAMP:20260426T034958Z
CREATED:20260426T034958Z
DTSTART:20250408T020000Z
DTEND:20250408T030000Z
LOCATION:Court 2
CONTACT:Brown\, Rivera
SUMMARY:NJ Hoopers VS. Nursing Home Snipers
DESCRIPTION:League Name: Basketball Monday Night League (Spring 2025)-Recre
 ational  - West\nGame Type: Regular\nGame Status: Complete\nHome Team: NJ 
 Hoopers\nAway Team: Nursing Home Snipers\nHome Score: 38\nAway Score: 51
END:VEVENT
BEGIN:VEVENT
UID:16364841@ezleagues.ezfacility.com
DTSTAMP:20260426T034958Z
CREATED:20260426T034958Z
DTSTART:20250415T020000Z
DTEND:20250415T030000Z
LOCATION:Court 3
CONTACT:Mohammed\, Scaglione
SUMMARY:Nursing Home Snipers VS. Finer Things
DESCRIPTION:League Name: Basketball Monday Night League (Spring 2025)-Recre
 ational  - West\nGame Type: Regular\nGame Status: Complete\nHome Team: Nur
 sing Home Snipers\nAway Team: Finer Things\nHome Score: 57\nAway Score: 66
END:VEVENT
BEGIN:VEVENT
UID:16394842@ezleagues.ezfacility.com
DTSTAMP:20260426T034958Z
CREATED:20260426T034958Z
DTSTART:20250429T020000Z
DTEND:20250429T030000Z
LOCATION:Court 3
CONTACT:Cousins
SUMMARY:Nursing Home Snipers VS. Everything Hurts
DESCRIPTION:League Name: Basketball Monday Night League (Spring 2025)-Recre
 ational  - West\nGame Type: Regular\nGame Status: Complete\nHome Team: Nur
 sing Home Snipers\nAway Team: Everything Hurts\nHome Score: 44\nAway Score
 : 48
END:VEVENT
BEGIN:VEVENT
UID:16412480@ezleagues.ezfacility.com
DTSTAMP:20260426T034958Z
CREATED:20260426T034958Z
DTSTART:20250506T010000Z
DTEND:20250506T020000Z
LOCATION:Court 2
CONTACT:Rivera\, Scaglione
SUMMARY:Nursing Home Snipers VS. Team Takeover
DESCRIPTION:League Name: Basketball Monday Night League (Spring 2025)-Recre
 ational  - West\nGame Type: Regular\nGame Status: Complete\nHome Team: Nur
 sing Home Snipers\nAway Team: Team Takeover\nHome Score: 40\nAway Score: 4
 2
END:VEVENT
BEGIN:VEVENT
UID:16419513@ezleagues.ezfacility.com
DTSTAMP:20260426T034958Z
CREATED:20260426T034958Z
DTSTART:20250514T010000Z
DTEND:20250514T020000Z
LOCATION:Court 2
CONTACT:Cousins\, Rivera
SUMMARY:Nursing Home Snipers VS. The Old Heads
DESCRIPTION:League Name: Basketball Monday Night League (Spring 2025)-Recre
 ational  - West\nGame Type: Regular\nGame Status: Complete\nHome Team: Nur
 sing Home Snipers\nAway Team: The Old Heads\nHome Score: 49\nAway Score: 4
 5
END:VEVENT
BEGIN:VEVENT
UID:16458400@ezleagues.ezfacility.com
DTSTAMP:20260426T034958Z
CREATED:20260426T034958Z
DTSTART:20250603T000000Z
DTEND:20250603T010000Z
LOCATION:Court 2
CONTACT:Kinsale\, Stapleton
SUMMARY:Nursing Home Snipers VS. Team Takeover
DESCRIPTION:League Name: Basketball Monday Night League (Spring 2025)-Recre
 ational  - West\nGame Type: Postseason\nGame Status: Complete\nHome Team: 
 Nursing Home Snipers\nAway Team: Team Takeover\nHome Score: 42\nAway Score
 : 71
END:VEVENT
END:VCALENDAR
