BEGIN:VCALENDAR
VERSION:2.0
PRODID:-//EZFacility.com, Inc.//EZL 2.5.5.28621
BEGIN:VEVENT
UID:16353706@ezleagues.ezfacility.com
DTSTAMP:20260426T035143Z
CREATED:20260426T035143Z
DTSTART:20250323T230000Z
DTEND:20250324T000000Z
LOCATION:7vs7 Field 1 TRU
CONTACT:
SUMMARY:CASI FC VS. Untied FC
DESCRIPTION:League Name: DOMINGO Libre\nGame Type: Regular\nGame Status: Co
 mplete\nHome Team: CASI FC\nAway Team: Untied FC\nHome Score: 7\nAway Scor
 e: 3
END:VEVENT
BEGIN:VEVENT
UID:16370345@ezleagues.ezfacility.com
DTSTAMP:20260426T035143Z
CREATED:20260426T035143Z
DTSTART:20250407T010000Z
DTEND:20250407T020000Z
LOCATION:7vs7 Field 1 TRU
CONTACT:
SUMMARY:CASI FC VS. NLU Vikings
DESCRIPTION:League Name: DOMINGO Libre\nGame Type: Regular\nGame Status: Co
 mplete\nHome Team: CASI FC\nAway Team: NLU Vikings\nHome Score: 3\nAway Sc
 ore: 3
END:VEVENT
BEGIN:VEVENT
UID:16392525@ezleagues.ezfacility.com
DTSTAMP:20260426T035143Z
CREATED:20260426T035143Z
DTSTART:20250414T000000Z
DTEND:20250414T010000Z
LOCATION:7vs7 Field 1 TRU
CONTACT:
SUMMARY:CASI FC VS. Tavo Contr
DESCRIPTION:League Name: DOMINGO Libre\nGame Type: Regular\nGame Status: Co
 mplete\nHome Team: CASI FC\nAway Team: Tavo Contr\nHome Score: 4\nAway Sco
 re: 3
END:VEVENT
BEGIN:VEVENT
UID:16394444@ezleagues.ezfacility.com
DTSTAMP:20260426T035143Z
CREATED:20260426T035143Z
DTSTART:20250420T230000Z
DTEND:20250421T000000Z
LOCATION:7vs7 Field 1 TRU
CONTACT:
SUMMARY:CASI FC VS. ABC FC
DESCRIPTION:League Name: DOMINGO Libre\nGame Type: Regular\nGame Status: Co
 mplete\nHome Team: CASI FC\nAway Team: ABC FC\nHome Score: 3\nAway Score: 
 4
END:VEVENT
BEGIN:VEVENT
UID:16411625@ezleagues.ezfacility.com
DTSTAMP:20260426T035143Z
CREATED:20260426T035143Z
DTSTART:20250428T000000Z
DTEND:20250428T010000Z
LOCATION:7vs7 Field 1 TRU
CONTACT:
SUMMARY:CASI FC VS. Red Bull
DESCRIPTION:League Name: DOMINGO Libre\nGame Type: Regular\nGame Status: Co
 mplete\nHome Team: CASI FC\nAway Team: Red Bull\nHome Score: 2\nAway Score
 : 3
END:VEVENT
BEGIN:VEVENT
UID:16426100@ezleagues.ezfacility.com
DTSTAMP:20260426T035143Z
CREATED:20260426T035143Z
DTSTART:20250504T220000Z
DTEND:20250504T230000Z
LOCATION:7vs7 Field 1 TRU
CONTACT:
SUMMARY:CASI FC VS. Roma FC
DESCRIPTION:League Name: DOMINGO Libre\nGame Type: Regular\nGame Status: Co
 mplete\nHome Team: CASI FC\nAway Team: Roma FC\nHome Score: 7\nAway Score:
  11
END:VEVENT
BEGIN:VEVENT
UID:16451321@ezleagues.ezfacility.com
DTSTAMP:20260426T035143Z
CREATED:20260426T035143Z
DTSTART:20250519T000000Z
DTEND:20250519T010000Z
LOCATION:7vs7 Field 1 TRU
CONTACT:
SUMMARY:Guerrero VS. CASI FC
DESCRIPTION:League Name: DOMINGO Libre\nGame Type: Regular\nGame Status: Co
 mplete\nHome Team: Guerrero\nAway Team: CASI FC\nHome Score: 3\nAway Score
 : 7
END:VEVENT
BEGIN:VEVENT
UID:16454624@ezleagues.ezfacility.com
DTSTAMP:20260426T035143Z
CREATED:20260426T035143Z
DTSTART:20250525T220000Z
DTEND:20250525T230000Z
LOCATION:7vs7 Field 1 TRU
CONTACT:
SUMMARY:Los Primos VS. CASI FC
DESCRIPTION:League Name: DOMINGO Libre\nGame Type: Regular\nGame Status: Pe
 nding\nHome Team: Los Primos\nAway Team: CASI FC\n
END:VEVENT
BEGIN:VEVENT
UID:16484086@ezleagues.ezfacility.com
DTSTAMP:20260426T035143Z
CREATED:20260426T035143Z
DTSTART:20250601T220000Z
DTEND:20250601T230000Z
LOCATION:7vs7 Field 1 TRU
CONTACT:
SUMMARY:Tre 4 City VS. CASI FC
DESCRIPTION:League Name: DOMINGO Libre\nGame Type: Regular\nGame Status: Co
 mplete\nHome Team: Tre 4 City\nAway Team: CASI FC\nHome Score: 4\nAway Sco
 re: 4
END:VEVENT
BEGIN:VEVENT
UID:16499250@ezleagues.ezfacility.com
DTSTAMP:20260426T035143Z
CREATED:20260426T035143Z
DTSTART:20250609T000000Z
DTEND:20250609T010000Z
LOCATION:Field 5 BLD
CONTACT:
SUMMARY:CASI FC VS. Marlin
DESCRIPTION:League Name: DOMINGO Libre\nGame Type: Regular\nGame Status: Co
 mplete\nHome Team: CASI FC\nAway Team: Marlin\nHome Score: 4\nAway Score: 
 7
END:VEVENT
END:VCALENDAR
