BEGIN:VCALENDAR
VERSION:2.0
PRODID:-//EZFacility.com, Inc.//EZL 2.5.5.28621
BEGIN:VEVENT
UID:16359438@ezleagues.ezfacility.com
DTSTAMP:20260426T034849Z
CREATED:20260426T034849Z
DTSTART:20250412T031500Z
DTEND:20250412T041500Z
LOCATION:Field 3
CONTACT:
SUMMARY:Los Borrachos VS. Bat  Boujee
DESCRIPTION:League Name: 2025 S2 Fri Coed Rec 2- April 11\nGame Type: Regul
 ar\nGame Status: Complete\nHome Team: Los Borrachos\nAway Team: Bat  Bouje
 e\nHome Score: 13\nAway Score: 14
END:VEVENT
BEGIN:VEVENT
UID:16359439@ezleagues.ezfacility.com
DTSTAMP:20260426T034849Z
CREATED:20260426T034849Z
DTSTART:20250412T041500Z
DTEND:20250412T051500Z
LOCATION:Field 3
CONTACT:
SUMMARY:Bat  Boujee VS. The Duct Dynasty
DESCRIPTION:League Name: 2025 S2 Fri Coed Rec 2- April 11\nGame Type: Regul
 ar\nGame Status: Complete\nHome Team: Bat  Boujee\nAway Team: The Duct Dyn
 asty\nHome Score: 11\nAway Score: 5
END:VEVENT
BEGIN:VEVENT
UID:16359453@ezleagues.ezfacility.com
DTSTAMP:20260426T034849Z
CREATED:20260426T034849Z
DTSTART:20250426T021500Z
DTEND:20250426T031500Z
LOCATION:Field 2
CONTACT:
SUMMARY:Los Borrachos VS. Bat  Boujee
DESCRIPTION:League Name: 2025 S2 Fri Coed Rec 2- April 11\nGame Type: Regul
 ar\nGame Status: Complete\nHome Team: Los Borrachos\nAway Team: Bat  Bouje
 e\nHome Score: 7\nAway Score: 22
END:VEVENT
BEGIN:VEVENT
UID:16359454@ezleagues.ezfacility.com
DTSTAMP:20260426T034849Z
CREATED:20260426T034849Z
DTSTART:20250426T031500Z
DTEND:20250426T041500Z
LOCATION:Field 2
CONTACT:
SUMMARY:Bat  Boujee VS. Sonoran Sidewinders
DESCRIPTION:League Name: 2025 S2 Fri Coed Rec 2- April 11\nGame Type: Regul
 ar\nGame Status: Complete\nHome Team: Bat  Boujee\nAway Team: Sonoran Side
 winders\nHome Score: 15\nAway Score: 6
END:VEVENT
BEGIN:VEVENT
UID:16359461@ezleagues.ezfacility.com
DTSTAMP:20260426T034849Z
CREATED:20260426T034849Z
DTSTART:20250503T031500Z
DTEND:20250503T041500Z
LOCATION:Field 1
CONTACT:
SUMMARY:Bat  Boujee VS. Quit Pitchin
DESCRIPTION:League Name: 2025 S2 Fri Coed Rec 2- April 11\nGame Type: Regul
 ar\nGame Status: Complete\nHome Team: Bat  Boujee\nAway Team: Quit Pitchin
 \nHome Score: 16\nAway Score: 5
END:VEVENT
BEGIN:VEVENT
UID:16359463@ezleagues.ezfacility.com
DTSTAMP:20260426T034849Z
CREATED:20260426T034849Z
DTSTART:20250503T051500Z
DTEND:20250503T061500Z
LOCATION:Field 1
CONTACT:
SUMMARY:The Duct Dynasty VS. Bat  Boujee
DESCRIPTION:League Name: 2025 S2 Fri Coed Rec 2- April 11\nGame Type: Regul
 ar\nGame Status: Complete\nHome Team: The Duct Dynasty\nAway Team: Bat  Bo
 ujee\nHome Score: 8\nAway Score: 10
END:VEVENT
BEGIN:VEVENT
UID:16359469@ezleagues.ezfacility.com
DTSTAMP:20260426T034849Z
CREATED:20260426T034849Z
DTSTART:20250510T011500Z
DTEND:20250510T021500Z
LOCATION:Field 4
CONTACT:
SUMMARY:Quit Pitchin VS. Bat  Boujee
DESCRIPTION:League Name: 2025 S2 Fri Coed Rec 2- April 11\nGame Type: Regul
 ar\nGame Status: Complete\nHome Team: Quit Pitchin\nAway Team: Bat  Boujee
 \nHome Score: 7\nAway Score: 12
END:VEVENT
BEGIN:VEVENT
UID:16359470@ezleagues.ezfacility.com
DTSTAMP:20260426T034849Z
CREATED:20260426T034849Z
DTSTART:20250510T021500Z
DTEND:20250510T031500Z
LOCATION:Field 4
CONTACT:
SUMMARY:Bat  Boujee VS. Quit Pitchin
DESCRIPTION:League Name: 2025 S2 Fri Coed Rec 2- April 11\nGame Type: Regul
 ar\nGame Status: Complete\nHome Team: Bat  Boujee\nAway Team: Quit Pitchin
 \nHome Score: 2\nAway Score: 8
END:VEVENT
BEGIN:VEVENT
UID:16359478@ezleagues.ezfacility.com
DTSTAMP:20260426T034849Z
CREATED:20260426T034849Z
DTSTART:20250517T031500Z
DTEND:20250517T041500Z
LOCATION:Field 6
CONTACT:
SUMMARY:Pitch Hounds VS. Bat  Boujee
DESCRIPTION:League Name: 2025 S2 Fri Coed Rec 2- April 11\nGame Type: Regul
 ar\nGame Status: Complete\nHome Team: Pitch Hounds\nAway Team: Bat  Boujee
 \nHome Score: 15\nAway Score: 4
END:VEVENT
BEGIN:VEVENT
UID:16359479@ezleagues.ezfacility.com
DTSTAMP:20260426T034849Z
CREATED:20260426T034849Z
DTSTART:20250517T041500Z
DTEND:20250517T051500Z
LOCATION:Field 6
CONTACT:
SUMMARY:Bat  Boujee VS. Pitch Hounds
DESCRIPTION:League Name: 2025 S2 Fri Coed Rec 2- April 11\nGame Type: Regul
 ar\nGame Status: Complete\nHome Team: Bat  Boujee\nAway Team: Pitch Hounds
 \nHome Score: 5\nAway Score: 15
END:VEVENT
BEGIN:VEVENT
UID:16359485@ezleagues.ezfacility.com
DTSTAMP:20260426T034849Z
CREATED:20260426T034849Z
DTSTART:20250524T031500Z
DTEND:20250524T041500Z
LOCATION:Field 4
CONTACT:
SUMMARY:Cleats and Cleavage VS. Bat  Boujee
DESCRIPTION:League Name: 2025 S2 Fri Coed Rec 2- April 11\nGame Type: Regul
 ar\nGame Status: Complete\nHome Team: Cleats and Cleavage\nAway Team: Bat 
  Boujee\nHome Score: 20\nAway Score: 5
END:VEVENT
BEGIN:VEVENT
UID:16359486@ezleagues.ezfacility.com
DTSTAMP:20260426T034849Z
CREATED:20260426T034849Z
DTSTART:20250524T041500Z
DTEND:20250524T051500Z
LOCATION:Field 4
CONTACT:
SUMMARY:Bat  Boujee VS. Cleats and Cleavage
DESCRIPTION:League Name: 2025 S2 Fri Coed Rec 2- April 11\nGame Type: Regul
 ar\nGame Status: Complete\nHome Team: Bat  Boujee\nAway Team: Cleats and C
 leavage\nHome Score: 18\nAway Score: 9
END:VEVENT
BEGIN:VEVENT
UID:16359445@ezleagues.ezfacility.com
DTSTAMP:20260426T034849Z
CREATED:20260426T034849Z
DTSTART:20250531T031500Z
DTEND:20250531T041500Z
LOCATION:Field 1
CONTACT:
SUMMARY:Pitch Hounds VS. Bat  Boujee
DESCRIPTION:League Name: 2025 S2 Fri Coed Rec 2- April 11\nGame Type: Regul
 ar\nGame Status: Complete\nHome Team: Pitch Hounds\nAway Team: Bat  Boujee
 \nHome Score: 15\nAway Score: 0
END:VEVENT
BEGIN:VEVENT
UID:16359446@ezleagues.ezfacility.com
DTSTAMP:20260426T034849Z
CREATED:20260426T034849Z
DTSTART:20250531T041500Z
DTEND:20250531T051500Z
LOCATION:Field 1
CONTACT:
SUMMARY:Bat  Boujee VS. Sonoran Sidewinders
DESCRIPTION:League Name: 2025 S2 Fri Coed Rec 2- April 11\nGame Type: Regul
 ar\nGame Status: Complete\nHome Team: Bat  Boujee\nAway Team: Sonoran Side
 winders\nHome Score: 24\nAway Score: 5
END:VEVENT
BEGIN:VEVENT
UID:16485072@ezleagues.ezfacility.com
DTSTAMP:20260426T034849Z
CREATED:20260426T034849Z
DTSTART:20250607T011500Z
DTEND:20250607T021500Z
LOCATION:Field 3
CONTACT:
SUMMARY:Cleats and Cleavage VS. Bat  Boujee
DESCRIPTION:League Name: 2025 S2 Fri Coed Rec 2- April 11\nGame Type: Posts
 eason\nGame Status: Complete\nHome Team: Cleats and Cleavage\nAway Team: B
 at  Boujee\nHome Score: 17\nAway Score: 18
END:VEVENT
END:VCALENDAR
