BEGIN:VCALENDAR
VERSION:2.0
PRODID:-//EZFacility.com, Inc.//EZL 2.5.5.28621
BEGIN:VEVENT
UID:16359443@ezleagues.ezfacility.com
DTSTAMP:20260422T223426Z
CREATED:20260422T223426Z
DTSTART:20250412T011500Z
DTEND:20250412T021500Z
LOCATION:Field 6
CONTACT:
SUMMARY:Pitch Hounds VS. Quit Pitchin
DESCRIPTION:League Name: 2025 S2 Fri Coed Rec 2- April 11\nGame Type: Regul
 ar\nGame Status: Complete\nHome Team: Pitch Hounds\nAway Team: Quit Pitchi
 n\nHome Score: 14\nAway Score: 8
END:VEVENT
BEGIN:VEVENT
UID:16359444@ezleagues.ezfacility.com
DTSTAMP:20260422T223426Z
CREATED:20260422T223426Z
DTSTART:20250412T021500Z
DTEND:20250412T031500Z
LOCATION:Field 6
CONTACT:
SUMMARY:Quit Pitchin VS. Pitch Hounds
DESCRIPTION:League Name: 2025 S2 Fri Coed Rec 2- April 11\nGame Type: Regul
 ar\nGame Status: Complete\nHome Team: Quit Pitchin\nAway Team: Pitch Hound
 s\nHome Score: 3\nAway Score: 13
END:VEVENT
BEGIN:VEVENT
UID:16359457@ezleagues.ezfacility.com
DTSTAMP:20260422T223426Z
CREATED:20260422T223426Z
DTSTART:20250426T031500Z
DTEND:20250426T041500Z
LOCATION:Field 6
CONTACT:
SUMMARY:The Duct Dynasty VS. Quit Pitchin
DESCRIPTION:League Name: 2025 S2 Fri Coed Rec 2- April 11\nGame Type: Regul
 ar\nGame Status: Complete\nHome Team: The Duct Dynasty\nAway Team: Quit Pi
 tchin\nHome Score: 13\nAway Score: 20
END:VEVENT
BEGIN:VEVENT
UID:16359458@ezleagues.ezfacility.com
DTSTAMP:20260422T223426Z
CREATED:20260422T223426Z
DTSTART:20250426T041500Z
DTEND:20250426T051500Z
LOCATION:Field 6
CONTACT:
SUMMARY:Quit Pitchin VS. The Duct Dynasty
DESCRIPTION:League Name: 2025 S2 Fri Coed Rec 2- April 11\nGame Type: Regul
 ar\nGame Status: Complete\nHome Team: Quit Pitchin\nAway Team: The Duct Dy
 nasty\nHome Score: 12\nAway Score: 5
END:VEVENT
BEGIN:VEVENT
UID:16359461@ezleagues.ezfacility.com
DTSTAMP:20260422T223426Z
CREATED:20260422T223426Z
DTSTART:20250503T031500Z
DTEND:20250503T041500Z
LOCATION:Field 1
CONTACT:
SUMMARY:Bat  Boujee VS. Quit Pitchin
DESCRIPTION:League Name: 2025 S2 Fri Coed Rec 2- April 11\nGame Type: Regul
 ar\nGame Status: Complete\nHome Team: Bat  Boujee\nAway Team: Quit Pitchin
 \nHome Score: 16\nAway Score: 5
END:VEVENT
BEGIN:VEVENT
UID:16359462@ezleagues.ezfacility.com
DTSTAMP:20260422T223426Z
CREATED:20260422T223426Z
DTSTART:20250503T041500Z
DTEND:20250503T051500Z
LOCATION:Field 1
CONTACT:
SUMMARY:Quit Pitchin VS. The Duct Dynasty
DESCRIPTION:League Name: 2025 S2 Fri Coed Rec 2- April 11\nGame Type: Regul
 ar\nGame Status: Complete\nHome Team: Quit Pitchin\nAway Team: The Duct Dy
 nasty\nHome Score: 7\nAway Score: 5
END:VEVENT
BEGIN:VEVENT
UID:16359469@ezleagues.ezfacility.com
DTSTAMP:20260422T223426Z
CREATED:20260422T223426Z
DTSTART:20250510T011500Z
DTEND:20250510T021500Z
LOCATION:Field 4
CONTACT:
SUMMARY:Quit Pitchin VS. Bat  Boujee
DESCRIPTION:League Name: 2025 S2 Fri Coed Rec 2- April 11\nGame Type: Regul
 ar\nGame Status: Complete\nHome Team: Quit Pitchin\nAway Team: Bat  Boujee
 \nHome Score: 7\nAway Score: 12
END:VEVENT
BEGIN:VEVENT
UID:16359470@ezleagues.ezfacility.com
DTSTAMP:20260422T223426Z
CREATED:20260422T223426Z
DTSTART:20250510T021500Z
DTEND:20250510T031500Z
LOCATION:Field 4
CONTACT:
SUMMARY:Bat  Boujee VS. Quit Pitchin
DESCRIPTION:League Name: 2025 S2 Fri Coed Rec 2- April 11\nGame Type: Regul
 ar\nGame Status: Complete\nHome Team: Bat  Boujee\nAway Team: Quit Pitchin
 \nHome Score: 2\nAway Score: 8
END:VEVENT
BEGIN:VEVENT
UID:16359473@ezleagues.ezfacility.com
DTSTAMP:20260422T223426Z
CREATED:20260422T223426Z
DTSTART:20250517T011500Z
DTEND:20250517T021500Z
LOCATION:Field 2
CONTACT:
SUMMARY:The Duct Dynasty VS. Quit Pitchin
DESCRIPTION:League Name: 2025 S2 Fri Coed Rec 2- April 11\nGame Type: Regul
 ar\nGame Status: Complete\nHome Team: The Duct Dynasty\nAway Team: Quit Pi
 tchin\nHome Score: 11\nAway Score: 10
END:VEVENT
BEGIN:VEVENT
UID:16359474@ezleagues.ezfacility.com
DTSTAMP:20260422T223426Z
CREATED:20260422T223426Z
DTSTART:20250517T021500Z
DTEND:20250517T031500Z
LOCATION:Field 2
CONTACT:
SUMMARY:Quit Pitchin VS. Cleats and Cleavage
DESCRIPTION:League Name: 2025 S2 Fri Coed Rec 2- April 11\nGame Type: Regul
 ar\nGame Status: Complete\nHome Team: Quit Pitchin\nAway Team: Cleats and 
 Cleavage\nHome Score: 8\nAway Score: 17
END:VEVENT
BEGIN:VEVENT
UID:16359480@ezleagues.ezfacility.com
DTSTAMP:20260422T223426Z
CREATED:20260422T223426Z
DTSTART:20250524T011500Z
DTEND:20250524T021500Z
LOCATION:Field 1
CONTACT:
SUMMARY:Quit Pitchin VS. Sonoran Sidewinders
DESCRIPTION:League Name: 2025 S2 Fri Coed Rec 2- April 11\nGame Type: Regul
 ar\nGame Status: Complete\nHome Team: Quit Pitchin\nAway Team: Sonoran Sid
 ewinders\nHome Score: 9\nAway Score: 18
END:VEVENT
BEGIN:VEVENT
UID:16359482@ezleagues.ezfacility.com
DTSTAMP:20260422T223426Z
CREATED:20260422T223426Z
DTSTART:20250524T031500Z
DTEND:20250524T041500Z
LOCATION:Field 1
CONTACT:
SUMMARY:Los Borrachos VS. Quit Pitchin
DESCRIPTION:League Name: 2025 S2 Fri Coed Rec 2- April 11\nGame Type: Regul
 ar\nGame Status: Complete\nHome Team: Los Borrachos\nAway Team: Quit Pitch
 in\nHome Score: 0\nAway Score: 10
END:VEVENT
BEGIN:VEVENT
UID:16359450@ezleagues.ezfacility.com
DTSTAMP:20260422T223426Z
CREATED:20260422T223426Z
DTSTART:20250531T031500Z
DTEND:20250531T041500Z
LOCATION:Field 5
CONTACT:
SUMMARY:Cleats and Cleavage VS. Quit Pitchin
DESCRIPTION:League Name: 2025 S2 Fri Coed Rec 2- April 11\nGame Type: Regul
 ar\nGame Status: Complete\nHome Team: Cleats and Cleavage\nAway Team: Quit
  Pitchin\nHome Score: 16\nAway Score: 3
END:VEVENT
BEGIN:VEVENT
UID:16359451@ezleagues.ezfacility.com
DTSTAMP:20260422T223426Z
CREATED:20260422T223426Z
DTSTART:20250531T041500Z
DTEND:20250531T051500Z
LOCATION:Field 5
CONTACT:
SUMMARY:Quit Pitchin VS. Cleats and Cleavage
DESCRIPTION:League Name: 2025 S2 Fri Coed Rec 2- April 11\nGame Type: Regul
 ar\nGame Status: Complete\nHome Team: Quit Pitchin\nAway Team: Cleats and 
 Cleavage\nHome Score: 5\nAway Score: 11
END:VEVENT
BEGIN:VEVENT
UID:16485076@ezleagues.ezfacility.com
DTSTAMP:20260422T223426Z
CREATED:20260422T223426Z
DTSTART:20250607T031500Z
DTEND:20250607T041500Z
LOCATION:Field 3
CONTACT:
SUMMARY:Quit Pitchin VS. Los Borrachos
DESCRIPTION:League Name: 2025 S2 Fri Coed Rec 2- April 11\nGame Type: Posts
 eason\nGame Status: Complete\nHome Team: Quit Pitchin\nAway Team: Los Borr
 achos\nHome Score: 5\nAway Score: 12
END:VEVENT
BEGIN:VEVENT
UID:16485077@ezleagues.ezfacility.com
DTSTAMP:20260422T223426Z
CREATED:20260422T223426Z
DTSTART:20250607T041500Z
DTEND:20250607T051500Z
LOCATION:Field 3
CONTACT:
SUMMARY:Los Borrachos VS. Quit Pitchin
DESCRIPTION:League Name: 2025 S2 Fri Coed Rec 2- April 11\nGame Type: Posts
 eason\nGame Status: Complete\nHome Team: Los Borrachos\nAway Team: Quit Pi
 tchin\nHome Score: 11\nAway Score: 3
END:VEVENT
END:VCALENDAR
