BEGIN:VCALENDAR
VERSION:2.0
PRODID:-//EZFacility.com, Inc.//EZL 2.5.5.28621
BEGIN:VEVENT
UID:16363791@ezleagues.ezfacility.com
DTSTAMP:20260424T135112Z
CREATED:20260424T135112Z
DTSTART:20250402T171500Z
DTEND:20250402T175500Z
LOCATION:Hull - Pitch 7
CONTACT:
SUMMARY:BARRONS FC VS. BILTON FC
DESCRIPTION:League Name: WEDNESDAY NIGHT 7-A-SIDE LEAGUE(NEW)2025\nGame Typ
 e: Regular\nGame Status: Complete\nHome Team: BARRONS FC\nAway Team: BILTO
 N FC\nHome Score: 2\nAway Score: 10
END:VEVENT
BEGIN:VEVENT
UID:16363787@ezleagues.ezfacility.com
DTSTAMP:20260424T135112Z
CREATED:20260424T135112Z
DTSTART:20250409T180000Z
DTEND:20250409T184000Z
LOCATION:Hull - Pitch 7
CONTACT:
SUMMARY:BILTON FC VS. MATTS LEGENDS
DESCRIPTION:League Name: WEDNESDAY NIGHT 7-A-SIDE LEAGUE(NEW)2025\nGame Typ
 e: Regular\nGame Status: Complete\nHome Team: BILTON FC\nAway Team: MATTS 
 LEGENDS\nHome Score: 3\nAway Score: 8
END:VEVENT
BEGIN:VEVENT
UID:16363784@ezleagues.ezfacility.com
DTSTAMP:20260424T135112Z
CREATED:20260424T135112Z
DTSTART:20250416T183000Z
DTEND:20250416T191000Z
LOCATION:Hull - Pitch 7
CONTACT:
SUMMARY:DUSTY YUTES VS. BILTON FC
DESCRIPTION:League Name: WEDNESDAY NIGHT 7-A-SIDE LEAGUE(NEW)2025\nGame Typ
 e: Regular\nGame Status: Complete\nHome Team: DUSTY YUTES\nAway Team: BILT
 ON FC\nHome Score: 7\nAway Score: 9
END:VEVENT
BEGIN:VEVENT
UID:16363780@ezleagues.ezfacility.com
DTSTAMP:20260424T135112Z
CREATED:20260424T135112Z
DTSTART:20250423T190000Z
DTEND:20250423T194000Z
LOCATION:Hull - Pitch 7
CONTACT:
SUMMARY:JOHNS TEAM VS. BILTON FC
DESCRIPTION:League Name: WEDNESDAY NIGHT 7-A-SIDE LEAGUE(NEW)2025\nGame Typ
 e: Regular\nGame Status: Complete\nHome Team: JOHNS TEAM\nAway Team: BILTO
 N FC\nHome Score: 10\nAway Score: 5
END:VEVENT
BEGIN:VEVENT
UID:16363799@ezleagues.ezfacility.com
DTSTAMP:20260424T135112Z
CREATED:20260424T135112Z
DTSTART:20250430T190000Z
DTEND:20250430T194000Z
LOCATION:Hull - Pitch 7
CONTACT:
SUMMARY:BILTON FC VS. DUSTY YUTES
DESCRIPTION:League Name: WEDNESDAY NIGHT 7-A-SIDE LEAGUE(NEW)2025\nGame Typ
 e: Regular\nGame Status: Pending\nHome Team: BILTON FC\nAway Team: DUSTY Y
 UTES\n
END:VEVENT
BEGIN:VEVENT
UID:16363806@ezleagues.ezfacility.com
DTSTAMP:20260424T135112Z
CREATED:20260424T135112Z
DTSTART:20250430T191500Z
DTEND:20250430T195500Z
LOCATION:Hull - Pitch 7
CONTACT:
SUMMARY:BILTON FC VS. BARRONS FC
DESCRIPTION:League Name: WEDNESDAY NIGHT 7-A-SIDE LEAGUE(NEW)2025\nGame Typ
 e: Regular\nGame Status: Complete\nHome Team: BILTON FC\nAway Team: BARRON
 S FC\nHome Score: 3\nAway Score: 10
END:VEVENT
BEGIN:VEVENT
UID:16418833@ezleagues.ezfacility.com
DTSTAMP:20260424T135112Z
CREATED:20260424T135112Z
DTSTART:20250506T180000Z
DTEND:20250506T184000Z
LOCATION:Hull - Pitch 7
CONTACT:
SUMMARY:DUSTY YUTES VS. BILTON FC
DESCRIPTION:League Name: WEDNESDAY NIGHT 7-A-SIDE LEAGUE(NEW)2025\nGame Typ
 e: Regular\nGame Status: Complete\nHome Team: DUSTY YUTES\nAway Team: BILT
 ON FC\nHome Score: 6\nAway Score: 2
END:VEVENT
BEGIN:VEVENT
UID:16363795@ezleagues.ezfacility.com
DTSTAMP:20260424T135112Z
CREATED:20260424T135112Z
DTSTART:20250507T184500Z
DTEND:20250507T192500Z
LOCATION:Hull - Pitch 7
CONTACT:
SUMMARY:BILTON FC VS. JOHNS TEAM
DESCRIPTION:League Name: WEDNESDAY NIGHT 7-A-SIDE LEAGUE(NEW)2025\nGame Typ
 e: Regular\nGame Status: Pending\nHome Team: BILTON FC\nAway Team: JOHNS T
 EAM\n
END:VEVENT
BEGIN:VEVENT
UID:16363802@ezleagues.ezfacility.com
DTSTAMP:20260424T135112Z
CREATED:20260424T135112Z
DTSTART:20250507T191500Z
DTEND:20250507T195500Z
LOCATION:Hull - Pitch 7
CONTACT:
SUMMARY:MATTS LEGENDS VS. BILTON FC
DESCRIPTION:League Name: WEDNESDAY NIGHT 7-A-SIDE LEAGUE(NEW)2025\nGame Typ
 e: Regular\nGame Status: Pending\nHome Team: MATTS LEGENDS\nAway Team: BIL
 TON FC\n
END:VEVENT
BEGIN:VEVENT
UID:16363789@ezleagues.ezfacility.com
DTSTAMP:20260424T135112Z
CREATED:20260424T135112Z
DTSTART:20250514T171500Z
DTEND:20250514T175500Z
LOCATION:Hull - Pitch 7
CONTACT:
SUMMARY:BILTON FC VS. EASTSIDE FC
DESCRIPTION:League Name: WEDNESDAY NIGHT 7-A-SIDE LEAGUE(NEW)2025\nGame Typ
 e: Regular\nGame Status: Pending\nHome Team: BILTON FC\nAway Team: EASTSID
 E FC\n
END:VEVENT
BEGIN:VEVENT
UID:16489623@ezleagues.ezfacility.com
DTSTAMP:20260424T135112Z
CREATED:20260424T135112Z
DTSTART:20250611T123000Z
DTEND:20250611T131000Z
LOCATION:Hull - Pitch 7
CONTACT:
SUMMARY:KIERANS TEAM VS. BILTON FC
DESCRIPTION:League Name: WEDNESDAY NIGHT 7-A-SIDE LEAGUE(NEW)2025\nGame Typ
 e: Regular\nGame Status: Complete\nHome Team: KIERANS TEAM\nAway Team: BIL
 TON FC\nHome Score: 12\nAway Score: 0
END:VEVENT
END:VCALENDAR
