BEGIN:VCALENDAR
VERSION:2.0
PRODID:-//EZFacility.com, Inc.//EZL 2.5.5.28621
BEGIN:VEVENT
UID:16376707@ezleagues.ezfacility.com
DTSTAMP:20260425T132653Z
CREATED:20260425T132653Z
DTSTART:20250423T035000Z
DTEND:20250423T045000Z
LOCATION:RCF East - Barcelona
CONTACT:
SUMMARY:The Futsycats VS. The Bad Mamas
DESCRIPTION:League Name: RCF East Spring AL 2025 -East Weekday (M/T/W/Th/F)
 -Women's D5 (T/F)\nGame Type: Regular\nGame Status: Complete\nHome Team: T
 he Futsycats\nAway Team: The Bad Mamas\nHome Score: 1\nAway Score: 8
END:VEVENT
BEGIN:VEVENT
UID:16376740@ezleagues.ezfacility.com
DTSTAMP:20260425T132653Z
CREATED:20260425T132653Z
DTSTART:20250507T021000Z
DTEND:20250507T031000Z
LOCATION:RCF East - Portland
CONTACT:
SUMMARY:The Bad Mamas VS. The Fossils
DESCRIPTION:League Name: RCF East Spring AL 2025 -East Weekday (M/T/W/Th/F)
 -Women's D5 (T/F)\nGame Type: Regular\nGame Status: Complete\nHome Team: T
 he Bad Mamas\nAway Team: The Fossils\nHome Score: 1\nAway Score: 7
END:VEVENT
BEGIN:VEVENT
UID:16376756@ezleagues.ezfacility.com
DTSTAMP:20260425T132653Z
CREATED:20260425T132653Z
DTSTART:20250514T031000Z
DTEND:20250514T041000Z
LOCATION:RCF East - Portland
CONTACT:
SUMMARY:FernCully FC VS. The Bad Mamas
DESCRIPTION:League Name: RCF East Spring AL 2025 -East Weekday (M/T/W/Th/F)
 -Women's D5 (T/F)\nGame Type: Regular\nGame Status: Complete\nHome Team: F
 ernCully FC\nAway Team: The Bad Mamas\nHome Score: 2\nAway Score: 3
END:VEVENT
BEGIN:VEVENT
UID:16376774@ezleagues.ezfacility.com
DTSTAMP:20260425T132653Z
CREATED:20260425T132653Z
DTSTART:20250524T023000Z
DTEND:20250524T033000Z
LOCATION:RCF East - Rio
CONTACT:
SUMMARY:The Bad Mamas VS. Smash the Patriarchy
DESCRIPTION:League Name: RCF East Spring AL 2025 -East Weekday (M/T/W/Th/F)
 -Women's D5 (T/F)\nGame Type: Regular\nGame Status: Complete\nHome Team: T
 he Bad Mamas\nAway Team: Smash the Patriarchy\nHome Score: 6\nAway Score: 
 5
END:VEVENT
BEGIN:VEVENT
UID:16376792@ezleagues.ezfacility.com
DTSTAMP:20260425T132653Z
CREATED:20260425T132653Z
DTSTART:20250528T035000Z
DTEND:20250528T045000Z
LOCATION:RCF East - Barcelona
CONTACT:
SUMMARY:The Bad Mamas VS. The Futsycats
DESCRIPTION:League Name: RCF East Spring AL 2025 -East Weekday (M/T/W/Th/F)
 -Women's D5 (T/F)\nGame Type: Regular\nGame Status: Complete\nHome Team: T
 he Bad Mamas\nAway Team: The Futsycats\nHome Score: 4\nAway Score: 7
END:VEVENT
BEGIN:VEVENT
UID:16376724@ezleagues.ezfacility.com
DTSTAMP:20260425T132653Z
CREATED:20260425T132653Z
DTSTART:20250531T025000Z
DTEND:20250531T035000Z
LOCATION:RCF East - Barcelona
CONTACT:
SUMMARY:The Bad Mamas VS. Fruitsal United
DESCRIPTION:League Name: RCF East Spring AL 2025 -East Weekday (M/T/W/Th/F)
 -Women's D5 (T/F)\nGame Type: Regular\nGame Status: Complete\nHome Team: T
 he Bad Mamas\nAway Team: Fruitsal United\nHome Score: 1\nAway Score: 3
END:VEVENT
BEGIN:VEVENT
UID:16376810@ezleagues.ezfacility.com
DTSTAMP:20260425T132653Z
CREATED:20260425T132653Z
DTSTART:20250607T025000Z
DTEND:20250607T035000Z
LOCATION:RCF East - Barcelona
CONTACT:
SUMMARY:Fruitsal United VS. The Bad Mamas
DESCRIPTION:League Name: RCF East Spring AL 2025 -East Weekday (M/T/W/Th/F)
 -Women's D5 (T/F)\nGame Type: Regular\nGame Status: Complete\nHome Team: F
 ruitsal United\nAway Team: The Bad Mamas\nHome Score: 9\nAway Score: 3
END:VEVENT
BEGIN:VEVENT
UID:16376827@ezleagues.ezfacility.com
DTSTAMP:20260425T132653Z
CREATED:20260425T132653Z
DTSTART:20250611T035000Z
DTEND:20250611T045000Z
LOCATION:RCF East - Barcelona
CONTACT:
SUMMARY:The Fossils VS. The Bad Mamas
DESCRIPTION:League Name: RCF East Spring AL 2025 -East Weekday (M/T/W/Th/F)
 -Women's D5 (T/F)\nGame Type: Regular\nGame Status: Complete\nHome Team: T
 he Fossils\nAway Team: The Bad Mamas\nHome Score: 5\nAway Score: 3
END:VEVENT
BEGIN:VEVENT
UID:16380425@ezleagues.ezfacility.com
DTSTAMP:20260425T132653Z
CREATED:20260425T132653Z
DTSTART:20250618T023000Z
DTEND:20250618T033000Z
LOCATION:RCF East - Rio
CONTACT:
SUMMARY:The Bad Mamas VS. The Futsycats
DESCRIPTION:League Name: RCF East Spring AL 2025 -East Weekday (M/T/W/Th/F)
 -Women's D5 (T/F)\nGame Type: Regular\nGame Status: Complete\nHome Team: T
 he Bad Mamas\nAway Team: The Futsycats\nHome Score: 6\nAway Score: 6
END:VEVENT
BEGIN:VEVENT
UID:16380442@ezleagues.ezfacility.com
DTSTAMP:20260425T132653Z
CREATED:20260425T132653Z
DTSTART:20250628T025000Z
DTEND:20250628T035000Z
LOCATION:RCF East - Barcelona
CONTACT:
SUMMARY:Fruitsal United VS. The Bad Mamas
DESCRIPTION:League Name: RCF East Spring AL 2025 -East Weekday (M/T/W/Th/F)
 -Women's D5 (T/F)\nGame Type: Regular\nGame Status: Complete\nHome Team: F
 ruitsal United\nAway Team: The Bad Mamas\nHome Score: 8\nAway Score: 1
END:VEVENT
END:VCALENDAR
