BEGIN:VCALENDAR
VERSION:2.0
PRODID:-//EZFacility.com, Inc.//EZL 2.5.5.28621
BEGIN:VEVENT
UID:16377479@ezleagues.ezfacility.com
DTSTAMP:20260424T165546Z
CREATED:20260424T165546Z
DTSTART:20250426T201000Z
DTEND:20250426T211000Z
LOCATION:RCF East - Portland
CONTACT:
SUMMARY:Awful Ibis VS. Boca Seniors
DESCRIPTION:League Name: RCF East Spring AL 2025 -East Weekend (S/S)-Men's 
 D4 (S/S)\nGame Type: Regular\nGame Status: Complete\nHome Team: Awful Ibis
 \nAway Team: Boca Seniors\nHome Score: 6\nAway Score: 4
END:VEVENT
BEGIN:VEVENT
UID:16377490@ezleagues.ezfacility.com
DTSTAMP:20260424T165546Z
CREATED:20260424T165546Z
DTSTART:20250503T213000Z
DTEND:20250503T223000Z
LOCATION:RCF East - Rio
CONTACT:
SUMMARY:Awful Ibis VS. Quardians Futsal
DESCRIPTION:League Name: RCF East Spring AL 2025 -East Weekend (S/S)-Men's 
 D4 (S/S)\nGame Type: Regular\nGame Status: Complete\nHome Team: Awful Ibis
 \nAway Team: Quardians Futsal\nHome Score: 8\nAway Score: 6
END:VEVENT
BEGIN:VEVENT
UID:16377501@ezleagues.ezfacility.com
DTSTAMP:20260424T165546Z
CREATED:20260424T165546Z
DTSTART:20250510T213000Z
DTEND:20250510T223000Z
LOCATION:RCF East - Rio
CONTACT:
SUMMARY:Awful Ibis VS. Los Lads
DESCRIPTION:League Name: RCF East Spring AL 2025 -East Weekend (S/S)-Men's 
 D4 (S/S)\nGame Type: Regular\nGame Status: Complete\nHome Team: Awful Ibis
 \nAway Team: Los Lads\nHome Score: 5\nAway Score: 3
END:VEVENT
BEGIN:VEVENT
UID:16377523@ezleagues.ezfacility.com
DTSTAMP:20260424T165546Z
CREATED:20260424T165546Z
DTSTART:20250512T001000Z
DTEND:20250512T011000Z
LOCATION:RCF East - Portland
CONTACT:
SUMMARY:Vancouver Futsal Academy VS. Awful Ibis
DESCRIPTION:League Name: RCF East Spring AL 2025 -East Weekend (S/S)-Men's 
 D4 (S/S)\nGame Type: Regular\nGame Status: Complete\nHome Team: Vancouver 
 Futsal Academy\nAway Team: Awful Ibis\nHome Score: 5\nAway Score: 1
END:VEVENT
BEGIN:VEVENT
UID:16377512@ezleagues.ezfacility.com
DTSTAMP:20260424T165546Z
CREATED:20260424T165546Z
DTSTART:20250518T001000Z
DTEND:20250518T011000Z
LOCATION:RCF East - Portland
CONTACT:
SUMMARY:Awful Ibis VS. The Wolverines
DESCRIPTION:League Name: RCF East Spring AL 2025 -East Weekend (S/S)-Men's 
 D4 (S/S)\nGame Type: Regular\nGame Status: Complete\nHome Team: Awful Ibis
 \nAway Team: The Wolverines\nHome Score: 6\nAway Score: 11
END:VEVENT
BEGIN:VEVENT
UID:16377534@ezleagues.ezfacility.com
DTSTAMP:20260424T165546Z
CREATED:20260424T165546Z
DTSTART:20250601T201000Z
DTEND:20250601T211000Z
LOCATION:RCF East - Portland
CONTACT:
SUMMARY:Real So So Bad VS. Awful Ibis
DESCRIPTION:League Name: RCF East Spring AL 2025 -East Weekend (S/S)-Men's 
 D4 (S/S)\nGame Type: Regular\nGame Status: Complete\nHome Team: Real So So
  Bad\nAway Team: Awful Ibis\nHome Score: 10\nAway Score: 7
END:VEVENT
BEGIN:VEVENT
UID:16377545@ezleagues.ezfacility.com
DTSTAMP:20260424T165546Z
CREATED:20260424T165546Z
DTSTART:20250607T193000Z
DTEND:20250607T203000Z
LOCATION:RCF East - Rio
CONTACT:
SUMMARY:FC fuego VS. Awful Ibis
DESCRIPTION:League Name: RCF East Spring AL 2025 -East Weekend (S/S)-Men's 
 D4 (S/S)\nGame Type: Regular\nGame Status: Complete\nHome Team: FC fuego\n
 Away Team: Awful Ibis\nHome Score: 5\nAway Score: 8
END:VEVENT
BEGIN:VEVENT
UID:16377556@ezleagues.ezfacility.com
DTSTAMP:20260424T165546Z
CREATED:20260424T165546Z
DTSTART:20250615T193000Z
DTEND:20250615T203000Z
LOCATION:RCF East - Rio
CONTACT:
SUMMARY:Book Club FC VS. Awful Ibis
DESCRIPTION:League Name: RCF East Spring AL 2025 -East Weekend (S/S)-Men's 
 D4 (S/S)\nGame Type: Regular\nGame Status: Complete\nHome Team: Book Club 
 FC\nAway Team: Awful Ibis\nHome Score: 5\nAway Score: 6
END:VEVENT
BEGIN:VEVENT
UID:16380575@ezleagues.ezfacility.com
DTSTAMP:20260424T165546Z
CREATED:20260424T165546Z
DTSTART:20250621T191000Z
DTEND:20250621T201000Z
LOCATION:RCF East - Portland
CONTACT:
SUMMARY:Awful Ibis VS. Baja Blast FC
DESCRIPTION:League Name: RCF East Spring AL 2025 -East Weekend (S/S)-Men's 
 D4 (S/S)\nGame Type: Regular\nGame Status: Complete\nHome Team: Awful Ibis
 \nAway Team: Baja Blast FC\nHome Score: 8\nAway Score: 10
END:VEVENT
BEGIN:VEVENT
UID:16380586@ezleagues.ezfacility.com
DTSTAMP:20260424T165546Z
CREATED:20260424T165546Z
DTSTART:20250628T191000Z
DTEND:20250628T201000Z
LOCATION:RCF East - Portland
CONTACT:
SUMMARY:Eastside Misfits VS. Awful Ibis
DESCRIPTION:League Name: RCF East Spring AL 2025 -East Weekend (S/S)-Men's 
 D4 (S/S)\nGame Type: Regular\nGame Status: Complete\nHome Team: Eastside M
 isfits\nAway Team: Awful Ibis\nHome Score: 3\nAway Score: 10
END:VEVENT
END:VCALENDAR
