BEGIN:VCALENDAR
VERSION:2.0
PRODID:-//EZFacility.com, Inc.//EZL 2.5.5.28621
BEGIN:VEVENT
UID:16377483@ezleagues.ezfacility.com
DTSTAMP:20260425T000157Z
CREATED:20260425T000157Z
DTSTART:20250426T213000Z
DTEND:20250426T223000Z
LOCATION:RCF East - Rio
CONTACT:
SUMMARY:Real So So Bad VS. Vancouver Futsal Academy
DESCRIPTION:League Name: RCF East Spring AL 2025 -East Weekend (S/S)-Men's 
 D4 (S/S)\nGame Type: Regular\nGame Status: Complete\nHome Team: Real So So
  Bad\nAway Team: Vancouver Futsal Academy\nHome Score: 5\nAway Score: 3
END:VEVENT
BEGIN:VEVENT
UID:16377493@ezleagues.ezfacility.com
DTSTAMP:20260425T000157Z
CREATED:20260425T000157Z
DTSTART:20250503T211000Z
DTEND:20250503T221000Z
LOCATION:RCF East - Portland
CONTACT:
SUMMARY:Book Club FC VS. Vancouver Futsal Academy
DESCRIPTION:League Name: RCF East Spring AL 2025 -East Weekend (S/S)-Men's 
 D4 (S/S)\nGame Type: Regular\nGame Status: Complete\nHome Team: Book Club 
 FC\nAway Team: Vancouver Futsal Academy\nHome Score: 6\nAway Score: 5
END:VEVENT
BEGIN:VEVENT
UID:16377503@ezleagues.ezfacility.com
DTSTAMP:20260425T000157Z
CREATED:20260425T000157Z
DTSTART:20250510T195000Z
DTEND:20250510T205000Z
LOCATION:RCF East - Barcelona
CONTACT:
SUMMARY:Boca Seniors VS. Vancouver Futsal Academy
DESCRIPTION:League Name: RCF East Spring AL 2025 -East Weekend (S/S)-Men's 
 D4 (S/S)\nGame Type: Regular\nGame Status: Complete\nHome Team: Boca Senio
 rs\nAway Team: Vancouver Futsal Academy\nHome Score: 7\nAway Score: 7
END:VEVENT
BEGIN:VEVENT
UID:16377523@ezleagues.ezfacility.com
DTSTAMP:20260425T000157Z
CREATED:20260425T000157Z
DTSTART:20250512T001000Z
DTEND:20250512T011000Z
LOCATION:RCF East - Portland
CONTACT:
SUMMARY:Vancouver Futsal Academy VS. Awful Ibis
DESCRIPTION:League Name: RCF East Spring AL 2025 -East Weekend (S/S)-Men's 
 D4 (S/S)\nGame Type: Regular\nGame Status: Complete\nHome Team: Vancouver 
 Futsal Academy\nAway Team: Awful Ibis\nHome Score: 5\nAway Score: 1
END:VEVENT
BEGIN:VEVENT
UID:16377513@ezleagues.ezfacility.com
DTSTAMP:20260425T000157Z
CREATED:20260425T000157Z
DTSTART:20250518T213000Z
DTEND:20250518T223000Z
LOCATION:RCF East - Rio
CONTACT:
SUMMARY:Los Lads VS. Vancouver Futsal Academy
DESCRIPTION:League Name: RCF East Spring AL 2025 -East Weekend (S/S)-Men's 
 D4 (S/S)\nGame Type: Regular\nGame Status: Complete\nHome Team: Los Lads\n
 Away Team: Vancouver Futsal Academy\nHome Score: 4\nAway Score: 4
END:VEVENT
BEGIN:VEVENT
UID:16377535@ezleagues.ezfacility.com
DTSTAMP:20260425T000157Z
CREATED:20260425T000157Z
DTSTART:20250601T211000Z
DTEND:20250601T221000Z
LOCATION:RCF East - Portland
CONTACT:
SUMMARY:Vancouver Futsal Academy VS. FC fuego
DESCRIPTION:League Name: RCF East Spring AL 2025 -East Weekend (S/S)-Men's 
 D4 (S/S)\nGame Type: Regular\nGame Status: Complete\nHome Team: Vancouver 
 Futsal Academy\nAway Team: FC fuego\nHome Score: 6\nAway Score: 4
END:VEVENT
BEGIN:VEVENT
UID:16377547@ezleagues.ezfacility.com
DTSTAMP:20260425T000157Z
CREATED:20260425T000157Z
DTSTART:20250607T215000Z
DTEND:20250607T225000Z
LOCATION:RCF East - Barcelona
CONTACT:
SUMMARY:Vancouver Futsal Academy VS. Baja Blast FC
DESCRIPTION:League Name: RCF East Spring AL 2025 -East Weekend (S/S)-Men's 
 D4 (S/S)\nGame Type: Regular\nGame Status: Complete\nHome Team: Vancouver 
 Futsal Academy\nAway Team: Baja Blast FC\nHome Score: 8\nAway Score: 2
END:VEVENT
BEGIN:VEVENT
UID:16377559@ezleagues.ezfacility.com
DTSTAMP:20260425T000157Z
CREATED:20260425T000157Z
DTSTART:20250615T201000Z
DTEND:20250615T211000Z
LOCATION:RCF East - Portland
CONTACT:
SUMMARY:Vancouver Futsal Academy VS. Eastside Misfits
DESCRIPTION:League Name: RCF East Spring AL 2025 -East Weekend (S/S)-Men's 
 D4 (S/S)\nGame Type: Regular\nGame Status: Complete\nHome Team: Vancouver 
 Futsal Academy\nAway Team: Eastside Misfits\nHome Score: 9\nAway Score: 3
END:VEVENT
BEGIN:VEVENT
UID:16380578@ezleagues.ezfacility.com
DTSTAMP:20260425T000157Z
CREATED:20260425T000157Z
DTSTART:20250621T215000Z
DTEND:20250621T225000Z
LOCATION:RCF East - Barcelona
CONTACT:
SUMMARY:Vancouver Futsal Academy VS. The Wolverines
DESCRIPTION:League Name: RCF East Spring AL 2025 -East Weekend (S/S)-Men's 
 D4 (S/S)\nGame Type: Regular\nGame Status: Complete\nHome Team: Vancouver 
 Futsal Academy\nAway Team: The Wolverines\nHome Score: 4\nAway Score: 5
END:VEVENT
BEGIN:VEVENT
UID:16388087@ezleagues.ezfacility.com
DTSTAMP:20260425T000157Z
CREATED:20260425T000157Z
DTSTART:20250622T005000Z
DTEND:20250622T015000Z
LOCATION:RCF East - Barcelona
CONTACT:
SUMMARY:Vancouver Futsal Academy VS. Quardians Futsal
DESCRIPTION:League Name: RCF East Spring AL 2025 -East Weekend (S/S)-Men's 
 D4 (S/S)\nGame Type: Regular\nGame Status: Complete\nHome Team: Vancouver 
 Futsal Academy\nAway Team: Quardians Futsal\nHome Score: 8\nAway Score: 4
END:VEVENT
END:VCALENDAR
