BEGIN:VCALENDAR
VERSION:2.0
PRODID:-//EZFacility.com, Inc.//EZL 2.5.5.28621
BEGIN:VEVENT
UID:16381531@ezleagues.ezfacility.com
DTSTAMP:20260421T105231Z
CREATED:20260421T105231Z
DTSTART:20250423T031000Z
DTEND:20250423T041000Z
LOCATION:RCF West - Buenos Aires
CONTACT:
SUMMARY:Danger Zone VS. Aguilas
DESCRIPTION:League Name: RCF West Spring AL 2025-West Weekday (M/T/F)-Coed 
 D4 (T/F)\nGame Type: Regular\nGame Status: Complete\nHome Team: Danger Zon
 e\nAway Team: Aguilas\nHome Score: 6\nAway Score: 10
END:VEVENT
BEGIN:VEVENT
UID:16381536@ezleagues.ezfacility.com
DTSTAMP:20260421T105231Z
CREATED:20260421T105231Z
DTSTART:20250430T043000Z
DTEND:20250430T053000Z
LOCATION:RCF West - Montevideo
CONTACT:
SUMMARY:Las Tortugas VS. Aguilas
DESCRIPTION:League Name: RCF West Spring AL 2025-West Weekday (M/T/F)-Coed 
 D4 (T/F)\nGame Type: Regular\nGame Status: Complete\nHome Team: Las Tortug
 as\nAway Team: Aguilas\nHome Score: 3\nAway Score: 8
END:VEVENT
BEGIN:VEVENT
UID:16381582@ezleagues.ezfacility.com
DTSTAMP:20260421T105231Z
CREATED:20260421T105231Z
DTSTART:20250503T043000Z
DTEND:20250503T053000Z
LOCATION:RCF West - Montevideo
CONTACT:
SUMMARY:Aguilas VS. Wizzletoffs
DESCRIPTION:League Name: RCF West Spring AL 2025-West Weekday (M/T/F)-Coed 
 D4 (T/F)\nGame Type: Regular\nGame Status: Complete\nHome Team: Aguilas\nA
 way Team: Wizzletoffs\nHome Score: 7\nAway Score: 0
END:VEVENT
BEGIN:VEVENT
UID:16381541@ezleagues.ezfacility.com
DTSTAMP:20260421T105231Z
CREATED:20260421T105231Z
DTSTART:20250507T035000Z
DTEND:20250507T045000Z
LOCATION:RCF West - Tigard
CONTACT:
SUMMARY:Aguilas VS. Samba Mambas
DESCRIPTION:League Name: RCF West Spring AL 2025-West Weekday (M/T/F)-Coed 
 D4 (T/F)\nGame Type: Regular\nGame Status: Complete\nHome Team: Aguilas\nA
 way Team: Samba Mambas\nHome Score: 9\nAway Score: 2
END:VEVENT
BEGIN:VEVENT
UID:16381546@ezleagues.ezfacility.com
DTSTAMP:20260421T105231Z
CREATED:20260421T105231Z
DTSTART:20250514T023000Z
DTEND:20250514T033000Z
LOCATION:RCF West - Montevideo
CONTACT:
SUMMARY:Aguilas VS. CT Mo Salah Mo Problems 
DESCRIPTION:League Name: RCF West Spring AL 2025-West Weekday (M/T/F)-Coed 
 D4 (T/F)\nGame Type: Regular\nGame Status: Complete\nHome Team: Aguilas\nA
 way Team: CT Mo Salah Mo Problems \nHome Score: 10\nAway Score: 3
END:VEVENT
BEGIN:VEVENT
UID:16381557@ezleagues.ezfacility.com
DTSTAMP:20260421T105231Z
CREATED:20260421T105231Z
DTSTART:20250528T023000Z
DTEND:20250528T033000Z
LOCATION:RCF West - Montevideo
CONTACT:
SUMMARY:Aguilas VS. Wizzletoffs
DESCRIPTION:League Name: RCF West Spring AL 2025-West Weekday (M/T/F)-Coed 
 D4 (T/F)\nGame Type: Regular\nGame Status: Complete\nHome Team: Aguilas\nA
 way Team: Wizzletoffs\nHome Score: 10\nAway Score: 3
END:VEVENT
BEGIN:VEVENT
UID:16381562@ezleagues.ezfacility.com
DTSTAMP:20260421T105231Z
CREATED:20260421T105231Z
DTSTART:20250604T025000Z
DTEND:20250604T035000Z
LOCATION:RCF West - Tigard
CONTACT:
SUMMARY:Meowchester Kitty VS. Aguilas
DESCRIPTION:League Name: RCF West Spring AL 2025-West Weekday (M/T/F)-Coed 
 D4 (T/F)\nGame Type: Regular\nGame Status: Complete\nHome Team: Meowcheste
 r Kitty\nAway Team: Aguilas\nHome Score: 2\nAway Score: 8
END:VEVENT
BEGIN:VEVENT
UID:16381567@ezleagues.ezfacility.com
DTSTAMP:20260421T105231Z
CREATED:20260421T105231Z
DTSTART:20250611T035000Z
DTEND:20250611T045000Z
LOCATION:RCF West - Tigard
CONTACT:
SUMMARY:Aguilas VS. FC Capybaras
DESCRIPTION:League Name: RCF West Spring AL 2025-West Weekday (M/T/F)-Coed 
 D4 (T/F)\nGame Type: Regular\nGame Status: Complete\nHome Team: Aguilas\nA
 way Team: FC Capybaras\nHome Score: 12\nAway Score: 5
END:VEVENT
BEGIN:VEVENT
UID:16381572@ezleagues.ezfacility.com
DTSTAMP:20260421T105231Z
CREATED:20260421T105231Z
DTSTART:20250618T013000Z
DTEND:20250618T023000Z
LOCATION:RCF West - Montevideo
CONTACT:
SUMMARY:Boca Seniors VS. Aguilas
DESCRIPTION:League Name: RCF West Spring AL 2025-West Weekday (M/T/F)-Coed 
 D4 (T/F)\nGame Type: Regular\nGame Status: Complete\nHome Team: Boca Senio
 rs\nAway Team: Aguilas\nHome Score: 2\nAway Score: 5
END:VEVENT
BEGIN:VEVENT
UID:16381577@ezleagues.ezfacility.com
DTSTAMP:20260421T105231Z
CREATED:20260421T105231Z
DTSTART:20250625T021000Z
DTEND:20250625T031000Z
LOCATION:RCF West - Buenos Aires
CONTACT:
SUMMARY:Aguilas VS. Danger Zone
DESCRIPTION:League Name: RCF West Spring AL 2025-West Weekday (M/T/F)-Coed 
 D4 (T/F)\nGame Type: Regular\nGame Status: Complete\nHome Team: Aguilas\nA
 way Team: Danger Zone\nHome Score: 10\nAway Score: 7
END:VEVENT
END:VCALENDAR
