BEGIN:VCALENDAR
VERSION:2.0
PRODID:-//EZFacility.com, Inc.//EZL 2.5.5.28621
BEGIN:VEVENT
UID:16380696@ezleagues.ezfacility.com
DTSTAMP:20260423T161313Z
CREATED:20260423T161313Z
DTSTART:20250422T023000Z
DTEND:20250422T033000Z
LOCATION:RCF West - Montevideo
CONTACT:
SUMMARY:Blue Unicorns VS. PCFC
DESCRIPTION:League Name: RCF West Spring AL 2025-West Weekday (M/T/F)-Men's
  D2 (M/F)\nGame Type: Regular\nGame Status: Complete\nHome Team: Blue Unic
 orns\nAway Team: PCFC\nHome Score: 9\nAway Score: 2
END:VEVENT
BEGIN:VEVENT
UID:16380711@ezleagues.ezfacility.com
DTSTAMP:20260423T161313Z
CREATED:20260423T161313Z
DTSTART:20250429T021000Z
DTEND:20250429T031000Z
LOCATION:RCF West - Buenos Aires
CONTACT:
SUMMARY:Blue Unicorns VS. Riquilmes FC
DESCRIPTION:League Name: RCF West Spring AL 2025-West Weekday (M/T/F)-Men's
  D2 (M/F)\nGame Type: Regular\nGame Status: Complete\nHome Team: Blue Unic
 orns\nAway Team: Riquilmes FC\nHome Score: 8\nAway Score: 1
END:VEVENT
BEGIN:VEVENT
UID:16380726@ezleagues.ezfacility.com
DTSTAMP:20260423T161313Z
CREATED:20260423T161313Z
DTSTART:20250506T025000Z
DTEND:20250506T035000Z
LOCATION:RCF West - Tigard
CONTACT:
SUMMARY:Blue Unicorns VS. Bridgetown FC
DESCRIPTION:League Name: RCF West Spring AL 2025-West Weekday (M/T/F)-Men's
  D2 (M/F)\nGame Type: Regular\nGame Status: Complete\nHome Team: Blue Unic
 orns\nAway Team: Bridgetown FC\nHome Score: 7\nAway Score: 0
END:VEVENT
BEGIN:VEVENT
UID:16380741@ezleagues.ezfacility.com
DTSTAMP:20260423T161313Z
CREATED:20260423T161313Z
DTSTART:20250510T035000Z
DTEND:20250510T045000Z
LOCATION:RCF West - Tigard
CONTACT:
SUMMARY:Blue Unicorns VS. PCFC
DESCRIPTION:League Name: RCF West Spring AL 2025-West Weekday (M/T/F)-Men's
  D2 (M/F)\nGame Type: Regular\nGame Status: Complete\nHome Team: Blue Unic
 orns\nAway Team: PCFC\nHome Score: 4\nAway Score: 2
END:VEVENT
BEGIN:VEVENT
UID:16380771@ezleagues.ezfacility.com
DTSTAMP:20260423T161313Z
CREATED:20260423T161313Z
DTSTART:20250517T041000Z
DTEND:20250517T051000Z
LOCATION:RCF West - Buenos Aires
CONTACT:
SUMMARY:Bridgetown FC VS. Blue Unicorns
DESCRIPTION:League Name: RCF West Spring AL 2025-West Weekday (M/T/F)-Men's
  D2 (M/F)\nGame Type: Regular\nGame Status: Complete\nHome Team: Bridgetow
 n FC\nAway Team: Blue Unicorns\nHome Score: 5\nAway Score: 8
END:VEVENT
BEGIN:VEVENT
UID:16380756@ezleagues.ezfacility.com
DTSTAMP:20260423T161313Z
CREATED:20260423T161313Z
DTSTART:20250520T035000Z
DTEND:20250520T045000Z
LOCATION:RCF West - Tigard
CONTACT:
SUMMARY:Blue Unicorns VS. Riquilmes FC
DESCRIPTION:League Name: RCF West Spring AL 2025-West Weekday (M/T/F)-Men's
  D2 (M/F)\nGame Type: Regular\nGame Status: Complete\nHome Team: Blue Unic
 orns\nAway Team: Riquilmes FC\nHome Score: 7\nAway Score: 1
END:VEVENT
BEGIN:VEVENT
UID:16380786@ezleagues.ezfacility.com
DTSTAMP:20260423T161313Z
CREATED:20260423T161313Z
DTSTART:20250531T035000Z
DTEND:20250531T045000Z
LOCATION:RCF West - Tigard
CONTACT:
SUMMARY:PCFC VS. Blue Unicorns
DESCRIPTION:League Name: RCF West Spring AL 2025-West Weekday (M/T/F)-Men's
  D2 (M/F)\nGame Type: Regular\nGame Status: Complete\nHome Team: PCFC\nAwa
 y Team: Blue Unicorns\nHome Score: 4\nAway Score: 4
END:VEVENT
BEGIN:VEVENT
UID:16380801@ezleagues.ezfacility.com
DTSTAMP:20260423T161313Z
CREATED:20260423T161313Z
DTSTART:20250610T041000Z
DTEND:20250610T051000Z
LOCATION:RCF West - Buenos Aires
CONTACT:
SUMMARY:Riquilmes FC VS. Blue Unicorns
DESCRIPTION:League Name: RCF West Spring AL 2025-West Weekday (M/T/F)-Men's
  D2 (M/F)\nGame Type: Regular\nGame Status: Complete\nHome Team: Riquilmes
  FC\nAway Team: Blue Unicorns\nHome Score: 3\nAway Score: 10
END:VEVENT
BEGIN:VEVENT
UID:16380816@ezleagues.ezfacility.com
DTSTAMP:20260423T161313Z
CREATED:20260423T161313Z
DTSTART:20250617T025000Z
DTEND:20250617T035000Z
LOCATION:RCF West - Tigard
CONTACT:
SUMMARY:Bridgetown FC VS. Blue Unicorns
DESCRIPTION:League Name: RCF West Spring AL 2025-West Weekday (M/T/F)-Men's
  D2 (M/F)\nGame Type: Regular\nGame Status: Complete\nHome Team: Bridgetow
 n FC\nAway Team: Blue Unicorns\nHome Score: 5\nAway Score: 10
END:VEVENT
BEGIN:VEVENT
UID:16380846@ezleagues.ezfacility.com
DTSTAMP:20260423T161313Z
CREATED:20260423T161313Z
DTSTART:20250624T011000Z
DTEND:20250624T021000Z
LOCATION:RCF West - Buenos Aires
CONTACT:
SUMMARY:Blue Unicorns VS. Bridgetown FC
DESCRIPTION:League Name: RCF West Spring AL 2025-West Weekday (M/T/F)-Men's
  D2 (M/F)\nGame Type: Regular\nGame Status: Complete\nHome Team: Blue Unic
 orns\nAway Team: Bridgetown FC\nHome Score: 7\nAway Score: 0
END:VEVENT
END:VCALENDAR
