BEGIN:VCALENDAR
VERSION:2.0
PRODID:-//EZFacility.com, Inc.//EZL 2.5.5.28621
BEGIN:VEVENT
UID:16376557@ezleagues.ezfacility.com
DTSTAMP:20260419T202740Z
CREATED:20260419T202740Z
DTSTART:20250422T043000Z
DTEND:20250422T053000Z
LOCATION:RCF East - Rio
CONTACT:
SUMMARY:La Vanega PDX VS. Futsoul Redux
DESCRIPTION:League Name: RCF Spring AL 2025 Champions League-Men's Champion
 s League\nGame Type: Regular\nGame Status: Complete\nHome Team: La Vanega 
 PDX\nAway Team: Futsoul Redux\nHome Score: 2\nAway Score: 5
END:VEVENT
BEGIN:VEVENT
UID:16376575@ezleagues.ezfacility.com
DTSTAMP:20260419T202740Z
CREATED:20260419T202740Z
DTSTART:20250429T033000Z
DTEND:20250429T043000Z
LOCATION:RCF West - Montevideo
CONTACT:
SUMMARY:Futsoul Redux VS. Deportivo Rose City 
DESCRIPTION:League Name: RCF Spring AL 2025 Champions League-Men's Champion
 s League\nGame Type: Regular\nGame Status: Complete\nHome Team: Futsoul Re
 dux\nAway Team: Deportivo Rose City \nHome Score: 8\nAway Score: 6
END:VEVENT
BEGIN:VEVENT
UID:16376591@ezleagues.ezfacility.com
DTSTAMP:20260419T202740Z
CREATED:20260419T202740Z
DTSTART:20250506T023000Z
DTEND:20250506T033000Z
LOCATION:RCF East - Rio
CONTACT:
SUMMARY:Futsoul Redux VS. JHKelly 
DESCRIPTION:League Name: RCF Spring AL 2025 Champions League-Men's Champion
 s League\nGame Type: Regular\nGame Status: Complete\nHome Team: Futsoul Re
 dux\nAway Team: JHKelly \nHome Score: 8\nAway Score: 9
END:VEVENT
BEGIN:VEVENT
UID:16376608@ezleagues.ezfacility.com
DTSTAMP:20260419T202740Z
CREATED:20260419T202740Z
DTSTART:20250513T033000Z
DTEND:20250513T043000Z
LOCATION:RCF West - Montevideo
CONTACT:
SUMMARY:All Luck No Tekkers VS. Futsoul Redux
DESCRIPTION:League Name: RCF Spring AL 2025 Champions League-Men's Champion
 s League\nGame Type: Regular\nGame Status: Complete\nHome Team: All Luck N
 o Tekkers\nAway Team: Futsoul Redux\nHome Score: 5\nAway Score: 5
END:VEVENT
BEGIN:VEVENT
UID:16376627@ezleagues.ezfacility.com
DTSTAMP:20260419T202740Z
CREATED:20260419T202740Z
DTSTART:20250520T023000Z
DTEND:20250520T033000Z
LOCATION:RCF East - Rio
CONTACT:
SUMMARY:Futsoul Redux VS. FutsalClinics.com
DESCRIPTION:League Name: RCF Spring AL 2025 Champions League-Men's Champion
 s League\nGame Type: Regular\nGame Status: Complete\nHome Team: Futsoul Re
 dux\nAway Team: FutsalClinics.com\nHome Score: 3\nAway Score: 1
END:VEVENT
BEGIN:VEVENT
UID:16376646@ezleagues.ezfacility.com
DTSTAMP:20260419T202740Z
CREATED:20260419T202740Z
DTSTART:20250531T023000Z
DTEND:20250531T033000Z
LOCATION:Cancellation
CONTACT:
SUMMARY:Futsoul Redux VS. La Vanega PDX
DESCRIPTION:League Name: RCF Spring AL 2025 Champions League-Men's Champion
 s League\nGame Type: Regular\nGame Status: Complete\nHome Team: Futsoul Re
 dux\nAway Team: La Vanega PDX\nHome Score: 7\nAway Score: 0
END:VEVENT
BEGIN:VEVENT
UID:16376663@ezleagues.ezfacility.com
DTSTAMP:20260419T202740Z
CREATED:20260419T202740Z
DTSTART:20250603T023000Z
DTEND:20250603T033000Z
LOCATION:RCF East - Rio
CONTACT:
SUMMARY:Deportivo Rose City  VS. Futsoul Redux
DESCRIPTION:League Name: RCF Spring AL 2025 Champions League-Men's Champion
 s League\nGame Type: Regular\nGame Status: Complete\nHome Team: Deportivo 
 Rose City \nAway Team: Futsoul Redux\nHome Score: 7\nAway Score: 6
END:VEVENT
BEGIN:VEVENT
UID:16376679@ezleagues.ezfacility.com
DTSTAMP:20260419T202740Z
CREATED:20260419T202740Z
DTSTART:20250610T023000Z
DTEND:20250610T033000Z
LOCATION:RCF West - Montevideo
CONTACT:
SUMMARY:JHKelly  VS. Futsoul Redux
DESCRIPTION:League Name: RCF Spring AL 2025 Champions League-Men's Champion
 s League\nGame Type: Regular\nGame Status: Complete\nHome Team: JHKelly \n
 Away Team: Futsoul Redux\nHome Score: 4\nAway Score: 5
END:VEVENT
BEGIN:VEVENT
UID:16380505@ezleagues.ezfacility.com
DTSTAMP:20260419T202740Z
CREATED:20260419T202740Z
DTSTART:20250617T043000Z
DTEND:20250617T053000Z
LOCATION:RCF East - Rio
CONTACT:
SUMMARY:Futsoul Redux VS. La Vanega PDX
DESCRIPTION:League Name: RCF Spring AL 2025 Champions League-Men's Champion
 s League\nGame Type: Regular\nGame Status: Complete\nHome Team: Futsoul Re
 dux\nAway Team: La Vanega PDX\nHome Score: 3\nAway Score: 7
END:VEVENT
BEGIN:VEVENT
UID:16380522@ezleagues.ezfacility.com
DTSTAMP:20260419T202740Z
CREATED:20260419T202740Z
DTSTART:20250624T023000Z
DTEND:20250624T033000Z
LOCATION:RCF West - Montevideo
CONTACT:
SUMMARY:Deportivo Rose City  VS. Futsoul Redux
DESCRIPTION:League Name: RCF Spring AL 2025 Champions League-Men's Champion
 s League\nGame Type: Regular\nGame Status: Complete\nHome Team: Deportivo 
 Rose City \nAway Team: Futsoul Redux\nHome Score: 5\nAway Score: 7
END:VEVENT
END:VCALENDAR
