BEGIN:VCALENDAR
VERSION:2.0
PRODID:-//EZFacility.com, Inc.//EZL 2.5.5.28621
BEGIN:VEVENT
UID:16378094@ezleagues.ezfacility.com
DTSTAMP:20260420T114444Z
CREATED:20260420T114444Z
DTSTART:20250418T000000Z
DTEND:20250418T004500Z
LOCATION:Court 3
CONTACT:
SUMMARY:Chewblocka VS. Chicks Dig It
DESCRIPTION:League Name: Spring Thursday Court 3 Coed C Sixes\nGame Type: R
 egular\nGame Status: Complete\nHome Team: Chewblocka\nAway Team: Chicks Di
 g It\nHome Score: 0\nAway Score: 3
END:VEVENT
BEGIN:VEVENT
UID:16378101@ezleagues.ezfacility.com
DTSTAMP:20260420T114444Z
CREATED:20260420T114444Z
DTSTART:20250425T004500Z
DTEND:20250425T013000Z
LOCATION:Court 3
CONTACT:
SUMMARY:The Fk Ups VS. Chewblocka
DESCRIPTION:League Name: Spring Thursday Court 3 Coed C Sixes\nGame Type: R
 egular\nGame Status: Complete\nHome Team: The Fk Ups\nAway Team: Chewblock
 a\nHome Score: 1\nAway Score: 2
END:VEVENT
BEGIN:VEVENT
UID:16378108@ezleagues.ezfacility.com
DTSTAMP:20260420T114444Z
CREATED:20260420T114444Z
DTSTART:20250501T223000Z
DTEND:20250501T231500Z
LOCATION:Court 3
CONTACT:
SUMMARY:Chewblocka VS. Spike Tyson
DESCRIPTION:League Name: Spring Thursday Court 3 Coed C Sixes\nGame Type: R
 egular\nGame Status: Complete\nHome Team: Chewblocka\nAway Team: Spike Tys
 on\nHome Score: 2\nAway Score: 1
END:VEVENT
BEGIN:VEVENT
UID:16378115@ezleagues.ezfacility.com
DTSTAMP:20260420T114444Z
CREATED:20260420T114444Z
DTSTART:20250509T013000Z
DTEND:20250509T021500Z
LOCATION:Court 3
CONTACT:
SUMMARY:Chewblocka VS. Howell I Set Your Mother
DESCRIPTION:League Name: Spring Thursday Court 3 Coed C Sixes\nGame Type: R
 egular\nGame Status: Complete\nHome Team: Chewblocka\nAway Team: Howell I 
 Set Your Mother\nHome Score: 1\nAway Score: 2
END:VEVENT
BEGIN:VEVENT
UID:16378121@ezleagues.ezfacility.com
DTSTAMP:20260420T114444Z
CREATED:20260420T114444Z
DTSTART:20250516T004500Z
DTEND:20250516T013000Z
LOCATION:Court 3
CONTACT:
SUMMARY:Ary VS. Chewblocka
DESCRIPTION:League Name: Spring Thursday Court 3 Coed C Sixes\nGame Type: R
 egular\nGame Status: Complete\nHome Team: Ary\nAway Team: Chewblocka\nHome
  Score: 0\nAway Score: 3
END:VEVENT
BEGIN:VEVENT
UID:16378126@ezleagues.ezfacility.com
DTSTAMP:20260420T114444Z
CREATED:20260420T114444Z
DTSTART:20250523T004500Z
DTEND:20250523T013000Z
LOCATION:Court 3
CONTACT:
SUMMARY:Chewblocka VS. Sonova Beach
DESCRIPTION:League Name: Spring Thursday Court 3 Coed C Sixes\nGame Type: R
 egular\nGame Status: Complete\nHome Team: Chewblocka\nAway Team: Sonova Be
 ach\nHome Score: 0\nAway Score: 3
END:VEVENT
BEGIN:VEVENT
UID:16378131@ezleagues.ezfacility.com
DTSTAMP:20260420T114444Z
CREATED:20260420T114444Z
DTSTART:20250529T231500Z
DTEND:20250530T000000Z
LOCATION:Court 3
CONTACT:
SUMMARY:All Hands VS. Chewblocka
DESCRIPTION:League Name: Spring Thursday Court 3 Coed C Sixes\nGame Type: R
 egular\nGame Status: Complete\nHome Team: All Hands\nAway Team: Chewblocka
 \nHome Score: 2\nAway Score: 1
END:VEVENT
BEGIN:VEVENT
UID:16378141@ezleagues.ezfacility.com
DTSTAMP:20260420T114444Z
CREATED:20260420T114444Z
DTSTART:20250612T223000Z
DTEND:20250612T231500Z
LOCATION:Court 3
CONTACT:
SUMMARY:If u c kay VS. Chewblocka
DESCRIPTION:League Name: Spring Thursday Court 3 Coed C Sixes\nGame Type: R
 egular\nGame Status: Complete\nHome Team: If u c kay\nAway Team: Chewblock
 a\nHome Score: 3\nAway Score: 0
END:VEVENT
BEGIN:VEVENT
UID:16378146@ezleagues.ezfacility.com
DTSTAMP:20260420T114444Z
CREATED:20260420T114444Z
DTSTART:20250620T013000Z
DTEND:20250620T021500Z
LOCATION:Court 3
CONTACT:
SUMMARY:Soft Serve VS. Chewblocka
DESCRIPTION:League Name: Spring Thursday Court 3 Coed C Sixes\nGame Type: R
 egular\nGame Status: Complete\nHome Team: Soft Serve\nAway Team: Chewblock
 a\nHome Score: 0\nAway Score: 3
END:VEVENT
BEGIN:VEVENT
UID:16378153@ezleagues.ezfacility.com
DTSTAMP:20260420T114444Z
CREATED:20260420T114444Z
DTSTART:20250626T231500Z
DTEND:20250627T000000Z
LOCATION:Court 3
CONTACT:
SUMMARY:Chewblocka VS. Big Dig Energy
DESCRIPTION:League Name: Spring Thursday Court 3 Coed C Sixes\nGame Type: R
 egular\nGame Status: Complete\nHome Team: Chewblocka\nAway Team: Big Dig E
 nergy\nHome Score: 0\nAway Score: 3
END:VEVENT
END:VCALENDAR
