BEGIN:VCALENDAR
VERSION:2.0
PRODID:-//EZFacility.com, Inc.//EZL 2.5.5.28621
BEGIN:VEVENT
UID:16387780@ezleagues.ezfacility.com
DTSTAMP:20260420T130819Z
CREATED:20260420T130819Z
DTSTART:20250501T002000Z
DTEND:20250501T011000Z
LOCATION:Car Stereo One Big Field
CONTACT:Ohene-Larbi
SUMMARY:Ballerz FC VS. BSC
DESCRIPTION:League Name: 2025 Maumee CS1 Big Field Mens Open Session 4\nGam
 e Type: Regular\nGame Status: Complete\nHome Team: Ballerz FC\nAway Team: 
 BSC\nHome Score: 6\nAway Score: 2
END:VEVENT
BEGIN:VEVENT
UID:16387783@ezleagues.ezfacility.com
DTSTAMP:20260420T130819Z
CREATED:20260420T130819Z
DTSTART:20250508T020000Z
DTEND:20250508T025000Z
LOCATION:Car Stereo One Big Field
CONTACT:Ohene-Larbi
SUMMARY:La Fiesta VS. Ballerz FC
DESCRIPTION:League Name: 2025 Maumee CS1 Big Field Mens Open Session 4\nGam
 e Type: Regular\nGame Status: Complete\nHome Team: La Fiesta\nAway Team: B
 allerz FC\nHome Score: 5\nAway Score: 12
END:VEVENT
BEGIN:VEVENT
UID:16387786@ezleagues.ezfacility.com
DTSTAMP:20260420T130819Z
CREATED:20260420T130819Z
DTSTART:20250515T011000Z
DTEND:20250515T020000Z
LOCATION:Car Stereo One Big Field
CONTACT:Ohene-Larbi
SUMMARY:Ballerz FC VS. The Uncs
DESCRIPTION:League Name: 2025 Maumee CS1 Big Field Mens Open Session 4\nGam
 e Type: Regular\nGame Status: Complete\nHome Team: Ballerz FC\nAway Team: 
 The Uncs\nHome Score: 3\nAway Score: 4
END:VEVENT
BEGIN:VEVENT
UID:16387799@ezleagues.ezfacility.com
DTSTAMP:20260420T130819Z
CREATED:20260420T130819Z
DTSTART:20250520T011000Z
DTEND:20250520T020000Z
LOCATION:Car Stereo One Big Field
CONTACT:Ohene-Larbi
SUMMARY:Ballerz FC VS. Goal Diggers
DESCRIPTION:League Name: 2025 Maumee CS1 Big Field Mens Open Session 4\nGam
 e Type: Regular\nGame Status: Complete\nHome Team: Ballerz FC\nAway Team: 
 Goal Diggers\nHome Score: 11\nAway Score: 3
END:VEVENT
BEGIN:VEVENT
UID:16387789@ezleagues.ezfacility.com
DTSTAMP:20260420T130819Z
CREATED:20260420T130819Z
DTSTART:20250522T011000Z
DTEND:20250522T020000Z
LOCATION:Car Stereo One Big Field
CONTACT:Ohene-Larbi
SUMMARY:Let's Get Messi VS. Ballerz FC
DESCRIPTION:League Name: 2025 Maumee CS1 Big Field Mens Open Session 4\nGam
 e Type: Regular\nGame Status: Complete\nHome Team: Let's Get Messi\nAway T
 eam: Ballerz FC\nHome Score: 7\nAway Score: 2
END:VEVENT
BEGIN:VEVENT
UID:16387794@ezleagues.ezfacility.com
DTSTAMP:20260420T130819Z
CREATED:20260420T130819Z
DTSTART:20250529T002000Z
DTEND:20250529T011000Z
LOCATION:Car Stereo One Big Field
CONTACT:Ohene-Larbi
SUMMARY:We Wear White VS. Ballerz FC
DESCRIPTION:League Name: 2025 Maumee CS1 Big Field Mens Open Session 4\nGam
 e Type: Regular\nGame Status: Complete\nHome Team: We Wear White\nAway Tea
 m: Ballerz FC\nHome Score: 2\nAway Score: 5
END:VEVENT
BEGIN:VEVENT
UID:16465728@ezleagues.ezfacility.com
DTSTAMP:20260420T130819Z
CREATED:20260420T130819Z
DTSTART:20250603T011000Z
DTEND:20250603T020000Z
LOCATION:Car Stereo One Big Field
CONTACT:Ohene-Larbi
SUMMARY:The Uncs VS. Ballerz FC
DESCRIPTION:League Name: 2025 Maumee CS1 Big Field Mens Open Session 4\nGam
 e Type: Regular\nGame Status: Complete\nHome Team: The Uncs\nAway Team: Ba
 llerz FC\nHome Score: 5\nAway Score: 6
END:VEVENT
BEGIN:VEVENT
UID:16465735@ezleagues.ezfacility.com
DTSTAMP:20260420T130819Z
CREATED:20260420T130819Z
DTSTART:20250605T000000Z
DTEND:20250605T005000Z
LOCATION:Car Stereo One Big Field
CONTACT:Ohene-Larbi
SUMMARY:Ballerz FC VS. We Wear White
DESCRIPTION:League Name: 2025 Maumee CS1 Big Field Mens Open Session 4\nGam
 e Type: Postseason\nGame Status: Complete\nHome Team: Ballerz FC\nAway Tea
 m: We Wear White\nHome Score: 2\nAway Score: 9
END:VEVENT
END:VCALENDAR
