BEGIN:VCALENDAR
VERSION:2.0
PRODID:-//EZFacility.com, Inc.//EZL 2.5.5.28621
BEGIN:VEVENT
UID:16386492@ezleagues.ezfacility.com
DTSTAMP:20260424T100801Z
CREATED:20260424T100801Z
DTSTART:20250425T043000Z
DTEND:20250425T053000Z
LOCATION:Field 2B
CONTACT:
SUMMARY:Yugos VS. Legends FC
DESCRIPTION:League Name: Spring Thursday 7v7 Mens Soccer 2\nGame Type: Regu
 lar\nGame Status: Complete\nHome Team: Yugos\nAway Team: Legends FC\nHome 
 Score: 2\nAway Score: 7
END:VEVENT
BEGIN:VEVENT
UID:16386500@ezleagues.ezfacility.com
DTSTAMP:20260424T100801Z
CREATED:20260424T100801Z
DTSTART:20250502T043000Z
DTEND:20250502T053000Z
LOCATION:Field 2A
CONTACT:
SUMMARY:Hapoel Fc VS. Legends FC
DESCRIPTION:League Name: Spring Thursday 7v7 Mens Soccer 2\nGame Type: Regu
 lar\nGame Status: Complete\nHome Team: Hapoel Fc\nAway Team: Legends FC\nH
 ome Score: 6\nAway Score: 4
END:VEVENT
BEGIN:VEVENT
UID:16431094@ezleagues.ezfacility.com
DTSTAMP:20260424T100801Z
CREATED:20260424T100801Z
DTSTART:20250508T200000Z
DTEND:20250508T210000Z
LOCATION:TBD
CONTACT:
SUMMARY:Legends FC VS. Game Cancelled
DESCRIPTION:League Name: Spring Thursday 7v7 Mens Soccer 2\nGame Type: Regu
 lar\nGame Status: Pending\nHome Team: Legends FC\nAway Team: Game Cancelle
 d\n
END:VEVENT
BEGIN:VEVENT
UID:16386515@ezleagues.ezfacility.com
DTSTAMP:20260424T100801Z
CREATED:20260424T100801Z
DTSTART:20250516T013000Z
DTEND:20250516T023000Z
LOCATION:Field 2A
CONTACT:
SUMMARY:SJ Red Bull VS. Legends FC
DESCRIPTION:League Name: Spring Thursday 7v7 Mens Soccer 2\nGame Type: Regu
 lar\nGame Status: Complete\nHome Team: SJ Red Bull\nAway Team: Legends FC\
 nHome Score: 1\nAway Score: 2
END:VEVENT
BEGIN:VEVENT
UID:16386522@ezleagues.ezfacility.com
DTSTAMP:20260424T100801Z
CREATED:20260424T100801Z
DTSTART:20250523T023000Z
DTEND:20250523T033000Z
LOCATION:Field 2B
CONTACT:
SUMMARY:Legends FC VS. Bay Wolves FC
DESCRIPTION:League Name: Spring Thursday 7v7 Mens Soccer 2\nGame Type: Regu
 lar\nGame Status: Complete\nHome Team: Legends FC\nAway Team: Bay Wolves F
 C\nHome Score: 3\nAway Score: 3
END:VEVENT
BEGIN:VEVENT
UID:16386531@ezleagues.ezfacility.com
DTSTAMP:20260424T100801Z
CREATED:20260424T100801Z
DTSTART:20250530T033000Z
DTEND:20250530T043000Z
LOCATION:Field 2A
CONTACT:
SUMMARY:Legends FC VS. Desi Milan FC
DESCRIPTION:League Name: Spring Thursday 7v7 Mens Soccer 2\nGame Type: Regu
 lar\nGame Status: Complete\nHome Team: Legends FC\nAway Team: Desi Milan F
 C\nHome Score: 8\nAway Score: 2
END:VEVENT
BEGIN:VEVENT
UID:16386540@ezleagues.ezfacility.com
DTSTAMP:20260424T100801Z
CREATED:20260424T100801Z
DTSTART:20250606T013000Z
DTEND:20250606T023000Z
LOCATION:Field 2B
CONTACT:
SUMMARY:Legends FC VS. Legal Aliens
DESCRIPTION:League Name: Spring Thursday 7v7 Mens Soccer 2\nGame Type: Regu
 lar\nGame Status: Complete\nHome Team: Legends FC\nAway Team: Legal Aliens
 \nHome Score: 6\nAway Score: 2
END:VEVENT
BEGIN:VEVENT
UID:16386549@ezleagues.ezfacility.com
DTSTAMP:20260424T100801Z
CREATED:20260424T100801Z
DTSTART:20250613T023000Z
DTEND:20250613T033000Z
LOCATION:Field 2A
CONTACT:
SUMMARY:Legends FC VS. Yugos
DESCRIPTION:League Name: Spring Thursday 7v7 Mens Soccer 2\nGame Type: Regu
 lar\nGame Status: Complete\nHome Team: Legends FC\nAway Team: Yugos\nHome 
 Score: 8\nAway Score: 2
END:VEVENT
BEGIN:VEVENT
UID:16386508@ezleagues.ezfacility.com
DTSTAMP:20260424T100801Z
CREATED:20260424T100801Z
DTSTART:20250620T033000Z
DTEND:20250620T043000Z
LOCATION:Field 2B
CONTACT:
SUMMARY:Fire FC VS. Legends FC
DESCRIPTION:League Name: Spring Thursday 7v7 Mens Soccer 2\nGame Type: Regu
 lar\nGame Status: Complete\nHome Team: Fire FC\nAway Team: Legends FC\nHom
 e Score: 1\nAway Score: 1
END:VEVENT
BEGIN:VEVENT
UID:16386557@ezleagues.ezfacility.com
DTSTAMP:20260424T100801Z
CREATED:20260424T100801Z
DTSTART:20250627T023000Z
DTEND:20250627T033000Z
LOCATION:Field 2B
CONTACT:
SUMMARY:Legends FC VS. Bay Wolves FC
DESCRIPTION:League Name: Spring Thursday 7v7 Mens Soccer 2\nGame Type: Post
 season\nGame Status: Complete\nHome Team: Legends FC\nAway Team: Bay Wolve
 s FC\nHome Score: 4\nAway Score: 1
END:VEVENT
BEGIN:VEVENT
UID:16386558@ezleagues.ezfacility.com
DTSTAMP:20260424T100801Z
CREATED:20260424T100801Z
DTSTART:20250627T033000Z
DTEND:20250627T043000Z
LOCATION:Field 2B
CONTACT:
SUMMARY:Hapoel Fc VS. Legends FC
DESCRIPTION:League Name: Spring Thursday 7v7 Mens Soccer 2\nGame Type: Post
 season\nGame Status: Complete\nHome Team: Hapoel Fc\nAway Team: Legends FC
 \nHome Score: 0\nAway Score: 4
END:VEVENT
END:VCALENDAR
