BEGIN:VCALENDAR
VERSION:2.0
PRODID:-//EZFacility.com, Inc.//EZL 2.5.5.28621
BEGIN:VEVENT
UID:16389442@ezleagues.ezfacility.com
DTSTAMP:20260424T044043Z
CREATED:20260424T044043Z
DTSTART:20250425T210000Z
DTEND:20250425T215000Z
LOCATION:Rossford Dome FF Field 3
CONTACT:
SUMMARY:Bills- Miller VS. Buccaneers -Haack	
DESCRIPTION:League Name: 2025 Dome NFL Spring Flag Football Boys 5/6 Grade\
 nGame Type: Regular\nGame Status: Complete\nHome Team: Bills- Miller\nAway
  Team: Buccaneers -Haack	\nHome Score: 8\nAway Score: 14
END:VEVENT
BEGIN:VEVENT
UID:16389451@ezleagues.ezfacility.com
DTSTAMP:20260424T044043Z
CREATED:20260424T044043Z
DTSTART:20250502T233000Z
DTEND:20250503T002000Z
LOCATION:Rossford Dome FF Field 2
CONTACT:
SUMMARY:All Smoke- Miller VS. Buccaneers -Haack	
DESCRIPTION:League Name: 2025 Dome NFL Spring Flag Football Boys 5/6 Grade\
 nGame Type: Regular\nGame Status: Complete\nHome Team: All Smoke- Miller\n
 Away Team: Buccaneers -Haack	\nHome Score: 20\nAway Score: 0
END:VEVENT
BEGIN:VEVENT
UID:16389462@ezleagues.ezfacility.com
DTSTAMP:20260424T044043Z
CREATED:20260424T044043Z
DTSTART:20250510T002000Z
DTEND:20250510T011000Z
LOCATION:Rossford Dome FF Field 3
CONTACT:
SUMMARY:Buccaneers -Haack	 VS. Jaguars- Corona
DESCRIPTION:League Name: 2025 Dome NFL Spring Flag Football Boys 5/6 Grade\
 nGame Type: Regular\nGame Status: Complete\nHome Team: Buccaneers -Haack	\
 nAway Team: Jaguars- Corona\nHome Score: 14\nAway Score: 35
END:VEVENT
BEGIN:VEVENT
UID:16389478@ezleagues.ezfacility.com
DTSTAMP:20260424T044043Z
CREATED:20260424T044043Z
DTSTART:20250517T002000Z
DTEND:20250517T011000Z
LOCATION:Rossford Dome FF Field 1
CONTACT:
SUMMARY:Buccaneers -Haack	 VS. Commanders- Dimasso
DESCRIPTION:League Name: 2025 Dome NFL Spring Flag Football Boys 5/6 Grade\
 nGame Type: Regular\nGame Status: Complete\nHome Team: Buccaneers -Haack	\
 nAway Team: Commanders- Dimasso\nHome Score: 14\nAway Score: 0
END:VEVENT
BEGIN:VEVENT
UID:16389484@ezleagues.ezfacility.com
DTSTAMP:20260424T044043Z
CREATED:20260424T044043Z
DTSTART:20250524T011000Z
DTEND:20250524T020000Z
LOCATION:Rossford Dome FF Field 1
CONTACT:
SUMMARY:Buccaneers -Haack	 VS. Texans-Mochon
DESCRIPTION:League Name: 2025 Dome NFL Spring Flag Football Boys 5/6 Grade\
 nGame Type: Regular\nGame Status: Complete\nHome Team: Buccaneers -Haack	\
 nAway Team: Texans-Mochon\nHome Score: 42\nAway Score: 30
END:VEVENT
BEGIN:VEVENT
UID:16389498@ezleagues.ezfacility.com
DTSTAMP:20260424T044043Z
CREATED:20260424T044043Z
DTSTART:20250531T235000Z
DTEND:20250601T004000Z
LOCATION:Rossford Dome FF Field 1
CONTACT:
SUMMARY:Buccaneers -Haack	 VS. Browns- Serrano
DESCRIPTION:League Name: 2025 Dome NFL Spring Flag Football Boys 5/6 Grade\
 nGame Type: Regular\nGame Status: Complete\nHome Team: Buccaneers -Haack	\
 nAway Team: Browns- Serrano\nHome Score: 22\nAway Score: 14
END:VEVENT
END:VCALENDAR
