BEGIN:VCALENDAR
VERSION:2.0
PRODID:-//EZFacility.com, Inc.//EZL 2.5.5.28621
BEGIN:VEVENT
UID:16390019@ezleagues.ezfacility.com
DTSTAMP:20260426T035004Z
CREATED:20260426T035004Z
DTSTART:20250425T032000Z
DTEND:20250425T041000Z
LOCATION:Field A
CONTACT:
SUMMARY:Tigris FC VS. S.O.L
DESCRIPTION:League Name: Summer Men's 2025-Men's D Division\nGame Type: Reg
 ular\nGame Status: Complete\nHome Team: Tigris FC\nAway Team: S.O.L\nHome 
 Score: 0\nAway Score: 11
END:VEVENT
BEGIN:VEVENT
UID:16390022@ezleagues.ezfacility.com
DTSTAMP:20260426T035004Z
CREATED:20260426T035004Z
DTSTART:20250502T032000Z
DTEND:20250502T041000Z
LOCATION:Field A
CONTACT:
SUMMARY:S.O.L VS. Shag Nasties
DESCRIPTION:League Name: Summer Men's 2025-Men's D Division\nGame Type: Reg
 ular\nGame Status: Complete\nHome Team: S.O.L\nAway Team: Shag Nasties\nHo
 me Score: 6\nAway Score: 9
END:VEVENT
BEGIN:VEVENT
UID:16390025@ezleagues.ezfacility.com
DTSTAMP:20260426T035004Z
CREATED:20260426T035004Z
DTSTART:20250509T032000Z
DTEND:20250509T041000Z
LOCATION:Field A
CONTACT:
SUMMARY:S.O.L VS. Sub Bup
DESCRIPTION:League Name: Summer Men's 2025-Men's D Division\nGame Type: Reg
 ular\nGame Status: Complete\nHome Team: S.O.L\nAway Team: Sub Bup\nHome Sc
 ore: 2\nAway Score: 1
END:VEVENT
BEGIN:VEVENT
UID:16390028@ezleagues.ezfacility.com
DTSTAMP:20260426T035004Z
CREATED:20260426T035004Z
DTSTART:20250516T032000Z
DTEND:20250516T041000Z
LOCATION:Field A
CONTACT:
SUMMARY:BOS VS. S.O.L
DESCRIPTION:League Name: Summer Men's 2025-Men's D Division\nGame Type: Reg
 ular\nGame Status: Complete\nHome Team: BOS\nAway Team: S.O.L\nHome Score:
  3\nAway Score: 5
END:VEVENT
BEGIN:VEVENT
UID:16390031@ezleagues.ezfacility.com
DTSTAMP:20260426T035004Z
CREATED:20260426T035004Z
DTSTART:20250523T032000Z
DTEND:20250523T041000Z
LOCATION:Field A
CONTACT:
SUMMARY:Lobos Negro VS. S.O.L
DESCRIPTION:League Name: Summer Men's 2025-Men's D Division\nGame Type: Reg
 ular\nGame Status: Complete\nHome Team: Lobos Negro\nAway Team: S.O.L\nHom
 e Score: 2\nAway Score: 6
END:VEVENT
BEGIN:VEVENT
UID:16390034@ezleagues.ezfacility.com
DTSTAMP:20260426T035004Z
CREATED:20260426T035004Z
DTSTART:20250530T032000Z
DTEND:20250530T041000Z
LOCATION:Field A
CONTACT:
SUMMARY:S.O.L VS. Tigris FC
DESCRIPTION:League Name: Summer Men's 2025-Men's D Division\nGame Type: Reg
 ular\nGame Status: Complete\nHome Team: S.O.L\nAway Team: Tigris FC\nHome 
 Score: 7\nAway Score: 4
END:VEVENT
BEGIN:VEVENT
UID:16390037@ezleagues.ezfacility.com
DTSTAMP:20260426T035004Z
CREATED:20260426T035004Z
DTSTART:20250606T032000Z
DTEND:20250606T041000Z
LOCATION:Field A
CONTACT:
SUMMARY:Shag Nasties VS. S.O.L
DESCRIPTION:League Name: Summer Men's 2025-Men's D Division\nGame Type: Reg
 ular\nGame Status: Cancelled\nHome Team: Shag Nasties\nAway Team: S.O.L\n
END:VEVENT
BEGIN:VEVENT
UID:16390040@ezleagues.ezfacility.com
DTSTAMP:20260426T035004Z
CREATED:20260426T035004Z
DTSTART:20250613T032000Z
DTEND:20250613T041000Z
LOCATION:Field A
CONTACT:
SUMMARY:Sub Bup VS. S.O.L
DESCRIPTION:League Name: Summer Men's 2025-Men's D Division\nGame Type: Reg
 ular\nGame Status: Complete\nHome Team: Sub Bup\nAway Team: S.O.L\nHome Sc
 ore: 6\nAway Score: 9
END:VEVENT
BEGIN:VEVENT
UID:16390043@ezleagues.ezfacility.com
DTSTAMP:20260426T035004Z
CREATED:20260426T035004Z
DTSTART:20250620T032000Z
DTEND:20250620T041000Z
LOCATION:Field A
CONTACT:
SUMMARY:S.O.L VS. BOS
DESCRIPTION:League Name: Summer Men's 2025-Men's D Division\nGame Type: Reg
 ular\nGame Status: Complete\nHome Team: S.O.L\nAway Team: BOS\nHome Score:
  6\nAway Score: 5
END:VEVENT
BEGIN:VEVENT
UID:16390046@ezleagues.ezfacility.com
DTSTAMP:20260426T035004Z
CREATED:20260426T035004Z
DTSTART:20250627T032000Z
DTEND:20250627T041000Z
LOCATION:Field A
CONTACT:
SUMMARY:S.O.L VS. Lobos Negro
DESCRIPTION:League Name: Summer Men's 2025-Men's D Division\nGame Type: Reg
 ular\nGame Status: Complete\nHome Team: S.O.L\nAway Team: Lobos Negro\nHom
 e Score: 7\nAway Score: 3
END:VEVENT
END:VCALENDAR
