BEGIN:VCALENDAR
VERSION:2.0
PRODID:-//EZFacility.com, Inc.//EZL 2.5.5.28621
BEGIN:VEVENT
UID:16398601@ezleagues.ezfacility.com
DTSTAMP:20260424T013515Z
CREATED:20260424T013515Z
DTSTART:20250504T210000Z
DTEND:20250504T215500Z
LOCATION:RINK 1
CONTACT:
SUMMARY:MEGA POWERS VS. HENCHMEN 
DESCRIPTION:League Name: HOCKEY - D SOUTH - SPRING/SUMMER - 2025\nGame Type
 : Regular\nGame Status: Complete\nHome Team: MEGA POWERS\nAway Team: HENCH
 MEN \nHome Score: 11\nAway Score: 3
END:VEVENT
BEGIN:VEVENT
UID:16398624@ezleagues.ezfacility.com
DTSTAMP:20260424T013515Z
CREATED:20260424T013515Z
DTSTART:20250514T235000Z
DTEND:20250515T004500Z
LOCATION:RINK 1
CONTACT:
SUMMARY:FLYING HELLFISH  VS. HENCHMEN 
DESCRIPTION:League Name: HOCKEY - D SOUTH - SPRING/SUMMER - 2025\nGame Type
 : Regular\nGame Status: Complete\nHome Team: FLYING HELLFISH \nAway Team: 
 HENCHMEN \nHome Score: 4\nAway Score: 5
END:VEVENT
BEGIN:VEVENT
UID:16398643@ezleagues.ezfacility.com
DTSTAMP:20260424T013515Z
CREATED:20260424T013515Z
DTSTART:20250518T210000Z
DTEND:20250518T215500Z
LOCATION:RINK 1
CONTACT:
SUMMARY:BEAVERS  VS. HENCHMEN 
DESCRIPTION:League Name: HOCKEY - D SOUTH - SPRING/SUMMER - 2025\nGame Type
 : Regular\nGame Status: Complete\nHome Team: BEAVERS \nAway Team: HENCHMEN
  \nHome Score: 7\nAway Score: 7
END:VEVENT
BEGIN:VEVENT
UID:16398661@ezleagues.ezfacility.com
DTSTAMP:20260424T013515Z
CREATED:20260424T013515Z
DTSTART:20250528T225500Z
DTEND:20250528T235000Z
LOCATION:RINK 1
CONTACT:
SUMMARY:HENCHMEN  VS. OL' DIRTY PIGEONS 
DESCRIPTION:League Name: HOCKEY - D SOUTH - SPRING/SUMMER - 2025\nGame Type
 : Regular\nGame Status: Complete\nHome Team: HENCHMEN \nAway Team: OL' DIR
 TY PIGEONS \nHome Score: 3\nAway Score: 3
END:VEVENT
BEGIN:VEVENT
UID:16399502@ezleagues.ezfacility.com
DTSTAMP:20260424T013515Z
CREATED:20260424T013515Z
DTSTART:20250605T002000Z
DTEND:20250605T011500Z
LOCATION:RINK 1
CONTACT:
SUMMARY:HENCHMEN  VS. WET BANDITS
DESCRIPTION:League Name: HOCKEY - D SOUTH - SPRING/SUMMER - 2025\nGame Type
 : Regular\nGame Status: Complete\nHome Team: HENCHMEN \nAway Team: WET BAN
 DITS\nHome Score: 3\nAway Score: 6
END:VEVENT
BEGIN:VEVENT
UID:16399507@ezleagues.ezfacility.com
DTSTAMP:20260424T013515Z
CREATED:20260424T013515Z
DTSTART:20250608T234500Z
DTEND:20250609T004000Z
LOCATION:RINK 1
CONTACT:
SUMMARY:VITOS VS. HENCHMEN 
DESCRIPTION:League Name: HOCKEY - D SOUTH - SPRING/SUMMER - 2025\nGame Type
 : Regular\nGame Status: Complete\nHome Team: VITOS\nAway Team: HENCHMEN \n
 Home Score: 3\nAway Score: 7
END:VEVENT
BEGIN:VEVENT
UID:16399688@ezleagues.ezfacility.com
DTSTAMP:20260424T013515Z
CREATED:20260424T013515Z
DTSTART:20250625T223000Z
DTEND:20250625T232500Z
LOCATION:RINK 1
CONTACT:
SUMMARY:BARRACUDAS VS. HENCHMEN 
DESCRIPTION:League Name: HOCKEY - D SOUTH - SPRING/SUMMER - 2025\nGame Type
 : Regular\nGame Status: Complete\nHome Team: BARRACUDAS\nAway Team: HENCHM
 EN \nHome Score: 2\nAway Score: 2
END:VEVENT
BEGIN:VEVENT
UID:16413682@ezleagues.ezfacility.com
DTSTAMP:20260424T013515Z
CREATED:20260424T013515Z
DTSTART:20250709T011500Z
DTEND:20250709T021000Z
LOCATION:RINK 1
CONTACT:
SUMMARY:BEAVERS  VS. HENCHMEN 
DESCRIPTION:League Name: HOCKEY - D SOUTH - SPRING/SUMMER - 2025\nGame Type
 : Regular\nGame Status: Complete\nHome Team: BEAVERS \nAway Team: HENCHMEN
  \nHome Score: 9\nAway Score: 5
END:VEVENT
BEGIN:VEVENT
UID:16413688@ezleagues.ezfacility.com
DTSTAMP:20260424T013515Z
CREATED:20260424T013515Z
DTSTART:20250713T200500Z
DTEND:20250713T210000Z
LOCATION:RINK 1
CONTACT:
SUMMARY:MEGA POWERS VS. HENCHMEN 
DESCRIPTION:League Name: HOCKEY - D SOUTH - SPRING/SUMMER - 2025\nGame Type
 : Regular\nGame Status: Complete\nHome Team: MEGA POWERS\nAway Team: HENCH
 MEN \nHome Score: 8\nAway Score: 2
END:VEVENT
BEGIN:VEVENT
UID:16399585@ezleagues.ezfacility.com
DTSTAMP:20260424T013515Z
CREATED:20260424T013515Z
DTSTART:20250716T220000Z
DTEND:20250716T225500Z
LOCATION:RINK 1
CONTACT:
SUMMARY:HENCHMEN  VS. SHAMROCKS 
DESCRIPTION:League Name: HOCKEY - D SOUTH - SPRING/SUMMER - 2025\nGame Type
 : Regular\nGame Status: Complete\nHome Team: HENCHMEN \nAway Team: SHAMROC
 KS \nHome Score: 3\nAway Score: 8
END:VEVENT
BEGIN:VEVENT
UID:16418080@ezleagues.ezfacility.com
DTSTAMP:20260424T013515Z
CREATED:20260424T013515Z
DTSTART:20250721T220000Z
DTEND:20250721T225500Z
LOCATION:RINK 1
CONTACT:
SUMMARY:FLYING HELLFISH  VS. HENCHMEN 
DESCRIPTION:League Name: HOCKEY - D SOUTH - SPRING/SUMMER - 2025\nGame Type
 : Regular\nGame Status: Complete\nHome Team: FLYING HELLFISH \nAway Team: 
 HENCHMEN \nHome Score: 9\nAway Score: 4
END:VEVENT
BEGIN:VEVENT
UID:16419009@ezleagues.ezfacility.com
DTSTAMP:20260424T013515Z
CREATED:20260424T013515Z
DTSTART:20250730T232500Z
DTEND:20250731T002000Z
LOCATION:RINK 1
CONTACT:
SUMMARY:OL' DIRTY PIGEONS  VS. HENCHMEN 
DESCRIPTION:League Name: HOCKEY - D SOUTH - SPRING/SUMMER - 2025\nGame Type
 : Regular\nGame Status: Complete\nHome Team: OL' DIRTY PIGEONS \nAway Team
 : HENCHMEN \nHome Score: 2\nAway Score: 4
END:VEVENT
END:VCALENDAR
