BEGIN:VCALENDAR
VERSION:2.0
PRODID:-//EZFacility.com, Inc.//EZL 2.5.5.28621
BEGIN:VEVENT
UID:16394039@ezleagues.ezfacility.com
DTSTAMP:20260426T035128Z
CREATED:20260426T035128Z
DTSTART:20250417T000000Z
DTEND:20250417T010000Z
LOCATION:Field 1 BLD
CONTACT:
SUMMARY:Chelsea FC OUT VS. All American Security
DESCRIPTION:League Name: MIERCOLES 4/16 Libre\nGame Type: Regular\nGame Sta
 tus: Complete\nHome Team: Chelsea FC OUT\nAway Team: All American Security
 \nHome Score: 1\nAway Score: 28
END:VEVENT
BEGIN:VEVENT
UID:16398651@ezleagues.ezfacility.com
DTSTAMP:20260426T035128Z
CREATED:20260426T035128Z
DTSTART:20250424T004500Z
DTEND:20250424T014500Z
LOCATION:Field 5 BLD
CONTACT:
SUMMARY:All American Security VS. SSR
DESCRIPTION:League Name: MIERCOLES 4/16 Libre\nGame Type: Regular\nGame Sta
 tus: Complete\nHome Team: All American Security\nAway Team: SSR\nHome Scor
 e: 9\nAway Score: 10
END:VEVENT
BEGIN:VEVENT
UID:16445284@ezleagues.ezfacility.com
DTSTAMP:20260426T035128Z
CREATED:20260426T035128Z
DTSTART:20250501T003500Z
DTEND:20250501T013500Z
LOCATION:Field 1 BLD
CONTACT:
SUMMARY:All American Security VS. Harris FC
DESCRIPTION:League Name: MIERCOLES 4/16 Libre\nGame Type: Regular\nGame Sta
 tus: Complete\nHome Team: All American Security\nAway Team: Harris FC\nHom
 e Score: 19\nAway Score: 7
END:VEVENT
BEGIN:VEVENT
UID:16427582@ezleagues.ezfacility.com
DTSTAMP:20260426T035128Z
CREATED:20260426T035128Z
DTSTART:20250508T000000Z
DTEND:20250508T010000Z
LOCATION:Field 1 BLD
CONTACT:
SUMMARY:All American Security VS. San Nicho
DESCRIPTION:League Name: MIERCOLES 4/16 Libre\nGame Type: Regular\nGame Sta
 tus: Complete\nHome Team: All American Security\nAway Team: San Nicho\nHom
 e Score: 15\nAway Score: 8
END:VEVENT
BEGIN:VEVENT
UID:16454733@ezleagues.ezfacility.com
DTSTAMP:20260426T035128Z
CREATED:20260426T035128Z
DTSTART:20250522T000000Z
DTEND:20250522T010000Z
LOCATION:Field 2 BLD
CONTACT:
SUMMARY:All American Security VS. Takis
DESCRIPTION:League Name: MIERCOLES 4/16 Libre\nGame Type: Regular\nGame Sta
 tus: Complete\nHome Team: All American Security\nAway Team: Takis\nHome Sc
 ore: 20\nAway Score: 7
END:VEVENT
BEGIN:VEVENT
UID:16478009@ezleagues.ezfacility.com
DTSTAMP:20260426T035128Z
CREATED:20260426T035128Z
DTSTART:20250529T010000Z
DTEND:20250529T020000Z
LOCATION:Field 5 BLD
CONTACT:
SUMMARY:All American Security VS. Limeño FC
DESCRIPTION:League Name: MIERCOLES 4/16 Libre\nGame Type: Regular\nGame Sta
 tus: Complete\nHome Team: All American Security\nAway Team: Limeño FC\nHo
 me Score: 5\nAway Score: 13
END:VEVENT
BEGIN:VEVENT
UID:16489506@ezleagues.ezfacility.com
DTSTAMP:20260426T035128Z
CREATED:20260426T035128Z
DTSTART:20250605T000000Z
DTEND:20250605T010000Z
LOCATION:Field 5 BLD
CONTACT:
SUMMARY:All American Security VS. South Winston FC (Ciruelos)
DESCRIPTION:League Name: MIERCOLES 4/16 Libre\nGame Type: Regular\nGame Sta
 tus: Complete\nHome Team: All American Security\nAway Team: South Winston 
 FC (Ciruelos)\nHome Score: 8\nAway Score: 4
END:VEVENT
BEGIN:VEVENT
UID:16511064@ezleagues.ezfacility.com
DTSTAMP:20260426T035128Z
CREATED:20260426T035128Z
DTSTART:20250612T000000Z
DTEND:20250612T010000Z
LOCATION:Field 4 BLD
CONTACT:
SUMMARY:All American Security VS. Dptvo Mari FC
DESCRIPTION:League Name: MIERCOLES 4/16 Libre\nGame Type: Regular\nGame Sta
 tus: Complete\nHome Team: All American Security\nAway Team: Dptvo Mari FC\
 nHome Score: 13\nAway Score: 20
END:VEVENT
BEGIN:VEVENT
UID:16520141@ezleagues.ezfacility.com
DTSTAMP:20260426T035128Z
CREATED:20260426T035128Z
DTSTART:20250619T010000Z
DTEND:20250619T020000Z
LOCATION:Field 2 BLD
CONTACT:
SUMMARY:All American Security VS. Los Guerreros
DESCRIPTION:League Name: MIERCOLES 4/16 Libre\nGame Type: Regular\nGame Sta
 tus: Complete\nHome Team: All American Security\nAway Team: Los Guerreros\
 nHome Score: 12\nAway Score: 8
END:VEVENT
BEGIN:VEVENT
UID:16545172@ezleagues.ezfacility.com
DTSTAMP:20260426T035128Z
CREATED:20260426T035128Z
DTSTART:20250626T010000Z
DTEND:20250626T020000Z
LOCATION:Field 6 BLD Outdoor
CONTACT:
SUMMARY:All American Security VS. Piratas
DESCRIPTION:League Name: MIERCOLES 4/16 Libre\nGame Type: Regular\nGame Sta
 tus: Complete\nHome Team: All American Security\nAway Team: Piratas\nHome 
 Score: 12\nAway Score: 2
END:VEVENT
BEGIN:VEVENT
UID:16556278@ezleagues.ezfacility.com
DTSTAMP:20260426T035128Z
CREATED:20260426T035128Z
DTSTART:20250703T010000Z
DTEND:20250703T020000Z
LOCATION:Field 5 BLD
CONTACT:
SUMMARY:All American Security VS. Kernersville
DESCRIPTION:League Name: MIERCOLES 4/16 Libre\nGame Type: Regular\nGame Sta
 tus: Complete\nHome Team: All American Security\nAway Team: Kernersville\n
 Home Score: 11\nAway Score: 8
END:VEVENT
BEGIN:VEVENT
UID:16551748@ezleagues.ezfacility.com
DTSTAMP:20260426T035128Z
CREATED:20260426T035128Z
DTSTART:20250710T000000Z
DTEND:20250710T010000Z
LOCATION:Field 5 BLD
CONTACT:
SUMMARY:Roma VS. All American Security
DESCRIPTION:League Name: MIERCOLES 4/16 Libre\nGame Type: Regular\nGame Sta
 tus: Complete\nHome Team: Roma\nAway Team: All American Security\nHome Sco
 re: 10\nAway Score: 8
END:VEVENT
BEGIN:VEVENT
UID:16559449@ezleagues.ezfacility.com
DTSTAMP:20260426T035128Z
CREATED:20260426T035128Z
DTSTART:20250717T010000Z
DTEND:20250717T020000Z
LOCATION:Field 6 BLD Outdoor
CONTACT:
SUMMARY:All American Security VS. Galaxy 11 (Deportivo Fibra)
DESCRIPTION:League Name: MIERCOLES 4/16 Libre\nGame Type: Regular\nGame Sta
 tus: Complete\nHome Team: All American Security\nAway Team: Galaxy 11 (Dep
 ortivo Fibra)\nHome Score: 5\nAway Score: 3
END:VEVENT
BEGIN:VEVENT
UID:16568287@ezleagues.ezfacility.com
DTSTAMP:20260426T035128Z
CREATED:20260426T035128Z
DTSTART:20250724T010000Z
DTEND:20250724T020000Z
LOCATION:Field 2 BLD
CONTACT:
SUMMARY:All American Security VS. Prime FC
DESCRIPTION:League Name: MIERCOLES 4/16 Libre\nGame Type: Regular\nGame Sta
 tus: Complete\nHome Team: All American Security\nAway Team: Prime FC\nHome
  Score: 24\nAway Score: 12
END:VEVENT
BEGIN:VEVENT
UID:16576204@ezleagues.ezfacility.com
DTSTAMP:20260426T035128Z
CREATED:20260426T035128Z
DTSTART:20250731T000000Z
DTEND:20250731T010000Z
LOCATION:Field 1 BLD
CONTACT:
SUMMARY:All American Security VS. River Plate 
DESCRIPTION:League Name: MIERCOLES 4/16 Libre\nGame Type: Regular\nGame Sta
 tus: Complete\nHome Team: All American Security\nAway Team: River Plate \n
 Home Score: 12\nAway Score: 14
END:VEVENT
END:VCALENDAR
