BEGIN:VCALENDAR
VERSION:2.0
PRODID:-//EZFacility.com, Inc.//EZL 2.5.5.28621
BEGIN:VEVENT
UID:16394139@ezleagues.ezfacility.com
DTSTAMP:20260425T112153Z
CREATED:20260425T112153Z
DTSTART:20250429T235000Z
DTEND:20250430T004000Z
LOCATION:Indoor Field
CONTACT:
SUMMARY:Longview United VS. FC Dallas (Dakota)
DESCRIPTION:League Name: High School Girls 2025\nGame Type: Regular\nGame S
 tatus: Complete\nHome Team: Longview United\nAway Team: FC Dallas (Dakota)
 \nHome Score: 8\nAway Score: 0
END:VEVENT
BEGIN:VEVENT
UID:16394121@ezleagues.ezfacility.com
DTSTAMP:20260425T112153Z
CREATED:20260425T112153Z
DTSTART:20250507T013000Z
DTEND:20250507T022000Z
LOCATION:Indoor Field
CONTACT:
SUMMARY:Longview United VS. PTFC
DESCRIPTION:League Name: High School Girls 2025\nGame Type: Regular\nGame S
 tatus: Complete\nHome Team: Longview United\nAway Team: PTFC\nHome Score: 
 11\nAway Score: 1
END:VEVENT
BEGIN:VEVENT
UID:16394127@ezleagues.ezfacility.com
DTSTAMP:20260425T112153Z
CREATED:20260425T112153Z
DTSTART:20250513T230000Z
DTEND:20250513T235000Z
LOCATION:Indoor Field
CONTACT:
SUMMARY:Longview United VS. Marshall 2
DESCRIPTION:League Name: High School Girls 2025\nGame Type: Regular\nGame S
 tatus: Complete\nHome Team: Longview United\nAway Team: Marshall 2\nHome S
 core: 15\nAway Score: 2
END:VEVENT
BEGIN:VEVENT
UID:16394133@ezleagues.ezfacility.com
DTSTAMP:20260425T112153Z
CREATED:20260425T112153Z
DTSTART:20250521T004000Z
DTEND:20250521T013000Z
LOCATION:Outdoor Field
CONTACT:
SUMMARY:Longview United VS. Hallsville FC
DESCRIPTION:League Name: High School Girls 2025\nGame Type: Regular\nGame S
 tatus: Complete\nHome Team: Longview United\nAway Team: Hallsville FC\nHom
 e Score: 12\nAway Score: 3
END:VEVENT
BEGIN:VEVENT
UID:16394144@ezleagues.ezfacility.com
DTSTAMP:20260425T112153Z
CREATED:20260425T112153Z
DTSTART:20250603T230000Z
DTEND:20250603T235000Z
LOCATION:Indoor Field
CONTACT:
SUMMARY:SH Fatties VS. Longview United
DESCRIPTION:League Name: High School Girls 2025\nGame Type: Regular\nGame S
 tatus: Complete\nHome Team: SH Fatties\nAway Team: Longview United\nHome S
 core: 3\nAway Score: 24
END:VEVENT
BEGIN:VEVENT
UID:16394111@ezleagues.ezfacility.com
DTSTAMP:20260425T112153Z
CREATED:20260425T112153Z
DTSTART:20250610T235000Z
DTEND:20250611T004000Z
LOCATION:Indoor Field
CONTACT:
SUMMARY:ETSC VS. Longview United
DESCRIPTION:League Name: High School Girls 2025\nGame Type: Regular\nGame S
 tatus: Complete\nHome Team: ETSC\nAway Team: Longview United\nHome Score: 
 4\nAway Score: 6
END:VEVENT
BEGIN:VEVENT
UID:16394115@ezleagues.ezfacility.com
DTSTAMP:20260425T112153Z
CREATED:20260425T112153Z
DTSTART:20250617T235000Z
DTEND:20250618T004000Z
LOCATION:Indoor Field
CONTACT:
SUMMARY:ETU Girls VS. Longview United
DESCRIPTION:League Name: High School Girls 2025\nGame Type: Regular\nGame S
 tatus: Complete\nHome Team: ETU Girls\nAway Team: Longview United\nHome Sc
 ore: 5\nAway Score: 7
END:VEVENT
BEGIN:VEVENT
UID:16499804@ezleagues.ezfacility.com
DTSTAMP:20260425T112153Z
CREATED:20260425T112153Z
DTSTART:20250625T002000Z
DTEND:20250625T011000Z
LOCATION:Indoor Field
CONTACT:
SUMMARY:Longview United VS. Underdogs 2.0
DESCRIPTION:League Name: High School Girls 2025\nGame Type: Postseason\nGam
 e Status: Pending\nHome Team: Longview United\nAway Team: Underdogs 2.0\n
END:VEVENT
END:VCALENDAR
