BEGIN:VCALENDAR
VERSION:2.0
PRODID:-//EZFacility.com, Inc.//EZL 2.5.5.28621
BEGIN:VEVENT
UID:16455871@ezleagues.ezfacility.com
DTSTAMP:20260424T044345Z
CREATED:20260424T044345Z
DTSTART:20250604T220000Z
DTEND:20250604T225200Z
LOCATION:FS Indoor Field 2
CONTACT:
SUMMARY:FC Red Card VS. Leones FC
DESCRIPTION:League Name: Summer Indoor (June)- Men's 30+ (Wednesdays)\nGame
  Type: Regular\nGame Status: Complete\nHome Team: FC Red Card\nAway Team: 
 Leones FC\nHome Score: 3\nAway Score: 0
END:VEVENT
BEGIN:VEVENT
UID:16455873@ezleagues.ezfacility.com
DTSTAMP:20260424T044345Z
CREATED:20260424T044345Z
DTSTART:20250611T220000Z
DTEND:20250611T225200Z
LOCATION:FS Indoor Field 2
CONTACT:
SUMMARY:FC Red Card VS. Los Super Campeones
DESCRIPTION:League Name: Summer Indoor (June)- Men's 30+ (Wednesdays)\nGame
  Type: Regular\nGame Status: Complete\nHome Team: FC Red Card\nAway Team: 
 Los Super Campeones\nHome Score: 1\nAway Score: 15
END:VEVENT
BEGIN:VEVENT
UID:16455875@ezleagues.ezfacility.com
DTSTAMP:20260424T044345Z
CREATED:20260424T044345Z
DTSTART:20250618T220000Z
DTEND:20250618T225200Z
LOCATION:FS Indoor Field 2
CONTACT:
SUMMARY:FC Red Card VS. Gigondas
DESCRIPTION:League Name: Summer Indoor (June)- Men's 30+ (Wednesdays)\nGame
  Type: Regular\nGame Status: Complete\nHome Team: FC Red Card\nAway Team: 
 Gigondas\nHome Score: 2\nAway Score: 14
END:VEVENT
BEGIN:VEVENT
UID:16455877@ezleagues.ezfacility.com
DTSTAMP:20260424T044345Z
CREATED:20260424T044345Z
DTSTART:20250625T225200Z
DTEND:20250625T234400Z
LOCATION:FS Indoor Field 2
CONTACT:
SUMMARY:Leones FC VS. FC Red Card
DESCRIPTION:League Name: Summer Indoor (June)- Men's 30+ (Wednesdays)\nGame
  Type: Regular\nGame Status: Complete\nHome Team: Leones FC\nAway Team: FC
  Red Card\nHome Score: 9\nAway Score: 4
END:VEVENT
BEGIN:VEVENT
UID:16455879@ezleagues.ezfacility.com
DTSTAMP:20260424T044345Z
CREATED:20260424T044345Z
DTSTART:20250702T225200Z
DTEND:20250702T234400Z
LOCATION:FS Indoor Field 2
CONTACT:
SUMMARY:Los Super Campeones VS. FC Red Card
DESCRIPTION:League Name: Summer Indoor (June)- Men's 30+ (Wednesdays)\nGame
  Type: Regular\nGame Status: Complete\nHome Team: Los Super Campeones\nAwa
 y Team: FC Red Card\nHome Score: 11\nAway Score: 6
END:VEVENT
BEGIN:VEVENT
UID:16455881@ezleagues.ezfacility.com
DTSTAMP:20260424T044345Z
CREATED:20260424T044345Z
DTSTART:20250709T225200Z
DTEND:20250709T234400Z
LOCATION:FS Indoor Field 1
CONTACT:
SUMMARY:Gigondas VS. FC Red Card
DESCRIPTION:League Name: Summer Indoor (June)- Men's 30+ (Wednesdays)\nGame
  Type: Regular\nGame Status: Complete\nHome Team: Gigondas\nAway Team: FC 
 Red Card\nHome Score: 6\nAway Score: 4
END:VEVENT
BEGIN:VEVENT
UID:16455883@ezleagues.ezfacility.com
DTSTAMP:20260424T044345Z
CREATED:20260424T044345Z
DTSTART:20250716T220000Z
DTEND:20250716T225200Z
LOCATION:FS Indoor Field 1
CONTACT:
SUMMARY:Leones FC VS. FC Red Card
DESCRIPTION:League Name: Summer Indoor (June)- Men's 30+ (Wednesdays)\nGame
  Type: Regular\nGame Status: Complete\nHome Team: Leones FC\nAway Team: FC
  Red Card\nHome Score: 0\nAway Score: 0
END:VEVENT
END:VCALENDAR
