BEGIN:VCALENDAR
VERSION:2.0
PRODID:-//EZFacility.com, Inc.//EZL 2.5.5.28621
BEGIN:VEVENT
UID:16515558@ezleagues.ezfacility.com
DTSTAMP:20260420T221404Z
CREATED:20260420T221404Z
DTSTART:20250623T230000Z
DTEND:20250624T000000Z
LOCATION:Jessup Premier Field #2
CONTACT:
SUMMARY:Nap Town Rovers VS. Desk Jockeys
DESCRIPTION:League Name: Mon Mens Over 35s 3rd div  \nGame Type: Regular\nG
 ame Status: Complete\nHome Team: Nap Town Rovers\nAway Team: Desk Jockeys\
 nHome Score: 2\nAway Score: 9
END:VEVENT
BEGIN:VEVENT
UID:16515568@ezleagues.ezfacility.com
DTSTAMP:20260420T221404Z
CREATED:20260420T221404Z
DTSTART:20250701T020000Z
DTEND:20250701T030000Z
LOCATION:Jessup Premier Field #2
CONTACT:
SUMMARY:Desk Jockeys VS. Polar Bears
DESCRIPTION:League Name: Mon Mens Over 35s 3rd div  \nGame Type: Regular\nG
 ame Status: Complete\nHome Team: Desk Jockeys\nAway Team: Polar Bears\nHom
 e Score: 4\nAway Score: 3
END:VEVENT
BEGIN:VEVENT
UID:16515577@ezleagues.ezfacility.com
DTSTAMP:20260420T221404Z
CREATED:20260420T221404Z
DTSTART:20250708T000000Z
DTEND:20250708T010000Z
LOCATION:Jessup Premier Field #1
CONTACT:
SUMMARY:Blue Devils VS. Desk Jockeys
DESCRIPTION:League Name: Mon Mens Over 35s 3rd div  \nGame Type: Regular\nG
 ame Status: Complete\nHome Team: Blue Devils\nAway Team: Desk Jockeys\nHom
 e Score: 3\nAway Score: 6
END:VEVENT
BEGIN:VEVENT
UID:16515586@ezleagues.ezfacility.com
DTSTAMP:20260420T221404Z
CREATED:20260420T221404Z
DTSTART:20250715T020000Z
DTEND:20250715T030000Z
LOCATION:Jessup Premier Field #1
CONTACT:
SUMMARY:Pumpkins Eaters VS. Desk Jockeys
DESCRIPTION:League Name: Mon Mens Over 35s 3rd div  \nGame Type: Regular\nG
 ame Status: Complete\nHome Team: Pumpkins Eaters\nAway Team: Desk Jockeys\
 nHome Score: 6\nAway Score: 4
END:VEVENT
BEGIN:VEVENT
UID:16515597@ezleagues.ezfacility.com
DTSTAMP:20260420T221404Z
CREATED:20260420T221404Z
DTSTART:20250722T030000Z
DTEND:20250722T040000Z
LOCATION:Jessup Premier Field #2
CONTACT:
SUMMARY:Desk Jockeys VS. Broadneck BNO
DESCRIPTION:League Name: Mon Mens Over 35s 3rd div  \nGame Type: Regular\nG
 ame Status: Complete\nHome Team: Desk Jockeys\nAway Team: Broadneck BNO\nH
 ome Score: 4\nAway Score: 6
END:VEVENT
BEGIN:VEVENT
UID:16515608@ezleagues.ezfacility.com
DTSTAMP:20260420T221404Z
CREATED:20260420T221404Z
DTSTART:20250729T010000Z
DTEND:20250729T020000Z
LOCATION:Jessup Premier Field #2
CONTACT:
SUMMARY:Desk Jockeys VS. Nap Town Rovers
DESCRIPTION:League Name: Mon Mens Over 35s 3rd div  \nGame Type: Regular\nG
 ame Status: Complete\nHome Team: Desk Jockeys\nAway Team: Nap Town Rovers\
 nHome Score: 5\nAway Score: 1
END:VEVENT
BEGIN:VEVENT
UID:16515618@ezleagues.ezfacility.com
DTSTAMP:20260420T221404Z
CREATED:20260420T221404Z
DTSTART:20250804T230000Z
DTEND:20250805T000000Z
LOCATION:Jessup Premier Field #1
CONTACT:
SUMMARY:Polar Bears VS. Desk Jockeys
DESCRIPTION:League Name: Mon Mens Over 35s 3rd div  \nGame Type: Regular\nG
 ame Status: Complete\nHome Team: Polar Bears\nAway Team: Desk Jockeys\nHom
 e Score: 7\nAway Score: 3
END:VEVENT
BEGIN:VEVENT
UID:16578908@ezleagues.ezfacility.com
DTSTAMP:20260420T221404Z
CREATED:20260420T221404Z
DTSTART:20250812T010000Z
DTEND:20250812T014800Z
LOCATION:Jessup Premier Field #2
CONTACT:
SUMMARY:Polar Bears VS. Desk Jockeys
DESCRIPTION:League Name: Mon Mens Over 35s 3rd div  \nGame Type: Regular\nG
 ame Status: Complete\nHome Team: Polar Bears\nAway Team: Desk Jockeys\nHom
 e Score: 1\nAway Score: 3
END:VEVENT
BEGIN:VEVENT
UID:16583759@ezleagues.ezfacility.com
DTSTAMP:20260420T221404Z
CREATED:20260420T221404Z
DTSTART:20250819T000000Z
DTEND:20250819T004800Z
LOCATION:Jessup Premier Field #1
CONTACT:
SUMMARY:Pumpkins Eaters VS. Desk Jockeys
DESCRIPTION:League Name: Mon Mens Over 35s 3rd div  \nGame Type: Regular\nG
 ame Status: Complete\nHome Team: Pumpkins Eaters\nAway Team: Desk Jockeys\
 nHome Score: 2\nAway Score: 3
END:VEVENT
END:VCALENDAR
