BEGIN:VCALENDAR
VERSION:2.0
PRODID:-//EZFacility.com, Inc.//EZL 2.5.5.28621
BEGIN:VEVENT
UID:16415099@ezleagues.ezfacility.com
DTSTAMP:20260426T034943Z
CREATED:20260426T034943Z
DTSTART:20250504T184500Z
DTEND:20250504T203000Z
LOCATION:Field # 1
CONTACT:
SUMMARY:Diablos Fc VS. Brothers Baber shop
DESCRIPTION:League Name: UNITED Outdoor 2025-SEGUNDA\nGame Type: Regular\nG
 ame Status: Complete\nHome Team: Diablos Fc\nAway Team: Brothers Baber sho
 p\nHome Score: 3\nAway Score: 5
END:VEVENT
BEGIN:VEVENT
UID:16415144@ezleagues.ezfacility.com
DTSTAMP:20260426T034943Z
CREATED:20260426T034943Z
DTSTART:20250511T190000Z
DTEND:20250511T204500Z
LOCATION:Field # 5
CONTACT:
SUMMARY:Isla D Mar VS. Brothers Baber shop
DESCRIPTION:League Name: UNITED Outdoor 2025-SEGUNDA\nGame Type: Regular\nG
 ame Status: Complete\nHome Team: Isla D Mar\nAway Team: Brothers Baber sho
 p\nHome Score: 2\nAway Score: 2
END:VEVENT
BEGIN:VEVENT
UID:16415189@ezleagues.ezfacility.com
DTSTAMP:20260426T034943Z
CREATED:20260426T034943Z
DTSTART:20250518T184500Z
DTEND:20250518T203000Z
LOCATION:Field # 11
CONTACT:
SUMMARY:FC Belicos VS. Brothers Baber shop
DESCRIPTION:League Name: UNITED Outdoor 2025-SEGUNDA\nGame Type: Regular\nG
 ame Status: Complete\nHome Team: FC Belicos\nAway Team: Brothers Baber sho
 p\nHome Score: 3\nAway Score: 3
END:VEVENT
BEGIN:VEVENT
UID:16415234@ezleagues.ezfacility.com
DTSTAMP:20260426T034943Z
CREATED:20260426T034943Z
DTSTART:20250525T184500Z
DTEND:20250525T203000Z
LOCATION:Field # 5
CONTACT:
SUMMARY:Morelos Fc VS. Brothers Baber shop
DESCRIPTION:League Name: UNITED Outdoor 2025-SEGUNDA\nGame Type: Regular\nG
 ame Status: Complete\nHome Team: Morelos Fc\nAway Team: Brothers Baber sho
 p\nHome Score: 3\nAway Score: 2
END:VEVENT
BEGIN:VEVENT
UID:16415279@ezleagues.ezfacility.com
DTSTAMP:20260426T034943Z
CREATED:20260426T034943Z
DTSTART:20250601T184500Z
DTEND:20250601T203000Z
LOCATION:Field # 9
CONTACT:
SUMMARY:Jose Auto Sales VS. Brothers Baber shop
DESCRIPTION:League Name: UNITED Outdoor 2025-SEGUNDA\nGame Type: Regular\nG
 ame Status: Complete\nHome Team: Jose Auto Sales\nAway Team: Brothers Babe
 r shop\nHome Score: 0\nAway Score: 2
END:VEVENT
BEGIN:VEVENT
UID:16415326@ezleagues.ezfacility.com
DTSTAMP:20260426T034943Z
CREATED:20260426T034943Z
DTSTART:20250608T183000Z
DTEND:20250608T201500Z
LOCATION:Field # 6
CONTACT:
SUMMARY:Brothers Baber shop VS. Comunicaciones
DESCRIPTION:League Name: UNITED Outdoor 2025-SEGUNDA\nGame Type: Regular\nG
 ame Status: Complete\nHome Team: Brothers Baber shop\nAway Team: Comunicac
 iones\nHome Score: 0\nAway Score: 5
END:VEVENT
BEGIN:VEVENT
UID:16415373@ezleagues.ezfacility.com
DTSTAMP:20260426T034943Z
CREATED:20260426T034943Z
DTSTART:20250615T184500Z
DTEND:20250615T203000Z
LOCATION:Field # 11
CONTACT:
SUMMARY:Brothers Baber shop VS. FC Belicos
DESCRIPTION:League Name: UNITED Outdoor 2025-SEGUNDA\nGame Type: Regular\nG
 ame Status: Complete\nHome Team: Brothers Baber shop\nAway Team: FC Belico
 s\nHome Score: 0\nAway Score: 3
END:VEVENT
BEGIN:VEVENT
UID:16415467@ezleagues.ezfacility.com
DTSTAMP:20260426T034943Z
CREATED:20260426T034943Z
DTSTART:20250629T184500Z
DTEND:20250629T203000Z
LOCATION:Field # 1
CONTACT:
SUMMARY:Brothers Baber shop VS. Las Granjas
DESCRIPTION:League Name: UNITED Outdoor 2025-SEGUNDA\nGame Type: Regular\nG
 ame Status: Complete\nHome Team: Brothers Baber shop\nAway Team: Las Granj
 as\nHome Score: 0\nAway Score: 0
END:VEVENT
BEGIN:VEVENT
UID:16415511@ezleagues.ezfacility.com
DTSTAMP:20260426T034943Z
CREATED:20260426T034943Z
DTSTART:20250706T184500Z
DTEND:20250706T203000Z
LOCATION:Field # 1
CONTACT:
SUMMARY:Guamiles  Fc VS. Brothers Baber shop
DESCRIPTION:League Name: UNITED Outdoor 2025-SEGUNDA\nGame Type: Regular\nG
 ame Status: Complete\nHome Team: Guamiles  Fc\nAway Team: Brothers Baber s
 hop\nHome Score: 1\nAway Score: 1
END:VEVENT
BEGIN:VEVENT
UID:16415562@ezleagues.ezfacility.com
DTSTAMP:20260426T034943Z
CREATED:20260426T034943Z
DTSTART:20250713T184500Z
DTEND:20250713T203000Z
LOCATION:Field # 7
CONTACT:
SUMMARY:Brothers Baber shop VS. Talacha Fc
DESCRIPTION:League Name: UNITED Outdoor 2025-SEGUNDA\nGame Type: Regular\nG
 ame Status: Complete\nHome Team: Brothers Baber shop\nAway Team: Talacha F
 c\nHome Score: 1\nAway Score: 7
END:VEVENT
BEGIN:VEVENT
UID:16415609@ezleagues.ezfacility.com
DTSTAMP:20260426T034943Z
CREATED:20260426T034943Z
DTSTART:20250720T184500Z
DTEND:20250720T203000Z
LOCATION:Field # 2
CONTACT:
SUMMARY:Brothers Baber shop VS. La Luz
DESCRIPTION:League Name: UNITED Outdoor 2025-SEGUNDA\nGame Type: Regular\nG
 ame Status: Complete\nHome Team: Brothers Baber shop\nAway Team: La Luz\nH
 ome Score: 2\nAway Score: 2
END:VEVENT
BEGIN:VEVENT
UID:16415704@ezleagues.ezfacility.com
DTSTAMP:20260426T034943Z
CREATED:20260426T034943Z
DTSTART:20250803T173000Z
DTEND:20250803T191500Z
LOCATION:Champ-Turf
CONTACT:
SUMMARY:Brothers Baber shop VS. Los Amigos
DESCRIPTION:League Name: UNITED Outdoor 2025-SEGUNDA\nGame Type: Regular\nG
 ame Status: Complete\nHome Team: Brothers Baber shop\nAway Team: Los Amigo
 s\nHome Score: 2\nAway Score: 3
END:VEVENT
BEGIN:VEVENT
UID:16415425@ezleagues.ezfacility.com
DTSTAMP:20260426T034943Z
CREATED:20260426T034943Z
DTSTART:20250810T184500Z
DTEND:20250810T203000Z
LOCATION:Field # 2
CONTACT:
SUMMARY:Guayavillas  VS. Brothers Baber shop
DESCRIPTION:League Name: UNITED Outdoor 2025-SEGUNDA\nGame Type: Regular\nG
 ame Status: Complete\nHome Team: Guayavillas \nAway Team: Brothers Baber s
 hop\nHome Score: 3\nAway Score: 1
END:VEVENT
BEGIN:VEVENT
UID:16415656@ezleagues.ezfacility.com
DTSTAMP:20260426T034943Z
CREATED:20260426T034943Z
DTSTART:20250824T184500Z
DTEND:20250824T203000Z
LOCATION:Field # 4
CONTACT:
SUMMARY:Toty  Fc VS. Brothers Baber shop
DESCRIPTION:League Name: UNITED Outdoor 2025-SEGUNDA\nGame Type: Regular\nG
 ame Status: Complete\nHome Team: Toty  Fc\nAway Team: Brothers Baber shop\
 nHome Score: 7\nAway Score: 0
END:VEVENT
BEGIN:VEVENT
UID:16600636@ezleagues.ezfacility.com
DTSTAMP:20260426T034943Z
CREATED:20260426T034943Z
DTSTART:20250831T184500Z
DTEND:20250831T203000Z
LOCATION:Field # 9
CONTACT:
SUMMARY:Brothers Baber shop VS. Jose Auto Sales
DESCRIPTION:League Name: UNITED Outdoor 2025-SEGUNDA\nGame Type: Regular\nG
 ame Status: Complete\nHome Team: Brothers Baber shop\nAway Team: Jose Auto
  Sales\nHome Score: 3\nAway Score: 0
END:VEVENT
END:VCALENDAR
