BEGIN:VCALENDAR
VERSION:2.0
PRODID:-//EZFacility.com, Inc.//EZL 2.5.5.28621
BEGIN:VEVENT
UID:16415113@ezleagues.ezfacility.com
DTSTAMP:20260421T044911Z
CREATED:20260421T044911Z
DTSTART:20250504T184500Z
DTEND:20250504T203000Z
LOCATION:Field # 2
CONTACT:
SUMMARY:Dep. Alcon Prieto VS. Dep. El   Ancon
DESCRIPTION:League Name: UNITED Outdoor 2025-Tercera "A"\nGame Type: Regula
 r\nGame Status: Complete\nHome Team: Dep. Alcon Prieto\nAway Team: Dep. El
    Ancon\nHome Score: 1\nAway Score: 6
END:VEVENT
BEGIN:VEVENT
UID:16415158@ezleagues.ezfacility.com
DTSTAMP:20260421T044911Z
CREATED:20260421T044911Z
DTSTART:20250511T154500Z
DTEND:20250511T173000Z
LOCATION:Field # 5
CONTACT:
SUMMARY:Once Hermanos VS. Dep. El   Ancon
DESCRIPTION:League Name: UNITED Outdoor 2025-Tercera "A"\nGame Type: Regula
 r\nGame Status: Complete\nHome Team: Once Hermanos\nAway Team: Dep. El   A
 ncon\nHome Score: 1\nAway Score: 2
END:VEVENT
BEGIN:VEVENT
UID:16415203@ezleagues.ezfacility.com
DTSTAMP:20260421T044911Z
CREATED:20260421T044911Z
DTSTART:20250518T171500Z
DTEND:20250518T190000Z
LOCATION:Field # 3
CONTACT:
SUMMARY:Only Subs Fc VS. Dep. El   Ancon
DESCRIPTION:League Name: UNITED Outdoor 2025-Tercera "A"\nGame Type: Regula
 r\nGame Status: Complete\nHome Team: Only Subs Fc\nAway Team: Dep. El   An
 con\nHome Score: 2\nAway Score: 4
END:VEVENT
BEGIN:VEVENT
UID:16415248@ezleagues.ezfacility.com
DTSTAMP:20260421T044911Z
CREATED:20260421T044911Z
DTSTART:20250525T184500Z
DTEND:20250525T203000Z
LOCATION:Field # 8
CONTACT:
SUMMARY:Cipotes Fc VS. Dep. El   Ancon
DESCRIPTION:League Name: UNITED Outdoor 2025-Tercera "A"\nGame Type: Regula
 r\nGame Status: Complete\nHome Team: Cipotes Fc\nAway Team: Dep. El   Anco
 n\nHome Score: 2\nAway Score: 3
END:VEVENT
BEGIN:VEVENT
UID:16415295@ezleagues.ezfacility.com
DTSTAMP:20260421T044911Z
CREATED:20260421T044911Z
DTSTART:20250601T140000Z
DTEND:20250601T154500Z
LOCATION:Field  # 10
CONTACT:
SUMMARY:Dep. El   Ancon VS. River  Plate
DESCRIPTION:League Name: UNITED Outdoor 2025-Tercera "A"\nGame Type: Regula
 r\nGame Status: Complete\nHome Team: Dep. El   Ancon\nAway Team: River  Pl
 ate\nHome Score: 7\nAway Score: 1
END:VEVENT
BEGIN:VEVENT
UID:16415342@ezleagues.ezfacility.com
DTSTAMP:20260421T044911Z
CREATED:20260421T044911Z
DTSTART:20250608T154500Z
DTEND:20250608T173000Z
LOCATION:Field # 6
CONTACT:
SUMMARY:Dep. El   Ancon VS. Atl.  San Luis
DESCRIPTION:League Name: UNITED Outdoor 2025-Tercera "A"\nGame Type: Regula
 r\nGame Status: Complete\nHome Team: Dep. El   Ancon\nAway Team: Atl.  San
  Luis\nHome Score: 1\nAway Score: 2
END:VEVENT
BEGIN:VEVENT
UID:16415389@ezleagues.ezfacility.com
DTSTAMP:20260421T044911Z
CREATED:20260421T044911Z
DTSTART:20250615T184500Z
DTEND:20250615T203000Z
LOCATION:Field # 7
CONTACT:
SUMMARY:Enclousers  FC VS. Dep. El   Ancon
DESCRIPTION:League Name: UNITED Outdoor 2025-Tercera "A"\nGame Type: Regula
 r\nGame Status: Complete\nHome Team: Enclousers  FC\nAway Team: Dep. El   
 Ancon\nHome Score: 2\nAway Score: 4
END:VEVENT
BEGIN:VEVENT
UID:16415483@ezleagues.ezfacility.com
DTSTAMP:20260421T044911Z
CREATED:20260421T044911Z
DTSTART:20250629T184500Z
DTEND:20250629T203000Z
LOCATION:Field # 12
CONTACT:
SUMMARY:Dep. El   Ancon VS. Hermitano
DESCRIPTION:League Name: UNITED Outdoor 2025-Tercera "A"\nGame Type: Regula
 r\nGame Status: Complete\nHome Team: Dep. El   Ancon\nAway Team: Hermitano
 \nHome Score: 7\nAway Score: 0
END:VEVENT
BEGIN:VEVENT
UID:16415530@ezleagues.ezfacility.com
DTSTAMP:20260421T044911Z
CREATED:20260421T044911Z
DTSTART:20250706T184500Z
DTEND:20250706T203000Z
LOCATION:Field # 7
CONTACT:
SUMMARY:Dep. El   Ancon VS. Necaxa
DESCRIPTION:League Name: UNITED Outdoor 2025-Tercera "A"\nGame Type: Regula
 r\nGame Status: Complete\nHome Team: Dep. El   Ancon\nAway Team: Necaxa\nH
 ome Score: 2\nAway Score: 2
END:VEVENT
BEGIN:VEVENT
UID:16415578@ezleagues.ezfacility.com
DTSTAMP:20260421T044911Z
CREATED:20260421T044911Z
DTSTART:20250713T141500Z
DTEND:20250713T160000Z
LOCATION:Field # 5
CONTACT:
SUMMARY:Dep. El   Ancon VS. Atl.  Parcero
DESCRIPTION:League Name: UNITED Outdoor 2025-Tercera "A"\nGame Type: Regula
 r\nGame Status: Complete\nHome Team: Dep. El   Ancon\nAway Team: Atl.  Par
 cero\nHome Score: 0\nAway Score: 0
END:VEVENT
BEGIN:VEVENT
UID:16415625@ezleagues.ezfacility.com
DTSTAMP:20260421T044911Z
CREATED:20260421T044911Z
DTSTART:20250720T184500Z
DTEND:20250720T203000Z
LOCATION:Field # 3
CONTACT:
SUMMARY:Dep. El   Ancon VS. Estrella Roja 
DESCRIPTION:League Name: UNITED Outdoor 2025-Tercera "A"\nGame Type: Regula
 r\nGame Status: Complete\nHome Team: Dep. El   Ancon\nAway Team: Estrella 
 Roja \nHome Score: 11\nAway Score: 1
END:VEVENT
BEGIN:VEVENT
UID:16415719@ezleagues.ezfacility.com
DTSTAMP:20260421T044911Z
CREATED:20260421T044911Z
DTSTART:20250803T184500Z
DTEND:20250803T203000Z
LOCATION:Field  # 10
CONTACT:
SUMMARY:FABTECH  VS. Dep. El   Ancon
DESCRIPTION:League Name: UNITED Outdoor 2025-Tercera "A"\nGame Type: Regula
 r\nGame Status: Complete\nHome Team: FABTECH \nAway Team: Dep. El   Ancon\
 nHome Score: 1\nAway Score: 1
END:VEVENT
BEGIN:VEVENT
UID:16415436@ezleagues.ezfacility.com
DTSTAMP:20260421T044911Z
CREATED:20260421T044911Z
DTSTART:20250810T184500Z
DTEND:20250810T203000Z
LOCATION:Field # 3
CONTACT:
SUMMARY:New Castle United VS. Dep. El   Ancon
DESCRIPTION:League Name: UNITED Outdoor 2025-Tercera "A"\nGame Type: Regula
 r\nGame Status: Complete\nHome Team: New Castle United\nAway Team: Dep. El
    Ancon\nHome Score: 3\nAway Score: 4
END:VEVENT
BEGIN:VEVENT
UID:16415667@ezleagues.ezfacility.com
DTSTAMP:20260421T044911Z
CREATED:20260421T044911Z
DTSTART:20250824T140000Z
DTEND:20250824T154500Z
LOCATION:Field # 7
CONTACT:
SUMMARY:Dep. El   Ancon VS. Lobos Fc
DESCRIPTION:League Name: UNITED Outdoor 2025-Tercera "A"\nGame Type: Regula
 r\nGame Status: Complete\nHome Team: Dep. El   Ancon\nAway Team: Lobos Fc\
 nHome Score: 4\nAway Score: 1
END:VEVENT
BEGIN:VEVENT
UID:16600643@ezleagues.ezfacility.com
DTSTAMP:20260421T044911Z
CREATED:20260421T044911Z
DTSTART:20250831T173000Z
DTEND:20250831T190000Z
LOCATION:Field  # 10
CONTACT:
SUMMARY:Dep. El   Ancon VS. Apatzingan 
DESCRIPTION:League Name: UNITED Outdoor 2025-Tercera "A"\nGame Type: Regula
 r\nGame Status: Complete\nHome Team: Dep. El   Ancon\nAway Team: Apatzinga
 n \nHome Score: 2\nAway Score: 5
END:VEVENT
BEGIN:VEVENT
UID:16648017@ezleagues.ezfacility.com
DTSTAMP:20260421T044911Z
CREATED:20260421T044911Z
DTSTART:20250907T140000Z
DTEND:20250907T153000Z
LOCATION:Field  # 10
CONTACT:
SUMMARY:Dep. El   Ancon VS. Enclousers  FC
DESCRIPTION:League Name: UNITED Outdoor 2025-Tercera "A"\nGame Type: Postse
 ason\nGame Status: Complete\nHome Team: Dep. El   Ancon\nAway Team: Enclou
 sers  FC\nHome Score: 5\nAway Score: 3
END:VEVENT
BEGIN:VEVENT
UID:16668282@ezleagues.ezfacility.com
DTSTAMP:20260421T044911Z
CREATED:20260421T044911Z
DTSTART:20250914T154500Z
DTEND:20250914T171500Z
LOCATION:Field # 5
CONTACT:
SUMMARY:Dep. El   Ancon VS. Atl.  Parcero
DESCRIPTION:League Name: UNITED Outdoor 2025-Tercera "A"\nGame Type: Postse
 ason\nGame Status: Complete\nHome Team: Dep. El   Ancon\nAway Team: Atl.  
 Parcero\nHome Score: 2\nAway Score: 1
END:VEVENT
BEGIN:VEVENT
UID:16690474@ezleagues.ezfacility.com
DTSTAMP:20260421T044911Z
CREATED:20260421T044911Z
DTSTART:20250921T151500Z
DTEND:20250921T164500Z
LOCATION:Field # 3
CONTACT:
SUMMARY:Dep. El   Ancon VS. FABTECH 
DESCRIPTION:League Name: UNITED Outdoor 2025-Tercera "A"\nGame Type: Postse
 ason\nGame Status: Pending\nHome Team: Dep. El   Ancon\nAway Team: FABTECH
  \n
END:VEVENT
END:VCALENDAR
