BEGIN:VCALENDAR
VERSION:2.0
PRODID:-//EZFacility.com, Inc.//EZL 2.5.5.28621
BEGIN:VEVENT
UID:16412414@ezleagues.ezfacility.com
DTSTAMP:20260422T074654Z
CREATED:20260422T074654Z
DTSTART:20250503T140500Z
DTEND:20250503T150500Z
LOCATION:SUNY Old Westbury Ct 1
CONTACT:
SUMMARY:Mecca Butler VS. Empire Davis
DESCRIPTION:League Name: 2025 Spring Standout 7th Grade Boys\nGame Type: Re
 gular\nGame Status: Complete\nHome Team: Mecca Butler\nAway Team: Empire D
 avis\nHome Score: 67\nAway Score: 19
END:VEVENT
BEGIN:VEVENT
UID:16412436@ezleagues.ezfacility.com
DTSTAMP:20260422T074654Z
CREATED:20260422T074654Z
DTSTART:20250504T193000Z
DTEND:20250504T203000Z
LOCATION:Next Level Ct 2
CONTACT:
SUMMARY:Empire Davis VS. Players Only Bontempo
DESCRIPTION:League Name: 2025 Spring Standout 7th Grade Boys\nGame Type: Re
 gular\nGame Status: Complete\nHome Team: Empire Davis\nAway Team: Players 
 Only Bontempo\nHome Score: 29\nAway Score: 50
END:VEVENT
BEGIN:VEVENT
UID:16412462@ezleagues.ezfacility.com
DTSTAMP:20260422T074654Z
CREATED:20260422T074654Z
DTSTART:20250504T224500Z
DTEND:20250504T234500Z
LOCATION:Next Level Ct 2
CONTACT:
SUMMARY:Empire Davis VS. LI Sound Von Bargen
DESCRIPTION:League Name: 2025 Spring Standout 7th Grade Boys\nGame Type: Re
 gular\nGame Status: Complete\nHome Team: Empire Davis\nAway Team: LI Sound
  Von Bargen\nHome Score: 44\nAway Score: 43
END:VEVENT
END:VCALENDAR
