BEGIN:VCALENDAR
VERSION:2.0
PRODID:-//EZFacility.com, Inc.//EZL 2.5.5.28621
BEGIN:VEVENT
UID:16412354@ezleagues.ezfacility.com
DTSTAMP:20260423T153936Z
CREATED:20260423T153936Z
DTSTART:20250502T220000Z
DTEND:20250502T230000Z
LOCATION:Premier Sports Court 3
CONTACT:
SUMMARY:Team Breakdown Black Myles VS. Rising Stars Colocino
DESCRIPTION:League Name: 2025 Spring Standout 7th Grade Boys\nGame Type: Re
 gular\nGame Status: Complete\nHome Team: Team Breakdown Black Myles\nAway 
 Team: Rising Stars Colocino\nHome Score: 38\nAway Score: 53
END:VEVENT
BEGIN:VEVENT
UID:16412356@ezleagues.ezfacility.com
DTSTAMP:20260423T153936Z
CREATED:20260423T153936Z
DTSTART:20250503T001000Z
DTEND:20250503T011000Z
LOCATION:Premier Sports Court 3
CONTACT:
SUMMARY:Rising Stars Colocino VS. Team Breakdown Red Boone
DESCRIPTION:League Name: 2025 Spring Standout 7th Grade Boys\nGame Type: Re
 gular\nGame Status: Complete\nHome Team: Rising Stars Colocino\nAway Team:
  Team Breakdown Red Boone\nHome Score: 31\nAway Score: 55
END:VEVENT
BEGIN:VEVENT
UID:16412424@ezleagues.ezfacility.com
DTSTAMP:20260423T153936Z
CREATED:20260423T153936Z
DTSTART:20250504T161500Z
DTEND:20250504T171500Z
LOCATION:Premier Sports Court 3
CONTACT:
SUMMARY:Rising Stars Colocino VS. Level Up Montalbano
DESCRIPTION:League Name: 2025 Spring Standout 7th Grade Boys\nGame Type: Re
 gular\nGame Status: Complete\nHome Team: Rising Stars Colocino\nAway Team:
  Level Up Montalbano\nHome Score: 59\nAway Score: 31
END:VEVENT
END:VCALENDAR
