BEGIN:VCALENDAR
VERSION:2.0
PRODID:-//EZFacility.com, Inc.//EZL 2.5.5.28621
BEGIN:VEVENT
UID:16412371@ezleagues.ezfacility.com
DTSTAMP:20260426T033837Z
CREATED:20260426T033837Z
DTSTART:20250503T140500Z
DTEND:20250503T150500Z
LOCATION:St Dominic H.S. Ct 3
CONTACT:
SUMMARY:DST Williams VS. Long Island Panthers
DESCRIPTION:League Name: 2025 Spring Standout 7th Grade Boys\nGame Type: Re
 gular\nGame Status: Complete\nHome Team: DST Williams\nAway Team: Long Isl
 and Panthers\nHome Score: 24\nAway Score: 50
END:VEVENT
BEGIN:VEVENT
UID:16412372@ezleagues.ezfacility.com
DTSTAMP:20260426T033837Z
CREATED:20260426T033837Z
DTSTART:20250503T151000Z
DTEND:20250503T161000Z
LOCATION:St Dominic H.S. Ct 3
CONTACT:
SUMMARY:Premier Candemeres VS. Long Island Panthers
DESCRIPTION:League Name: 2025 Spring Standout 7th Grade Boys\nGame Type: Re
 gular\nGame Status: Complete\nHome Team: Premier Candemeres\nAway Team: Lo
 ng Island Panthers\nHome Score: 37\nAway Score: 38
END:VEVENT
BEGIN:VEVENT
UID:16412419@ezleagues.ezfacility.com
DTSTAMP:20260426T033837Z
CREATED:20260426T033837Z
DTSTART:20250504T203500Z
DTEND:20250504T213500Z
LOCATION:SUNY Old Westbury Ct 2
CONTACT:
SUMMARY:Long Island Panthers VS. Premier Lynch
DESCRIPTION:League Name: 2025 Spring Standout 7th Grade Boys\nGame Type: Re
 gular\nGame Status: Complete\nHome Team: Long Island Panthers\nAway Team: 
 Premier Lynch\nHome Score: 54\nAway Score: 44
END:VEVENT
END:VCALENDAR
