BEGIN:VCALENDAR
VERSION:2.0
PRODID:-//EZFacility.com, Inc.//EZL 2.5.5.28621
BEGIN:VEVENT
UID:16415038@ezleagues.ezfacility.com
DTSTAMP:20260423T234857Z
CREATED:20260423T234857Z
DTSTART:20250622T211000Z
DTEND:20250622T222500Z
LOCATION:Rink A
CONTACT:
SUMMARY:4 VS. 5
DESCRIPTION:League Name: IVAHL Playoffs SC\nGame Type: Postseason\nGame Sta
 tus: Pending\nHome Team: 4\nAway Team: 5\n
END:VEVENT
END:VCALENDAR
