BEGIN:VCALENDAR
VERSION:2.0
PRODID:-//EZFacility.com, Inc.//EZL 2.5.5.28621
BEGIN:VEVENT
UID:16415732@ezleagues.ezfacility.com
DTSTAMP:20260425T014914Z
CREATED:20260425T014914Z
DTSTART:20250619T042500Z
DTEND:20250619T054000Z
LOCATION:Rink A
CONTACT:
SUMMARY:3 VS. 6
DESCRIPTION:League Name: IVAHL Playoffs SS\nGame Type: Postseason\nGame Sta
 tus: Pending\nHome Team: 3\nAway Team: 6\n
END:VEVENT
END:VCALENDAR
