BEGIN:VCALENDAR
VERSION:2.0
PRODID:-//EZFacility.com, Inc.//EZL 2.5.5.28621
BEGIN:VEVENT
UID:16416042@ezleagues.ezfacility.com
DTSTAMP:20260423T034839Z
CREATED:20260423T034839Z
DTSTART:20250619T030000Z
DTEND:20250619T041500Z
LOCATION:Rink A
CONTACT:
SUMMARY:3 VS. 6
DESCRIPTION:League Name: IVAHL Playoffs BN\nGame Type: Postseason\nGame Sta
 tus: Pending\nHome Team: 3\nAway Team: 6\n
END:VEVENT
END:VCALENDAR
