BEGIN:VCALENDAR
VERSION:2.0
PRODID:-//EZFacility.com, Inc.//EZL 2.5.5.28621
BEGIN:VEVENT
UID:16419101@ezleagues.ezfacility.com
DTSTAMP:20260426T034941Z
CREATED:20260426T034941Z
DTSTART:20250518T210000Z
DTEND:20250518T215000Z
LOCATION:FIELD 1 
CONTACT:
SUMMARY:HICKORY  VS. XFC 
DESCRIPTION:League Name: STUDIOX SUPER CUP 3RD EDITION\nGame Type: Regular\
 nGame Status: Complete\nHome Team: HICKORY \nAway Team: XFC \nHome Score: 
 16\nAway Score: 9
END:VEVENT
BEGIN:VEVENT
UID:16419104@ezleagues.ezfacility.com
DTSTAMP:20260426T034941Z
CREATED:20260426T034941Z
DTSTART:20250601T210000Z
DTEND:20250601T215000Z
LOCATION:FIELD 1 
CONTACT:DENIZ 
SUMMARY:FC MERENGUES  VS. HICKORY 
DESCRIPTION:League Name: STUDIOX SUPER CUP 3RD EDITION\nGame Type: Regular\
 nGame Status: Complete\nHome Team: FC MERENGUES \nAway Team: HICKORY \nHom
 e Score: 5\nAway Score: 26
END:VEVENT
BEGIN:VEVENT
UID:16419108@ezleagues.ezfacility.com
DTSTAMP:20260426T034941Z
CREATED:20260426T034941Z
DTSTART:20250608T200000Z
DTEND:20250608T205000Z
LOCATION:FIELD 1 
CONTACT:DENIZ 
SUMMARY:ARSENAL  VS. HICKORY 
DESCRIPTION:League Name: STUDIOX SUPER CUP 3RD EDITION\nGame Type: Regular\
 nGame Status: Complete\nHome Team: ARSENAL \nAway Team: HICKORY \nHome Sco
 re: 8\nAway Score: 26
END:VEVENT
BEGIN:VEVENT
UID:16419111@ezleagues.ezfacility.com
DTSTAMP:20260426T034941Z
CREATED:20260426T034941Z
DTSTART:20250622T190000Z
DTEND:20250622T195000Z
LOCATION:FIELD 1 
CONTACT:
SUMMARY:ACAPULCO VS. HICKORY 
DESCRIPTION:League Name: STUDIOX SUPER CUP 3RD EDITION\nGame Type: Regular\
 nGame Status: Complete\nHome Team: ACAPULCO\nAway Team: HICKORY \nHome Sco
 re: 0\nAway Score: 1
END:VEVENT
BEGIN:VEVENT
UID:16419114@ezleagues.ezfacility.com
DTSTAMP:20260426T034941Z
CREATED:20260426T034941Z
DTSTART:20250629T190000Z
DTEND:20250629T195000Z
LOCATION:FIELD 1 
CONTACT:
SUMMARY:BH FC  VS. HICKORY 
DESCRIPTION:League Name: STUDIOX SUPER CUP 3RD EDITION\nGame Type: Regular\
 nGame Status: Complete\nHome Team: BH FC \nAway Team: HICKORY \nHome Score
 : 1\nAway Score: 0
END:VEVENT
BEGIN:VEVENT
UID:16545324@ezleagues.ezfacility.com
DTSTAMP:20260426T034941Z
CREATED:20260426T034941Z
DTSTART:20250713T210000Z
DTEND:20250713T215000Z
LOCATION:FIELD 1 
CONTACT:
SUMMARY:HICKORY  VS. XFC 
DESCRIPTION:League Name: STUDIOX SUPER CUP 3RD EDITION\nGame Type: Regular\
 nGame Status: Complete\nHome Team: HICKORY \nAway Team: XFC \nHome Score: 
 9\nAway Score: 8
END:VEVENT
BEGIN:VEVENT
UID:16545327@ezleagues.ezfacility.com
DTSTAMP:20260426T034941Z
CREATED:20260426T034941Z
DTSTART:20250720T210000Z
DTEND:20250720T215000Z
LOCATION:FIELD 1 
CONTACT:
SUMMARY:FC MERENGUES  VS. HICKORY 
DESCRIPTION:League Name: STUDIOX SUPER CUP 3RD EDITION\nGame Type: Regular\
 nGame Status: Complete\nHome Team: FC MERENGUES \nAway Team: HICKORY \nHom
 e Score: 0\nAway Score: 1
END:VEVENT
BEGIN:VEVENT
UID:16545329@ezleagues.ezfacility.com
DTSTAMP:20260426T034941Z
CREATED:20260426T034941Z
DTSTART:20250727T200000Z
DTEND:20250727T205000Z
LOCATION:FIELD 1 
CONTACT:
SUMMARY:ARSENAL  VS. HICKORY 
DESCRIPTION:League Name: STUDIOX SUPER CUP 3RD EDITION\nGame Type: Regular\
 nGame Status: Complete\nHome Team: ARSENAL \nAway Team: HICKORY \nHome Sco
 re: 0\nAway Score: 1
END:VEVENT
BEGIN:VEVENT
UID:16574759@ezleagues.ezfacility.com
DTSTAMP:20260426T034941Z
CREATED:20260426T034941Z
DTSTART:20250810T200000Z
DTEND:20250810T205000Z
LOCATION:FIELD 1 
CONTACT:
SUMMARY:HICKORY  VS. BH FC 
DESCRIPTION:League Name: STUDIOX SUPER CUP 3RD EDITION\nGame Type: Postseas
 on\nGame Status: Complete\nHome Team: HICKORY \nAway Team: BH FC \nHome Sc
 ore: 1\nAway Score: 0
END:VEVENT
END:VCALENDAR
