BEGIN:VCALENDAR
VERSION:2.0
PRODID:-//EZFacility.com, Inc.//EZL 2.5.5.28621
BEGIN:VEVENT
UID:16419277@ezleagues.ezfacility.com
DTSTAMP:20260420T104359Z
CREATED:20260420T104359Z
DTSTART:20250516T030000Z
DTEND:20250516T040000Z
LOCATION:East Field
CONTACT:Kirstein
SUMMARY:R.I.P VS. Wasted Talent
DESCRIPTION:League Name: Spring 2025 Thursday Coed - League 1 Division\nGam
 e Type: Regular\nGame Status: Complete\nHome Team: R.I.P\nAway Team: Waste
 d Talent\nHome Score: 5\nAway Score: 8
END:VEVENT
BEGIN:VEVENT
UID:16419285@ezleagues.ezfacility.com
DTSTAMP:20260420T104359Z
CREATED:20260420T104359Z
DTSTART:20250523T020000Z
DTEND:20250523T030000Z
LOCATION:West Field 
CONTACT:
SUMMARY:5 Kicks Down VS. R.I.P
DESCRIPTION:League Name: Spring 2025 Thursday Coed - League 1 Division\nGam
 e Type: Regular\nGame Status: Complete\nHome Team: 5 Kicks Down\nAway Team
 : R.I.P\nHome Score: 2\nAway Score: 12
END:VEVENT
BEGIN:VEVENT
UID:16419293@ezleagues.ezfacility.com
DTSTAMP:20260420T104359Z
CREATED:20260420T104359Z
DTSTART:20250530T020000Z
DTEND:20250530T030000Z
LOCATION:East Field
CONTACT:Kirstein
SUMMARY:Don't Show Up VS. R.I.P
DESCRIPTION:League Name: Spring 2025 Thursday Coed - League 1 Division\nGam
 e Type: Regular\nGame Status: Complete\nHome Team: Don't Show Up\nAway Tea
 m: R.I.P\nHome Score: 9\nAway Score: 1
END:VEVENT
BEGIN:VEVENT
UID:16419303@ezleagues.ezfacility.com
DTSTAMP:20260420T104359Z
CREATED:20260420T104359Z
DTSTART:20250606T010000Z
DTEND:20250606T020000Z
LOCATION:West Field 
CONTACT:Ghazi
SUMMARY:R.I.P VS. TFA
DESCRIPTION:League Name: Spring 2025 Thursday Coed - League 1 Division\nGam
 e Type: Regular\nGame Status: Complete\nHome Team: R.I.P\nAway Team: TFA\n
 Home Score: 10\nAway Score: 0
END:VEVENT
END:VCALENDAR
