BEGIN:VCALENDAR
VERSION:2.0
PRODID:-//EZFacility.com, Inc.//EZL 2.5.5.28621
BEGIN:VEVENT
UID:16551022@ezleagues.ezfacility.com
DTSTAMP:20260424T044424Z
CREATED:20260424T044424Z
DTSTART:20250713T020000Z
DTEND:20250713T030000Z
LOCATION:Jessup Premier Field #2
CONTACT:
SUMMARY:GTO VS. DP City
DESCRIPTION:League Name: Sat Mens Open 2nd II div \nGame Type: Regular\nGam
 e Status: Complete\nHome Team: GTO\nAway Team: DP City\nHome Score: 0\nAwa
 y Score: 3
END:VEVENT
BEGIN:VEVENT
UID:16551033@ezleagues.ezfacility.com
DTSTAMP:20260424T044424Z
CREATED:20260424T044424Z
DTSTART:20250720T000000Z
DTEND:20250720T010000Z
LOCATION:Jessup Premier Field #2
CONTACT:
SUMMARY:Blank shooters FC VS. DP City
DESCRIPTION:League Name: Sat Mens Open 2nd II div \nGame Type: Regular\nGam
 e Status: Complete\nHome Team: Blank shooters FC\nAway Team: DP City\nHome
  Score: 3\nAway Score: 4
END:VEVENT
BEGIN:VEVENT
UID:16551043@ezleagues.ezfacility.com
DTSTAMP:20260424T044424Z
CREATED:20260424T044424Z
DTSTART:20250727T020000Z
DTEND:20250727T030000Z
LOCATION:Jessup Premier Field #2
CONTACT:
SUMMARY:Los Santos VS. DP City
DESCRIPTION:League Name: Sat Mens Open 2nd II div \nGame Type: Regular\nGam
 e Status: Complete\nHome Team: Los Santos\nAway Team: DP City\nHome Score:
  0\nAway Score: 2
END:VEVENT
BEGIN:VEVENT
UID:16551052@ezleagues.ezfacility.com
DTSTAMP:20260424T044424Z
CREATED:20260424T044424Z
DTSTART:20250803T030000Z
DTEND:20250803T040000Z
LOCATION:Jessup Premier Field #1
CONTACT:
SUMMARY:Deportivo Santa Rosa VS. DP City
DESCRIPTION:League Name: Sat Mens Open 2nd II div \nGame Type: Regular\nGam
 e Status: Complete\nHome Team: Deportivo Santa Rosa\nAway Team: DP City\nH
 ome Score: 6\nAway Score: 1
END:VEVENT
BEGIN:VEVENT
UID:16551061@ezleagues.ezfacility.com
DTSTAMP:20260424T044424Z
CREATED:20260424T044424Z
DTSTART:20250810T010000Z
DTEND:20250810T020000Z
LOCATION:Jessup Premier Field #1
CONTACT:
SUMMARY:DP City VS. Que Miras Bobo
DESCRIPTION:League Name: Sat Mens Open 2nd II div \nGame Type: Regular\nGam
 e Status: Complete\nHome Team: DP City\nAway Team: Que Miras Bobo\nHome Sc
 ore: 3\nAway Score: 1
END:VEVENT
BEGIN:VEVENT
UID:16551072@ezleagues.ezfacility.com
DTSTAMP:20260424T044424Z
CREATED:20260424T044424Z
DTSTART:20250817T030000Z
DTEND:20250817T040000Z
LOCATION:Jessup Premier Field #2
CONTACT:
SUMMARY:DP City VS. GTO
DESCRIPTION:League Name: Sat Mens Open 2nd II div \nGame Type: Regular\nGam
 e Status: Complete\nHome Team: DP City\nAway Team: GTO\nHome Score: 2\nAwa
 y Score: 9
END:VEVENT
BEGIN:VEVENT
UID:16551083@ezleagues.ezfacility.com
DTSTAMP:20260424T044424Z
CREATED:20260424T044424Z
DTSTART:20250823T230000Z
DTEND:20250824T000000Z
LOCATION:Jessup Premier Field #2
CONTACT:
SUMMARY:DP City VS. Blank shooters FC
DESCRIPTION:League Name: Sat Mens Open 2nd II div \nGame Type: Regular\nGam
 e Status: Complete\nHome Team: DP City\nAway Team: Blank shooters FC\nHome
  Score: 3\nAway Score: 0
END:VEVENT
BEGIN:VEVENT
UID:16604474@ezleagues.ezfacility.com
DTSTAMP:20260424T044424Z
CREATED:20260424T044424Z
DTSTART:20250830T230000Z
DTEND:20250830T234800Z
LOCATION:Jessup Premier Field #1
CONTACT:
SUMMARY:DP City VS. Que Miras Bobo
DESCRIPTION:League Name: Sat Mens Open 2nd II div \nGame Type: Regular\nGam
 e Status: Complete\nHome Team: DP City\nAway Team: Que Miras Bobo\nHome Sc
 ore: 1\nAway Score: 8
END:VEVENT
BEGIN:VEVENT
UID:16657363@ezleagues.ezfacility.com
DTSTAMP:20260424T044424Z
CREATED:20260424T044424Z
DTSTART:20250907T000000Z
DTEND:20250907T004800Z
LOCATION:Jessup Premier Field #2
CONTACT:
SUMMARY:DP City VS. Blank shooters FC
DESCRIPTION:League Name: Sat Mens Open 2nd II div \nGame Type: Regular\nGam
 e Status: Pending\nHome Team: DP City\nAway Team: Blank shooters FC\n
END:VEVENT
END:VCALENDAR
