BEGIN:VCALENDAR
VERSION:2.0
PRODID:-//EZFacility.com, Inc.//EZL 2.5.5.28621
BEGIN:VEVENT
UID:16423749@ezleagues.ezfacility.com
DTSTAMP:20260424T012257Z
CREATED:20260424T012257Z
DTSTART:20250516T211000Z
DTEND:20250516T220500Z
LOCATION:Accelerate Outdoor Turf #1
CONTACT:
SUMMARY:Future Stars Krajisnik SC VS. Syracuse FC
DESCRIPTION:League Name: 2025 - Spring Session - HS Boys - (11v11)\nGame Ty
 pe: Regular\nGame Status: Complete\nHome Team: Future Stars Krajisnik SC\n
 Away Team: Syracuse FC\nHome Score: 0\nAway Score: 0
END:VEVENT
BEGIN:VEVENT
UID:16423750@ezleagues.ezfacility.com
DTSTAMP:20260424T012257Z
CREATED:20260424T012257Z
DTSTART:20250516T220500Z
DTEND:20250516T230000Z
LOCATION:Accelerate Outdoor Turf #1
CONTACT:
SUMMARY:Syracuse FC VS. Hamilton 
DESCRIPTION:League Name: 2025 - Spring Session - HS Boys - (11v11)\nGame Ty
 pe: Regular\nGame Status: Complete\nHome Team: Syracuse FC\nAway Team: Ham
 ilton \nHome Score: 0\nAway Score: 0
END:VEVENT
BEGIN:VEVENT
UID:16434400@ezleagues.ezfacility.com
DTSTAMP:20260424T012257Z
CREATED:20260424T012257Z
DTSTART:20250524T160500Z
DTEND:20250524T170000Z
LOCATION:Accelerate Outdoor Turf #1
CONTACT:
SUMMARY:Syracuse FC VS. Oneida 
DESCRIPTION:League Name: 2025 - Spring Session - HS Boys - (11v11)\nGame Ty
 pe: Regular\nGame Status: Complete\nHome Team: Syracuse FC\nAway Team: One
 ida \nHome Score: 1\nAway Score: 0
END:VEVENT
BEGIN:VEVENT
UID:16434181@ezleagues.ezfacility.com
DTSTAMP:20260424T012257Z
CREATED:20260424T012257Z
DTSTART:20250524T170000Z
DTEND:20250524T175500Z
LOCATION:Accelerate Outdoor Turf #1
CONTACT:
SUMMARY:Syracuse FC VS. Invictus 
DESCRIPTION:League Name: 2025 - Spring Session - HS Boys - (11v11)\nGame Ty
 pe: Regular\nGame Status: Complete\nHome Team: Syracuse FC\nAway Team: Inv
 ictus \nHome Score: 0\nAway Score: 1
END:VEVENT
BEGIN:VEVENT
UID:16434194@ezleagues.ezfacility.com
DTSTAMP:20260424T012257Z
CREATED:20260424T012257Z
DTSTART:20250606T230000Z
DTEND:20250606T235500Z
LOCATION:Accelerate Outdoor Turf #1
CONTACT:
SUMMARY:Syracuse FC VS. Future Stars Krajisnik SC
DESCRIPTION:League Name: 2025 - Spring Session - HS Boys - (11v11)\nGame Ty
 pe: Regular\nGame Status: Complete\nHome Team: Syracuse FC\nAway Team: Fut
 ure Stars Krajisnik SC\nHome Score: 0\nAway Score: 0
END:VEVENT
BEGIN:VEVENT
UID:16434231@ezleagues.ezfacility.com
DTSTAMP:20260424T012257Z
CREATED:20260424T012257Z
DTSTART:20250620T231000Z
DTEND:20250621T000500Z
LOCATION:Accelerate Outdoor -  Field 2 
CONTACT:
SUMMARY:Syracuse FC VS. Invictus 
DESCRIPTION:League Name: 2025 - Spring Session - HS Boys - (11v11)\nGame Ty
 pe: Regular\nGame Status: Complete\nHome Team: Syracuse FC\nAway Team: Inv
 ictus \nHome Score: 1\nAway Score: 0
END:VEVENT
BEGIN:VEVENT
UID:16531098@ezleagues.ezfacility.com
DTSTAMP:20260424T012257Z
CREATED:20260424T012257Z
DTSTART:20250627T211000Z
DTEND:20250627T220500Z
LOCATION:Accelerate Outdoor -  Field 2 
CONTACT:
SUMMARY:Syracuse FC VS. Oneida 
DESCRIPTION:League Name: 2025 - Spring Session - HS Boys - (11v11)\nGame Ty
 pe: Regular\nGame Status: Complete\nHome Team: Syracuse FC\nAway Team: One
 ida \nHome Score: 1\nAway Score: 0
END:VEVENT
BEGIN:VEVENT
UID:16534581@ezleagues.ezfacility.com
DTSTAMP:20260424T012257Z
CREATED:20260424T012257Z
DTSTART:20250628T175500Z
DTEND:20250628T185000Z
LOCATION:Accelerate Outdoor Turf #2
CONTACT:
SUMMARY:Hamilton  VS. Syracuse FC
DESCRIPTION:League Name: 2025 - Spring Session - HS Boys - (11v11)\nGame Ty
 pe: Regular\nGame Status: Postponed\nHome Team: Hamilton \nAway Team: Syra
 cuse FC\n
END:VEVENT
END:VCALENDAR
