BEGIN:VCALENDAR
VERSION:2.0
PRODID:-//EZFacility.com, Inc.//EZL 2.5.5.28621
BEGIN:VEVENT
UID:16423750@ezleagues.ezfacility.com
DTSTAMP:20260425T112012Z
CREATED:20260425T112012Z
DTSTART:20250516T220500Z
DTEND:20250516T230000Z
LOCATION:Accelerate Outdoor Turf #1
CONTACT:
SUMMARY:Syracuse FC VS. Hamilton 
DESCRIPTION:League Name: 2025 - Spring Session - HS Boys - (11v11)\nGame Ty
 pe: Regular\nGame Status: Complete\nHome Team: Syracuse FC\nAway Team: Ham
 ilton \nHome Score: 0\nAway Score: 0
END:VEVENT
BEGIN:VEVENT
UID:16423751@ezleagues.ezfacility.com
DTSTAMP:20260425T112012Z
CREATED:20260425T112012Z
DTSTART:20250516T230000Z
DTEND:20250516T235500Z
LOCATION:Accelerate Outdoor Turf #1
CONTACT:
SUMMARY:Hamilton  VS. Oneida 
DESCRIPTION:League Name: 2025 - Spring Session - HS Boys - (11v11)\nGame Ty
 pe: Regular\nGame Status: Complete\nHome Team: Hamilton \nAway Team: Oneid
 a \nHome Score: 3\nAway Score: 0
END:VEVENT
BEGIN:VEVENT
UID:16433062@ezleagues.ezfacility.com
DTSTAMP:20260425T112012Z
CREATED:20260425T112012Z
DTSTART:20250522T230000Z
DTEND:20250522T235500Z
LOCATION:Accelerate Outdoor Field 3
CONTACT:
SUMMARY:Hamilton  VS. Future Stars Krajisnik SC
DESCRIPTION:League Name: 2025 - Spring Session - HS Boys - (11v11)\nGame Ty
 pe: Regular\nGame Status: Complete\nHome Team: Hamilton \nAway Team: Futur
 e Stars Krajisnik SC\nHome Score: 0\nAway Score: 2
END:VEVENT
BEGIN:VEVENT
UID:16434196@ezleagues.ezfacility.com
DTSTAMP:20260425T112012Z
CREATED:20260425T112012Z
DTSTART:20250613T220500Z
DTEND:20250613T230000Z
LOCATION:Accelerate Outdoor -  Field 2 
CONTACT:
SUMMARY:Hamilton  VS. Invictus 
DESCRIPTION:League Name: 2025 - Spring Session - HS Boys - (11v11)\nGame Ty
 pe: Regular\nGame Status: Complete\nHome Team: Hamilton \nAway Team: Invic
 tus \nHome Score: 3\nAway Score: 3
END:VEVENT
BEGIN:VEVENT
UID:16434401@ezleagues.ezfacility.com
DTSTAMP:20260425T112012Z
CREATED:20260425T112012Z
DTSTART:20250621T001000Z
DTEND:20250621T010500Z
LOCATION:Accelerate Outdoor Turf #1
CONTACT:
SUMMARY:Invictus  VS. Hamilton 
DESCRIPTION:League Name: 2025 - Spring Session - HS Boys - (11v11)\nGame Ty
 pe: Regular\nGame Status: Complete\nHome Team: Invictus \nAway Team: Hamil
 ton \nHome Score: 1\nAway Score: 5
END:VEVENT
BEGIN:VEVENT
UID:16434395@ezleagues.ezfacility.com
DTSTAMP:20260425T112012Z
CREATED:20260425T112012Z
DTSTART:20250628T170000Z
DTEND:20250628T175500Z
LOCATION:Accelerate Outdoor -  Field 2 
CONTACT:
SUMMARY:Hamilton  VS. Oneida 
DESCRIPTION:League Name: 2025 - Spring Session - HS Boys - (11v11)\nGame Ty
 pe: Regular\nGame Status: Postponed\nHome Team: Hamilton \nAway Team: Onei
 da \n
END:VEVENT
BEGIN:VEVENT
UID:16534581@ezleagues.ezfacility.com
DTSTAMP:20260425T112012Z
CREATED:20260425T112012Z
DTSTART:20250628T175500Z
DTEND:20250628T185000Z
LOCATION:Accelerate Outdoor Turf #2
CONTACT:
SUMMARY:Hamilton  VS. Syracuse FC
DESCRIPTION:League Name: 2025 - Spring Session - HS Boys - (11v11)\nGame Ty
 pe: Regular\nGame Status: Postponed\nHome Team: Hamilton \nAway Team: Syra
 cuse FC\n
END:VEVENT
END:VCALENDAR
